BEGIN:VCALENDAR
VERSION:2.0
PRODID:-//Forty Niner - ECPv6.15.20//NONSGML v1.0//EN
CALSCALE:GREGORIAN
METHOD:PUBLISH
X-WR-CALNAME:Forty Niner
X-ORIGINAL-URL:https://fortyninercc.com
X-WR-CALDESC:Events for Forty Niner
REFRESH-INTERVAL;VALUE=DURATION:PT1H
X-Robots-Tag:noindex
X-PUBLISHED-TTL:PT1H
BEGIN:VTIMEZONE
TZID:UTC
BEGIN:STANDARD
TZOFFSETFROM:+0000
TZOFFSETTO:+0000
TZNAME:UTC
DTSTART:20240101T000000
END:STANDARD
END:VTIMEZONE
BEGIN:VEVENT
DTSTART;TZID=UTC:20250315T150000
DTEND;TZID=UTC:20250315T210000
DTSTAMP:20260424T083804
CREATED:20250227T033855Z
LAST-MODIFIED:20250227T033939Z
UID:1597-1742050800-1742072400@fortyninercc.com
SUMMARY:Forty Niner & 49er HOA - St. Patrick's Parade & Festival
DESCRIPTION:Get ready to paint the town green! Join us for a spectacular St. Patrick’s Day Parade & Festival at Forty Niner! \nSaturday\, March 15th is your day to celebrate with a vibrant parade kicking off at 3:00 PM. After the parade\, celebrate with a family-friendly festival from 3:30 PM to 6:00 PM\, featuring face painting\, bounce houses\, refreshing snow cones from ZONA CONES and Live Music from Caleb Bloom!  \nDuring the festival\, the restaurant will have out an additional bar\, as well as a food station serving quick ready to go options! The Bar @ Forty Niner will also be live\, with the Bar Patio window open for business! \nAs the sun sets\, the party keeps going with live music from My Bestfriend’s Band from 6:00 PM to 9:00 PM. Enjoy delicious food and drinks\, and soak in the lively atmosphere as we celebrate St. Patrick’s Day in style! \nDon’t miss out on this unforgettable day of fun\, community\, and Irish cheer! See you at the Forty Niner\, 12000 E Tanque Verde! \nFor Parade questions please email Kristen Mammana – kristen.b.mammana@gmail.com \n0315_StPatricksFestivalREV0315_StPatricksFestivalParadaInfoREV
URL:https://fortyninercc.com/event/forty-niner-49er-hoa-st-patricks-parade-festival/
LOCATION:Forty Niner\, 12000 E. Tanque Verde\, Tucson\, AZ\, 85749\, United States
CATEGORIES:Free Community Events
ATTACH;FMTTYPE=image/jpeg:https://fortyninercc.com/wp-content/uploads/2025/02/0315_StPatricksParadeFestival.jpg
ORGANIZER;CN="Forty Niner":MAILTO:cklok@fortyninercc.com
END:VEVENT
END:VCALENDAR