BEGIN:VCALENDAR
VERSION:2.0
PRODID:-//Forty Niner - ECPv6.15.20//NONSGML v1.0//EN
CALSCALE:GREGORIAN
METHOD:PUBLISH
X-WR-CALNAME:Forty Niner
X-ORIGINAL-URL:https://fortyninercc.com
X-WR-CALDESC:Events for Forty Niner
REFRESH-INTERVAL;VALUE=DURATION:PT1H
X-Robots-Tag:noindex
X-PUBLISHED-TTL:PT1H
BEGIN:VTIMEZONE
TZID:UTC
BEGIN:STANDARD
TZOFFSETFROM:+0000
TZOFFSETTO:+0000
TZNAME:UTC
DTSTART:20240101T000000
END:STANDARD
END:VTIMEZONE
BEGIN:VEVENT
DTSTART;TZID=UTC:20250324T180000
DTEND;TZID=UTC:20250324T200000
DTSTAMP:20260424T083805
CREATED:20250222T042948Z
LAST-MODIFIED:20250222T042949Z
UID:1574-1742839200-1742846400@fortyninercc.com
SUMMARY:Linedancing at Forty Niner
DESCRIPTION:Yeehaw!  Dust off those boots and get ready to scoot your boots at our Line Dance Night with instructor Viki Welling! \nJoin us Monday\, March 24th at 6:00 PM for check-in and get ready to kick up your heels at 6:15 PM! Whether you’re a seasoned pro or a beginner\, Viki will guide you through all the hottest steps.\nFor just $10\, you’ll get a fun-filled night of dancing AND a drink ticket!  It’s the perfect way to shake off those Monday blues and have some good ol’ fashioned fun.
URL:https://fortyninercc.com/event/linedancing-at-forty-niner-2/
LOCATION:Forty Niner\, 12000 E. Tanque Verde\, Tucson\, AZ\, 85749\, United States
CATEGORIES:Fitness Events
ATTACH;FMTTYPE=image/jpeg:https://fortyninercc.com/wp-content/uploads/2025/02/0324_LineDancing.jpg
ORGANIZER;CN="Forty Niner":MAILTO:cklok@fortyninercc.com
END:VEVENT
END:VCALENDAR