BEGIN:VCALENDAR
VERSION:2.0
PRODID:-//Forty Niner - ECPv6.15.20//NONSGML v1.0//EN
CALSCALE:GREGORIAN
METHOD:PUBLISH
X-WR-CALNAME:Forty Niner
X-ORIGINAL-URL:https://fortyninercc.com
X-WR-CALDESC:Events for Forty Niner
REFRESH-INTERVAL;VALUE=DURATION:PT1H
X-Robots-Tag:noindex
X-PUBLISHED-TTL:PT1H
BEGIN:VTIMEZONE
TZID:America/Denver
BEGIN:DAYLIGHT
TZOFFSETFROM:-0700
TZOFFSETTO:-0600
TZNAME:MDT
DTSTART:20240310T090000
END:DAYLIGHT
BEGIN:STANDARD
TZOFFSETFROM:-0600
TZOFFSETTO:-0700
TZNAME:MST
DTSTART:20241103T080000
END:STANDARD
BEGIN:DAYLIGHT
TZOFFSETFROM:-0700
TZOFFSETTO:-0600
TZNAME:MDT
DTSTART:20250309T090000
END:DAYLIGHT
BEGIN:STANDARD
TZOFFSETFROM:-0600
TZOFFSETTO:-0700
TZNAME:MST
DTSTART:20251102T080000
END:STANDARD
BEGIN:DAYLIGHT
TZOFFSETFROM:-0700
TZOFFSETTO:-0600
TZNAME:MDT
DTSTART:20260308T090000
END:DAYLIGHT
BEGIN:STANDARD
TZOFFSETFROM:-0600
TZOFFSETTO:-0700
TZNAME:MST
DTSTART:20261101T080000
END:STANDARD
END:VTIMEZONE
BEGIN:VEVENT
DTSTART;TZID=America/Denver:20250511T100000
DTEND;TZID=America/Denver:20250511T140000
DTSTAMP:20260424T050007
CREATED:20250429T214718Z
LAST-MODIFIED:20250429T214719Z
UID:2414-1746957600-1746972000@fortyninercc.com
SUMMARY:Mother's Day Brunch Buffet
DESCRIPTION:Celebrate the special woman in your life at Forty Niner’s delightful Mother’s Day Brunch Buffet on Sunday\, May 11th\, 2025!\n\nTreat Mom to a memorable experience with our exquisite brunch spread\, available for seating between 10:00 AM and 2:00 PM. Indulge in a delectable array of dishes perfect for this celebratory occasion. Menu Coming Soon!\n\nPricing\nMembers: $50Non-Members: $55Kids 12 & Under: $25\n\nShow your appreciation for Mom with a delicious meal in a warm and inviting atmosphere at Forty Niner. We look forward to making her day truly special!\n\nReserve your spot here\nhttps://resy.com/cities/tucson-az/venues/forty-niner-country-club/events/forty-niner-mothers-day-brunch-2025-2025-05-11?seats=2&fbclid=IwY2xjawJ-J_xleHRuA2FlbQIxMABicmlkETFIcEVPeXNiSmlGUXNzbFREAR5RfnJHPeG4_v5cI7cNqweMW2f49lkg_JIz0MxHiH6pbEWiFO9eCs8inRLOTw_aem_IFk17q5TyptzptjmGk2wNw&date=2025-04-29
URL:https://fortyninercc.com/event/mothers-day-brunch-buffet/
LOCATION:Forty Niner\, 12000 E. Tanque Verde\, Tucson\, AZ\, 85749\, United States
CATEGORIES:Restaurant Events
ATTACH;FMTTYPE=image/jpeg:https://fortyninercc.com/wp-content/uploads/2025/04/051125_MothersDayBrunch.jpg
ORGANIZER;CN="Forty Niner":MAILTO:cklok@fortyninercc.com
END:VEVENT
END:VCALENDAR