BEGIN:VCALENDAR
VERSION:2.0
PRODID:-//Forty Niner - ECPv6.15.20//NONSGML v1.0//EN
CALSCALE:GREGORIAN
METHOD:PUBLISH
X-ORIGINAL-URL:https://fortyninercc.com
X-WR-CALDESC:Events for Forty Niner
REFRESH-INTERVAL;VALUE=DURATION:PT1H
X-Robots-Tag:noindex
X-PUBLISHED-TTL:PT1H
BEGIN:VTIMEZONE
TZID:America/Phoenix
BEGIN:STANDARD
TZOFFSETFROM:-0700
TZOFFSETTO:-0700
TZNAME:MST
DTSTART:20240101T000000
END:STANDARD
END:VTIMEZONE
BEGIN:VEVENT
DTSTART;TZID=America/Phoenix:20250526T073000
DTEND;TZID=America/Phoenix:20250526T140000
DTSTAMP:20260424T032008
CREATED:20250501T181030Z
LAST-MODIFIED:20250501T181030Z
UID:2461-1748244600-1748268000@fortyninercc.com
SUMMARY:Forty Niner Memorial Day Golf Scramble
DESCRIPTION:Experience a day of camaraderie and remembrance at the Forty Niner Memorial Day Golf Scramble!\n\nJoin us on Monday\, May 26th\, with a 7:30 AM shotgun start\, as we honor the brave men and women who have served our nation. This four-person scramble format is designed for golfers of all skill levels – no handicap is required\, so grab your friends\, family\, or colleagues and come out for a fun and meaningful day at the beautiful Forty Niner! \nThis event offers a fantastic opportunity to enjoy a round of golf while supporting a worthy cause. Folds of Honor will be the beneficiary of this tournament\, an organization dedicated to providing educational scholarships to the spouses and children of America’s fallen and disabled service members and first responders.\n\nDonate to Folds of Honor  \nYour entry fee includes: \n\nGreen fees and a shared golf cart for the round.\nAccess to the driving range and practice balls to warm up before the scramble.\nThe chance to win exciting prizes awarded to top teams and for various on-course contests.\n\nEntry Fees: \n\nMilitary & First Responders: $45 per person\nForty Niner Members: $45 per person\nMember Guests: $50 per person\nNon-Members: $60 per person\n\nSign up for this special Memorial Day event by visiting the Pro-Shop at Forty Niner.\n\nDon’t miss this chance to enjoy a morning of golf\, community spirit\, and remembrance while supporting the incredible mission of Folds of Honor.\nWe look forward to seeing you!
URL:https://fortyninercc.com/event/forty-niner-memorial-day-golf-scramble/
LOCATION:Forty Niner\, 12000 E. Tanque Verde\, Tucson\, AZ\, 85749\, United States
CATEGORIES:Hosted Golf Tournaments
ATTACH;FMTTYPE=image/jpeg:https://fortyninercc.com/wp-content/uploads/2025/05/052625_MemorialDayScramble.jpg
ORGANIZER;CN="Forty Niner":MAILTO:cklok@fortyninercc.com
END:VEVENT
END:VCALENDAR