BEGIN:VCALENDAR
VERSION:2.0
PRODID:-//Forty Niner - ECPv6.15.20//NONSGML v1.0//EN
CALSCALE:GREGORIAN
METHOD:PUBLISH
X-WR-CALNAME:Forty Niner
X-ORIGINAL-URL:https://fortyninercc.com
X-WR-CALDESC:Events for Forty Niner
REFRESH-INTERVAL;VALUE=DURATION:PT1H
X-Robots-Tag:noindex
X-PUBLISHED-TTL:PT1H
BEGIN:VTIMEZONE
TZID:America/Denver
BEGIN:DAYLIGHT
TZOFFSETFROM:-0700
TZOFFSETTO:-0600
TZNAME:MDT
DTSTART:20240310T090000
END:DAYLIGHT
BEGIN:STANDARD
TZOFFSETFROM:-0600
TZOFFSETTO:-0700
TZNAME:MST
DTSTART:20241103T080000
END:STANDARD
BEGIN:DAYLIGHT
TZOFFSETFROM:-0700
TZOFFSETTO:-0600
TZNAME:MDT
DTSTART:20250309T090000
END:DAYLIGHT
BEGIN:STANDARD
TZOFFSETFROM:-0600
TZOFFSETTO:-0700
TZNAME:MST
DTSTART:20251102T080000
END:STANDARD
BEGIN:DAYLIGHT
TZOFFSETFROM:-0700
TZOFFSETTO:-0600
TZNAME:MDT
DTSTART:20260308T090000
END:DAYLIGHT
BEGIN:STANDARD
TZOFFSETFROM:-0600
TZOFFSETTO:-0700
TZNAME:MST
DTSTART:20261101T080000
END:STANDARD
END:VTIMEZONE
BEGIN:VEVENT
DTSTART;TZID=America/Denver:20250607T190000
DTEND;TZID=America/Denver:20250607T210000
DTSTAMP:20260424T045904
CREATED:20250529T201706Z
LAST-MODIFIED:20250529T201947Z
UID:2783-1749322800-1749330000@fortyninercc.com
SUMMARY:Forty Niner Summer Dive In Movie – Finding Nemo
DESCRIPTION:Just Keep Swimming… to Movie Night! 🐠💦 \nDive into a fin-tastic Summer Dive-In Movie at Forty Niner featuring the heartwarming Pixar favorite Finding Nemo! \nDate: Saturday\, June 7th\, 2025 | Time: 7:00 PM – 9:00 PM \nBring your swimsuits\, pool floats\, and a splash of adventure as we follow Marlin and Dory’s epic journey across the ocean—right from the pool! \nIt’s a perfect night for families to float\, laugh\, and enjoy an unforgettable underwater adventure under the stars. \nWe can’t wait to sea you there for some splashy fun and animated magic!
URL:https://fortyninercc.com/event/forty-niner-summer-dive-in-movie-finding-nemo/
LOCATION:Forty Niner\, 12000 E. Tanque Verde\, Tucson\, AZ\, 85749\, United States
CATEGORIES:Free Community Events
ATTACH;FMTTYPE=image/jpeg:https://fortyninercc.com/wp-content/uploads/2025/05/Finding-Nemo.jpg
ORGANIZER;CN="Forty Niner":MAILTO:cklok@fortyninercc.com
END:VEVENT
END:VCALENDAR