BEGIN:VCALENDAR
VERSION:2.0
PRODID:-//Forty Niner - ECPv6.15.20//NONSGML v1.0//EN
CALSCALE:GREGORIAN
METHOD:PUBLISH
X-ORIGINAL-URL:https://fortyninercc.com
X-WR-CALDESC:Events for Forty Niner
REFRESH-INTERVAL;VALUE=DURATION:PT1H
X-Robots-Tag:noindex
X-PUBLISHED-TTL:PT1H
BEGIN:VTIMEZONE
TZID:America/Denver
BEGIN:DAYLIGHT
TZOFFSETFROM:-0700
TZOFFSETTO:-0600
TZNAME:MDT
DTSTART:20240310T090000
END:DAYLIGHT
BEGIN:STANDARD
TZOFFSETFROM:-0600
TZOFFSETTO:-0700
TZNAME:MST
DTSTART:20241103T080000
END:STANDARD
BEGIN:DAYLIGHT
TZOFFSETFROM:-0700
TZOFFSETTO:-0600
TZNAME:MDT
DTSTART:20250309T090000
END:DAYLIGHT
BEGIN:STANDARD
TZOFFSETFROM:-0600
TZOFFSETTO:-0700
TZNAME:MST
DTSTART:20251102T080000
END:STANDARD
BEGIN:DAYLIGHT
TZOFFSETFROM:-0700
TZOFFSETTO:-0600
TZNAME:MDT
DTSTART:20260308T090000
END:DAYLIGHT
BEGIN:STANDARD
TZOFFSETFROM:-0600
TZOFFSETTO:-0700
TZNAME:MST
DTSTART:20261101T080000
END:STANDARD
END:VTIMEZONE
BEGIN:VEVENT
DTSTART;TZID=America/Denver:20250621T190000
DTEND;TZID=America/Denver:20250621T210000
DTSTAMP:20260424T050130
CREATED:20250603T171746Z
LAST-MODIFIED:20250603T173055Z
UID:2820-1750532400-1750539600@fortyninercc.com
SUMMARY:Forty Niner Summer Dive in Movie - Luca
DESCRIPTION:Make a Splash at Movie Night with Luca! 🏖️🐟Join us for a magical Summer Dive-In Movie at Forty Niner as we screen Pixar’s charming coming-of-age story Luca! \nDate: Saturday\, June 21st\, 2025 | Time: 7:00 PM – 9:00 PM \nBring your swimsuits\, pool floats\, and sense of adventure as we dive into an unforgettable tale of friendship\, sea monsters\, and summer dreams—right from the pool! \nIt’s the perfect evening for families to float\, laugh\, and enjoy a heartwarming Italian seaside adventure under the stars. \nWe can’t wait to sea you there for a night of splashy fun and Pixar magic!
URL:https://fortyninercc.com/event/summer-dive-in-movie-luca/
LOCATION:Forty Niner\, 12000 E. Tanque Verde\, Tucson\, AZ\, 85749\, United States
CATEGORIES:Free Community Events
ATTACH;FMTTYPE=image/png:https://fortyninercc.com/wp-content/uploads/2025/06/062125_DiveInMovie-scaled.png
ORGANIZER;CN="Forty Niner":MAILTO:cklok@fortyninercc.com
END:VEVENT
END:VCALENDAR