BEGIN:VCALENDAR
VERSION:2.0
PRODID:-//Forty Niner - ECPv6.15.20//NONSGML v1.0//EN
CALSCALE:GREGORIAN
METHOD:PUBLISH
X-WR-CALNAME:Forty Niner
X-ORIGINAL-URL:https://fortyninercc.com
X-WR-CALDESC:Events for Forty Niner
REFRESH-INTERVAL;VALUE=DURATION:PT1H
X-Robots-Tag:noindex
X-PUBLISHED-TTL:PT1H
BEGIN:VTIMEZONE
TZID:America/Denver
BEGIN:DAYLIGHT
TZOFFSETFROM:-0700
TZOFFSETTO:-0600
TZNAME:MDT
DTSTART:20240310T090000
END:DAYLIGHT
BEGIN:STANDARD
TZOFFSETFROM:-0600
TZOFFSETTO:-0700
TZNAME:MST
DTSTART:20241103T080000
END:STANDARD
BEGIN:DAYLIGHT
TZOFFSETFROM:-0700
TZOFFSETTO:-0600
TZNAME:MDT
DTSTART:20250309T090000
END:DAYLIGHT
BEGIN:STANDARD
TZOFFSETFROM:-0600
TZOFFSETTO:-0700
TZNAME:MST
DTSTART:20251102T080000
END:STANDARD
BEGIN:DAYLIGHT
TZOFFSETFROM:-0700
TZOFFSETTO:-0600
TZNAME:MDT
DTSTART:20260308T090000
END:DAYLIGHT
BEGIN:STANDARD
TZOFFSETFROM:-0600
TZOFFSETTO:-0700
TZNAME:MST
DTSTART:20261101T080000
END:STANDARD
END:VTIMEZONE
BEGIN:VEVENT
DTSTART;TZID=America/Denver:20250712T180000
DTEND;TZID=America/Denver:20250712T210000
DTSTAMP:20260423T223427
CREATED:20250701T214811Z
LAST-MODIFIED:20250701T215113Z
UID:3283-1752343200-1752354000@fortyninercc.com
SUMMARY:LIVE MUSIC – Whiskey & Wine – The Bar @ Forty Niner
DESCRIPTION:Join us on Saturday\, July 12th\, 2025\, from 6:00 PM to 9:00 PM for an evening of live acoustic music with the Whiskey & Wine Acoustic Duo!\n\nThis talented pair brings you the best acoustic hits from the ’60s through today\, blending timeless classics with modern favorites. Whether you’re out for dinner\, drinks\, or just good vibes\, their smooth sound and rich harmonies make the perfect backdrop for a great night at Forty Niner.\n\nDon’t miss it—great music\, great atmosphere\, and a great time!\n\nWhiskey & Wine Facebook Page
URL:https://fortyninercc.com/event/live-music-whiskey-wine-the-bar-forty-niner/
LOCATION:Forty Niner\, 12000 E. Tanque Verde\, Tucson\, AZ\, 85749\, United States
CATEGORIES:Free Live Music
ATTACH;FMTTYPE=image/jpeg:https://fortyninercc.com/wp-content/uploads/2025/07/071225_WhiskeyWine-1.jpg
ORGANIZER;CN="Forty Niner":MAILTO:cklok@fortyninercc.com
END:VEVENT
END:VCALENDAR