BEGIN:VCALENDAR
VERSION:2.0
PRODID:-//Forty Niner - ECPv6.15.20//NONSGML v1.0//EN
CALSCALE:GREGORIAN
METHOD:PUBLISH
X-WR-CALNAME:Forty Niner
X-ORIGINAL-URL:https://fortyninercc.com
X-WR-CALDESC:Events for Forty Niner
REFRESH-INTERVAL;VALUE=DURATION:PT1H
X-Robots-Tag:noindex
X-PUBLISHED-TTL:PT1H
BEGIN:VTIMEZONE
TZID:America/Denver
BEGIN:DAYLIGHT
TZOFFSETFROM:-0700
TZOFFSETTO:-0600
TZNAME:MDT
DTSTART:20240310T090000
END:DAYLIGHT
BEGIN:STANDARD
TZOFFSETFROM:-0600
TZOFFSETTO:-0700
TZNAME:MST
DTSTART:20241103T080000
END:STANDARD
BEGIN:DAYLIGHT
TZOFFSETFROM:-0700
TZOFFSETTO:-0600
TZNAME:MDT
DTSTART:20250309T090000
END:DAYLIGHT
BEGIN:STANDARD
TZOFFSETFROM:-0600
TZOFFSETTO:-0700
TZNAME:MST
DTSTART:20251102T080000
END:STANDARD
BEGIN:DAYLIGHT
TZOFFSETFROM:-0700
TZOFFSETTO:-0600
TZNAME:MDT
DTSTART:20260308T090000
END:DAYLIGHT
BEGIN:STANDARD
TZOFFSETFROM:-0600
TZOFFSETTO:-0700
TZNAME:MST
DTSTART:20261101T080000
END:STANDARD
END:VTIMEZONE
BEGIN:VEVENT
DTSTART;TZID=America/Denver:20250722T180000
DTEND;TZID=America/Denver:20250722T210000
DTSTAMP:20260423T223430
CREATED:20250707T192821Z
LAST-MODIFIED:20250711T192417Z
UID:3352-1753207200-1753218000@fortyninercc.com
SUMMARY:SWAS End of Season Banquet
DESCRIPTION:Celebrate a successful season at the SWAS End of Season Banquet! Join Southwest Aquatic Sports for a fun evening featuring a delicious taco bar. The banquet will be held on Sunday\, June 20th\, from 6:00 PM to 8:00 PM. \nThe listed price includes food for the SWAS End-of-Season Banquet. All other transactions related to this event\, are the sole responsibility of the attendee. \nWhat’s on the Taco Bar?\nShredded Chicken and Ground Beef\, Red Salsa\, Shredded Cheese\, Shredded Lettuce\, Guacamole\, Diced Tomatoes\, Sour Cream\, Tortilla Chips\, Refried Beans\, Spanish Rice\, Cinnamon Sugar Churros with your choice or Flour or Corn Tortilla
URL:https://fortyninercc.com/event/swas-end-of-season-banquet/
LOCATION:Forty Niner\, 12000 E. Tanque Verde\, Tucson\, AZ\, 85749\, United States
CATEGORIES:Hosted Event Tickets
ATTACH;FMTTYPE=image/png:https://fortyninercc.com/wp-content/uploads/2025/07/image0-1.png
END:VEVENT
END:VCALENDAR