BEGIN:VCALENDAR
VERSION:2.0
PRODID:-//Forty Niner - ECPv6.15.20//NONSGML v1.0//EN
CALSCALE:GREGORIAN
METHOD:PUBLISH
X-WR-CALNAME:Forty Niner
X-ORIGINAL-URL:https://fortyninercc.com
X-WR-CALDESC:Events for Forty Niner
REFRESH-INTERVAL;VALUE=DURATION:PT1H
X-Robots-Tag:noindex
X-PUBLISHED-TTL:PT1H
BEGIN:VTIMEZONE
TZID:America/Denver
BEGIN:DAYLIGHT
TZOFFSETFROM:-0700
TZOFFSETTO:-0600
TZNAME:MDT
DTSTART:20240310T090000
END:DAYLIGHT
BEGIN:STANDARD
TZOFFSETFROM:-0600
TZOFFSETTO:-0700
TZNAME:MST
DTSTART:20241103T080000
END:STANDARD
BEGIN:DAYLIGHT
TZOFFSETFROM:-0700
TZOFFSETTO:-0600
TZNAME:MDT
DTSTART:20250309T090000
END:DAYLIGHT
BEGIN:STANDARD
TZOFFSETFROM:-0600
TZOFFSETTO:-0700
TZNAME:MST
DTSTART:20251102T080000
END:STANDARD
BEGIN:DAYLIGHT
TZOFFSETFROM:-0700
TZOFFSETTO:-0600
TZNAME:MDT
DTSTART:20260308T090000
END:DAYLIGHT
BEGIN:STANDARD
TZOFFSETFROM:-0600
TZOFFSETTO:-0700
TZNAME:MST
DTSTART:20261101T080000
END:STANDARD
END:VTIMEZONE
BEGIN:VEVENT
DTSTART;TZID=America/Denver:20250731T080000
DTEND;TZID=America/Denver:20250731T100000
DTSTAMP:20260423T205621
CREATED:20250701T204429Z
LAST-MODIFIED:20250701T223003Z
UID:3279-1753948800-1753956000@fortyninercc.com
SUMMARY:Mom's & Mimosas
DESCRIPTION:Celebrate the first day of school with a well-deserved morning out at the Rincon Mountain Grill at Forty Niner “Moms and Mimosas” event! \nJoin us on Thursday\, July 31st\, 2025\, from 8:00 A.M. to 10:00 A.M.\, for a relaxing and refreshing start to the school year. \nEnjoy $6 mimosas and $5 avocado toast in a cozy\, inviting atmosphere filled with citrusy charm and good vibes. \nIt’s the perfect chance for moms (and friends!) to unwind\, catch up\, and toast to the new school year. \nWhether you’re celebrating sending the kids off or just looking for a peaceful morning\, this is your moment!
URL:https://fortyninercc.com/event/moms-mimosas/
LOCATION:Forty Niner\, 12000 E. Tanque Verde\, Tucson\, AZ\, 85749\, United States
CATEGORIES:Restaurant Events
ATTACH;FMTTYPE=image/jpeg:https://fortyninercc.com/wp-content/uploads/2025/07/073125_MomsMimosas.jpg
ORGANIZER;CN="Forty Niner":MAILTO:cklok@fortyninercc.com
END:VEVENT
END:VCALENDAR