BEGIN:VCALENDAR
VERSION:2.0
PRODID:-//Forty Niner - ECPv6.15.20//NONSGML v1.0//EN
CALSCALE:GREGORIAN
METHOD:PUBLISH
X-WR-CALNAME:Forty Niner
X-ORIGINAL-URL:https://fortyninercc.com
X-WR-CALDESC:Events for Forty Niner
REFRESH-INTERVAL;VALUE=DURATION:PT1H
X-Robots-Tag:noindex
X-PUBLISHED-TTL:PT1H
BEGIN:VTIMEZONE
TZID:America/Phoenix
BEGIN:STANDARD
TZOFFSETFROM:-0700
TZOFFSETTO:-0700
TZNAME:MST
DTSTART:20240101T000000
END:STANDARD
END:VTIMEZONE
BEGIN:VEVENT
DTSTART;TZID=America/Phoenix:20250823T183000
DTEND;TZID=America/Phoenix:20250823T210000
DTSTAMP:20260423T205619
CREATED:20250815T231241Z
LAST-MODIFIED:20250815T231243Z
UID:3907-1755973800-1755982800@fortyninercc.com
SUMMARY:Forty Niner Hawaiian Luau Party
DESCRIPTION:🌺 Aloha\, Forty Niner Friends! 🌺\nGet ready to escape to the islands right here in Tucson! Join us for a Hawaiian Luau Party on Saturday\, August 23 at 6:30 PM. \nWe’ll have tropical beats from Special Guest DJ Z & Klokworks\, delicious island vibes\, and an evening you won’t forget. \nDress Code: Aloha style required – think leis\, floral shirts\, grass skirts\, or your best tropical wear. Let’s fill the night with color and island spirit! \n📍 12000 E Tanque Verde Road\, Tucson\, AZ 85749
URL:https://fortyninercc.com/event/forty-niner-hawaiian-luau-party/
LOCATION:Forty Niner\, 12000 E. Tanque Verde\, Tucson\, AZ\, 85749\, United States
CATEGORIES:Free Live Music
ATTACH;FMTTYPE=image/jpeg:https://fortyninercc.com/wp-content/uploads/2025/08/Forty-Niner-Hawaiian-Luau-Party-Presentation.jpg
ORGANIZER;CN="Forty Niner":MAILTO:cklok@fortyninercc.com
END:VEVENT
END:VCALENDAR