BEGIN:VCALENDAR
VERSION:2.0
PRODID:-//Forty Niner - ECPv6.15.20//NONSGML v1.0//EN
CALSCALE:GREGORIAN
METHOD:PUBLISH
X-ORIGINAL-URL:https://fortyninercc.com
X-WR-CALDESC:Events for Forty Niner
REFRESH-INTERVAL;VALUE=DURATION:PT1H
X-Robots-Tag:noindex
X-PUBLISHED-TTL:PT1H
BEGIN:VTIMEZONE
TZID:America/Phoenix
BEGIN:STANDARD
TZOFFSETFROM:-0700
TZOFFSETTO:-0700
TZNAME:MST
DTSTART:20240101T000000
END:STANDARD
END:VTIMEZONE
BEGIN:VEVENT
DTSTART;TZID=America/Phoenix:20250914T080000
DTEND;TZID=America/Phoenix:20250914T130000
DTSTAMP:20260423T205857
CREATED:20250912T201811Z
LAST-MODIFIED:20250912T201811Z
UID:4278-1757836800-1757854800@fortyninercc.com
SUMMARY:Hosted Golf Tournament: Moose Lodge
DESCRIPTION:NOT A FORTY NINER HOME TOURNAMENT:\n\n\n\nPlease be advised that Forty Niner will be hosting a golf tournament\, the Mooselodge Tournament\, on Sunday\, September 14. \n\n8:00 am: Shotgun Start\n\nPlease note that the golf course will be occupied for this event on Sunday\, September 14. We appreciate your understanding.
URL:https://fortyninercc.com/event/hosted-golf-tournament-moose-lodge/
LOCATION:Forty Niner\, 12000 E. Tanque Verde\, Tucson\, AZ\, 85749\, United States
CATEGORIES:Hosted Golf Tournaments
END:VEVENT
END:VCALENDAR