BEGIN:VCALENDAR
VERSION:2.0
PRODID:-//Forty Niner - ECPv6.15.20//NONSGML v1.0//EN
CALSCALE:GREGORIAN
METHOD:PUBLISH
X-ORIGINAL-URL:https://fortyninercc.com
X-WR-CALDESC:Events for Forty Niner
REFRESH-INTERVAL;VALUE=DURATION:PT1H
X-Robots-Tag:noindex
X-PUBLISHED-TTL:PT1H
BEGIN:VTIMEZONE
TZID:America/Phoenix
BEGIN:STANDARD
TZOFFSETFROM:-0700
TZOFFSETTO:-0700
TZNAME:MST
DTSTART:20240101T000000
END:STANDARD
END:VTIMEZONE
BEGIN:VTIMEZONE
TZID:America/Denver
BEGIN:DAYLIGHT
TZOFFSETFROM:-0700
TZOFFSETTO:-0600
TZNAME:MDT
DTSTART:20240310T090000
END:DAYLIGHT
BEGIN:STANDARD
TZOFFSETFROM:-0600
TZOFFSETTO:-0700
TZNAME:MST
DTSTART:20241103T080000
END:STANDARD
BEGIN:DAYLIGHT
TZOFFSETFROM:-0700
TZOFFSETTO:-0600
TZNAME:MDT
DTSTART:20250309T090000
END:DAYLIGHT
BEGIN:STANDARD
TZOFFSETFROM:-0600
TZOFFSETTO:-0700
TZNAME:MST
DTSTART:20251102T080000
END:STANDARD
BEGIN:DAYLIGHT
TZOFFSETFROM:-0700
TZOFFSETTO:-0600
TZNAME:MDT
DTSTART:20260308T090000
END:DAYLIGHT
BEGIN:STANDARD
TZOFFSETFROM:-0600
TZOFFSETTO:-0700
TZNAME:MST
DTSTART:20261101T080000
END:STANDARD
END:VTIMEZONE
BEGIN:VEVENT
DTSTART;TZID=America/Phoenix:20250915T073000
DTEND;TZID=America/Phoenix:20250915T130000
DTSTAMP:20260423T191759
CREATED:20250912T202005Z
LAST-MODIFIED:20250912T202005Z
UID:4281-1757921400-1757941200@fortyninercc.com
SUMMARY:Hosted Golf Tournament: Cornerstone Electric
DESCRIPTION:NOT A FORTY NINER HOME TOURNAMENT:\n\n\n\nPlease be advised that Forty Niner will be hosting a golf tournament\, the Cornerstone Electric Tournament\, on Monday\, September 15. \n\n7:30 am: Shotgun Start\n\nPlease note that the golf course will be occupied for this event on Monday\, September 15. We appreciate your understanding.
URL:https://fortyninercc.com/event/hosted-golf-tournament-moose-lodge-2/
LOCATION:Forty Niner\, 12000 E. Tanque Verde\, Tucson\, AZ\, 85749\, United States
CATEGORIES:Hosted Golf Tournaments
END:VEVENT
BEGIN:VEVENT
DTSTART;TZID=America/Denver:20250915T180000
DTEND;TZID=America/Denver:20250915T200000
DTSTAMP:20260423T191759
CREATED:20250715T214059Z
LAST-MODIFIED:20250908T205136Z
UID:3476-1757959200-1757966400@fortyninercc.com
SUMMARY:Linedancing at Forty Niner
DESCRIPTION:Join us for an evening of line dancing with our very own instructor Viki Welling in the Pavilion at Forty Niner. \nOn Monday\, September 15th\, dust off your boots and get ready to groove! Check-in starts at 6:00 PM\, with dancing kicking off at 6:15 PM. For just $10\, you’ll get a rootin’ tootin’ good time\, including a drink ticket\, good for any domestic beer or house wine! \nKick up your heels and dance the night away with us!
URL:https://fortyninercc.com/event/linedancing-at-forty-niner-7/
LOCATION:Forty Niner\, 12000 E. Tanque Verde\, Tucson\, AZ\, 85749\, United States
CATEGORIES:Fitness Events
ATTACH;FMTTYPE=image/jpeg:https://fortyninercc.com/wp-content/uploads/2025/07/09.15_Linedancing.jpg
ORGANIZER;CN="Forty Niner":MAILTO:cklok@fortyninercc.com
END:VEVENT
END:VCALENDAR