BEGIN:VCALENDAR
VERSION:2.0
PRODID:-//Forty Niner - ECPv6.15.20//NONSGML v1.0//EN
CALSCALE:GREGORIAN
METHOD:PUBLISH
X-WR-CALNAME:Forty Niner
X-ORIGINAL-URL:https://fortyninercc.com
X-WR-CALDESC:Events for Forty Niner
REFRESH-INTERVAL;VALUE=DURATION:PT1H
X-Robots-Tag:noindex
X-PUBLISHED-TTL:PT1H
BEGIN:VTIMEZONE
TZID:America/Denver
BEGIN:DAYLIGHT
TZOFFSETFROM:-0700
TZOFFSETTO:-0600
TZNAME:MDT
DTSTART:20240310T090000
END:DAYLIGHT
BEGIN:STANDARD
TZOFFSETFROM:-0600
TZOFFSETTO:-0700
TZNAME:MST
DTSTART:20241103T080000
END:STANDARD
BEGIN:DAYLIGHT
TZOFFSETFROM:-0700
TZOFFSETTO:-0600
TZNAME:MDT
DTSTART:20250309T090000
END:DAYLIGHT
BEGIN:STANDARD
TZOFFSETFROM:-0600
TZOFFSETTO:-0700
TZNAME:MST
DTSTART:20251102T080000
END:STANDARD
BEGIN:DAYLIGHT
TZOFFSETFROM:-0700
TZOFFSETTO:-0600
TZNAME:MDT
DTSTART:20260308T090000
END:DAYLIGHT
BEGIN:STANDARD
TZOFFSETFROM:-0600
TZOFFSETTO:-0700
TZNAME:MST
DTSTART:20261101T080000
END:STANDARD
END:VTIMEZONE
BEGIN:VTIMEZONE
TZID:America/Phoenix
BEGIN:STANDARD
TZOFFSETFROM:-0700
TZOFFSETTO:-0700
TZNAME:MST
DTSTART:20240101T000000
END:STANDARD
END:VTIMEZONE
BEGIN:VEVENT
DTSTART;TZID=America/Denver:20250929T160000
DTEND;TZID=America/Denver:20251005T210000
DTSTAMP:20260423T172553
CREATED:20250722T183312Z
LAST-MODIFIED:20251001T222211Z
UID:3650-1759161600-1759698000@fortyninercc.com
SUMMARY:Palates of The World: Discover the flavors of Germany
DESCRIPTION:Discover the Flavors of Germany at Forty Niner!\nJoin us at Forty Niner for a week-long celebration of authentic German cuisine and culture! Our special “Discover the Flavors of Germany” event is the perfect way to experience a traditional German meal\, from hearty entrees to a delectable dessert. \nEvent Details\nWhen: September 29th – October 5th \nWhere: Forty Niner \nCost: $40++ per person for the three-course meal\nAdd a Cocktail/Mocktail for just $10 \nThe Three-Course German Menu\nIndulge in a carefully crafted\, three-course prix-fixe menu designed to transport your taste buds straight to Bavaria: \nFirst Course: Crispy Pork Schnitzel Sliders\nStart your meal with a delightful appetizer. Enjoy golden-fried\, thinly pounded Pork Schnitzel topped with a bright mustard aioli and fresh arugula on a toasted slider bun. It’s a crispy\, savory bite with a zesty kick! \nSecond Course: Bavarian Brat Plate\nThe main course is a classic German feast. This plate features savory\, plump Bratwurst sausages\, a generous serving of tangy Sauerkraut simmered with tender diced carrots\, rustic potatoes\, and a side of robust Stone Ground Mustard. This is the ultimate comfort food experience. \nThird Course: Mini Linzer Torte\nFinish on a sweet note with a traditional Austrian-German dessert. The Mini Linzer Torte has a buttery\, spiced crust filled generously with a vibrant raspberry jam\, all topped with the classic lattice crust. \nFeatured Cocktail / Mocktail: The Hugo\nEnhance your experience with the refreshing Hugo. This light and bubbly drink is a blend of delicate Elderflower essence\, fresh mint\, and zesty lime\, crowned with your choice of Prosecco or sparkling water for a perfect sip of summer in the Alps. \nDon’t miss out on this delicious opportunity to celebrate the tastes of Germany! Reservations are highly recommended.
URL:https://fortyninercc.com/event/palates-of-the-world-discover-the-flavors-of-germany/
LOCATION:Forty Niner\, 12000 E. Tanque Verde\, Tucson\, AZ\, 85749\, United States
CATEGORIES:Restaurant Events
ATTACH;FMTTYPE=image/png:https://fortyninercc.com/wp-content/uploads/2025/10/Your-paragraph-text-2.png
ORGANIZER;CN="Forty Niner":MAILTO:cklok@fortyninercc.com
END:VEVENT
BEGIN:VEVENT
DTSTART;VALUE=DATE:20251004
DTEND;VALUE=DATE:20251005
DTSTAMP:20260423T172553
CREATED:20250909T014708Z
LAST-MODIFIED:20250911T225653Z
UID:4186-1759536000-1759622399@fortyninercc.com
SUMMARY:OVERSEED CLOSURE - COURSE
DESCRIPTION:Annual Overseed Shutdown\nThe golf course will be closed for overseed starting Monday\, September 22\, and will reopen on Friday\, October 10. \nThe driving range will have a shorter closure\, from Wednesday\, September 24\, to Thursday\, September 25. \nOur restaurant and bar will be closed from Monday\, September 22\, and will reopen on Friday\, September 26\, at 4:00 pm \nPlease note\, we will still be serving food and drinks for bingo on Thursday\, September 25\, but the main dining room and bar will be closed. \n\nRestaurant and Bar Hours\nStarting Friday\, September 26\, until Thursday\, October 9\, our restaurant and bar will be operating under the following hours: \n\nMonday – Wednesday: 4:00 pm to 8:00 pm\nThursday – Friday: 4:00 pm to 9:00 pm\nSaturday: 9:00 am to 9:00 pm\nSunday: 9:00 am to 8:00 pm\n\n\nGolf Pro-Shop Hours\nStarting Monday\, September 22\, until Thursday\, October 9\, our pro-shop will be operating under the following hours: \n\nMonday – Sunday: 8:00 am to 4:00 pm\n\n\nFitness Center & Pool Hours\nStarting Monday\, September 22\, until Friday\, September 26 our fitness center and pool will be operating under the following hours: \n\nMonday – Sunday: 5:00 am to 8:00 pm
URL:https://fortyninercc.com/event/annual-overseed-shutdown-day13/
LOCATION:Forty Niner\, 12000 E. Tanque Verde\, Tucson\, AZ\, 85749\, United States
ATTACH;FMTTYPE=image/jpeg:https://fortyninercc.com/wp-content/uploads/2025/09/OverSeed_WKND.jpg
ORGANIZER;CN="Forty Niner":MAILTO:cklok@fortyninercc.com
END:VEVENT
BEGIN:VEVENT
DTSTART;TZID=America/Phoenix:20251004T100000
DTEND;TZID=America/Phoenix:20251004T113000
DTSTAMP:20260423T172553
CREATED:20250909T002758Z
LAST-MODIFIED:20250909T002758Z
UID:4137-1759572000-1759577400@fortyninercc.com
SUMMARY:Family Fall Fitness Event - Cardio Dance w/ Paige
DESCRIPTION:Ready to elevate your fitness in a fun and friendly environment this fall? We’ve created a welcoming space where all members are welcome\, regardless of your experience!\n\nJoin us every Saturday from 10:00 AM to 11:30 AM for exciting group fitness classes. Mark your calendars for October 4\, 2025\, when we’ll feature an energizing Cardio Dance class with Paige!\n\nAll classes are FREE for members\, and kids under 12 must be accompanied by an adult. Come try something new and get moving with the Forty Niner community!
URL:https://fortyninercc.com/event/family-fall-fitness-event-line-dancing-w-viki-2-2/
LOCATION:Forty Niner\, 12000 E. Tanque Verde\, Tucson\, AZ\, 85749\, United States
CATEGORIES:Fitness Events,Member Only Events
ATTACH;FMTTYPE=image/jpeg:https://fortyninercc.com/wp-content/uploads/2025/09/10.04_FallFitnessCardioDance.jpg
ORGANIZER;CN="Forty Niner":MAILTO:cklok@fortyninercc.com
END:VEVENT
BEGIN:VEVENT
DTSTART;TZID=America/Phoenix:20251004T180000
DTEND;TZID=America/Phoenix:20251004T230000
DTSTAMP:20260423T172553
CREATED:20250912T204832Z
LAST-MODIFIED:20251001T223508Z
UID:4299-1759600800-1759618800@fortyninercc.com
SUMMARY:Game Day Specials! UA vs. Oklahoma State
DESCRIPTION:Get ready for game day!\nThis Saturday\, October 4th\, join Forty Niner in cheering on the UofA!\n\nWe’ll be open until the end of the game\, or until 11:00pm\, whichever comes first and our special game day deals start one hour before kickoff.\n\nWildcat Special 1 \nwith a pitcher of Coors Light\, Miller Light\, or Dos Equis Amber\, plus a 16″ cheese or pepperoni pizza AND 12 bone-in wings for just $30.\nWildcat Special 2\nFor $30\, featuring a pitcher of Coors Light\, Miller Light\, or Dos Equis Amber\, alongside a sampler platter of mini quesadillas\, cheese curds\, pretzel bites\, chicken tenders\, and mini chimis.\n\nDon’t miss out on the action and these great deals – no to-go orders for specials!
URL:https://fortyninercc.com/event/game-day-specials-ua-vs-kansas-state-3/
LOCATION:Forty Niner\, 12000 E. Tanque Verde\, Tucson\, AZ\, 85749\, United States
ATTACH;FMTTYPE=image/jpeg:https://fortyninercc.com/wp-content/uploads/2025/09/Its-Game-Time-ver2.jpg
ORGANIZER;CN="Forty Niner":MAILTO:cklok@fortyninercc.com
END:VEVENT
END:VCALENDAR