BEGIN:VCALENDAR
VERSION:2.0
PRODID:-//Forty Niner - ECPv6.15.20//NONSGML v1.0//EN
CALSCALE:GREGORIAN
METHOD:PUBLISH
X-ORIGINAL-URL:https://fortyninercc.com
X-WR-CALDESC:Events for Forty Niner
REFRESH-INTERVAL;VALUE=DURATION:PT1H
X-Robots-Tag:noindex
X-PUBLISHED-TTL:PT1H
BEGIN:VTIMEZONE
TZID:America/Phoenix
BEGIN:STANDARD
TZOFFSETFROM:-0700
TZOFFSETTO:-0700
TZNAME:MST
DTSTART:20240101T000000
END:STANDARD
END:VTIMEZONE
BEGIN:VEVENT
DTSTART;TZID=America/Phoenix:20251021T180000
DTEND;TZID=America/Phoenix:20251021T210000
DTSTAMP:20260423T172902
CREATED:20251003T204519Z
LAST-MODIFIED:20251003T204522Z
UID:4351-1761069600-1761080400@fortyninercc.com
SUMMARY:October Paint & Sip with Chris Bubany
DESCRIPTION:Join us for this months Sip & Paint led by the talented Chris Bubany. Sip on delicious beverages while you learn painting techniques and create beautiful artwork! No prior painting experience is necessary – just bring your enthusiasm and a love for art!
URL:https://fortyninercc.com/event/october-paint-sip-with-chris-bubany/
LOCATION:Forty Niner\, 12000 E. Tanque Verde\, Tucson\, AZ\, 85749\, United States
CATEGORIES:Restaurant Events
ATTACH;FMTTYPE=image/png:https://fortyninercc.com/wp-content/uploads/2025/10/OCTOBER.png
ORGANIZER;CN="Forty Niner":MAILTO:cklok@fortyninercc.com
END:VEVENT
END:VCALENDAR