BEGIN:VCALENDAR
VERSION:2.0
PRODID:-//Forty Niner - ECPv6.15.20//NONSGML v1.0//EN
CALSCALE:GREGORIAN
METHOD:PUBLISH
X-WR-CALNAME:Forty Niner
X-ORIGINAL-URL:https://fortyninercc.com
X-WR-CALDESC:Events for Forty Niner
REFRESH-INTERVAL;VALUE=DURATION:PT1H
X-Robots-Tag:noindex
X-PUBLISHED-TTL:PT1H
BEGIN:VTIMEZONE
TZID:America/Phoenix
BEGIN:STANDARD
TZOFFSETFROM:-0700
TZOFFSETTO:-0700
TZNAME:MST
DTSTART:20240101T000000
END:STANDARD
END:VTIMEZONE
BEGIN:VEVENT
DTSTART;TZID=America/Phoenix:20251022T180000
DTEND;TZID=America/Phoenix:20251022T210000
DTSTAMP:20260423T172555
CREATED:20251014T201413Z
LAST-MODIFIED:20251014T201426Z
UID:4429-1761156000-1761166800@fortyninercc.com
SUMMARY:Forty Niner Wine Dinner w/ Oberon Wines
DESCRIPTION:Exclusive Forty Niner & Oberon Wine Dinner\nJoin us on Wednesday\, October 22\, 2025\, at 6:00 PM for a special four-course Wine Dinner featuring the acclaimed wines of Oberon. \nIndulge in a curated menu that includes: \nFirst Course: Seared scallop paired with Oberon Chardonnay. \nSecond Course: Candied duroc pork belly with a goat cheese tart and Oberon Merlot. \nThird Course: Duck leg confit with blackberry coffee mole\, matched with Oberon Napa Valley Cabernet Sauvignon. \nFourth Course: Red plum chocolate flan paired with Oberon Paso Robles Cabernet Sauvignon. \nExperience a night of exquisite food and wine pairings. \nDate: Oct. 22\, 2025 | 6:00 PM\nLocation: 12000 E Tanque Verde Rd\, Tucson\, AZ 85749
URL:https://fortyninercc.com/event/forty-niner-wine-dinner-w-oberon-wines/
LOCATION:Forty Niner\, 12000 E. Tanque Verde\, Tucson\, AZ\, 85749\, United States
CATEGORIES:Restaurant Events
ATTACH;FMTTYPE=image/jpeg:https://fortyninercc.com/wp-content/uploads/2025/10/WineDinnerOct2025WEB.jpg
ORGANIZER;CN="Forty Niner":MAILTO:cklok@fortyninercc.com
END:VEVENT
END:VCALENDAR