BEGIN:VCALENDAR
VERSION:2.0
PRODID:-//Forty Niner - ECPv6.15.20//NONSGML v1.0//EN
CALSCALE:GREGORIAN
METHOD:PUBLISH
X-ORIGINAL-URL:https://fortyninercc.com
X-WR-CALDESC:Events for Forty Niner
REFRESH-INTERVAL;VALUE=DURATION:PT1H
X-Robots-Tag:noindex
X-PUBLISHED-TTL:PT1H
BEGIN:VTIMEZONE
TZID:America/Phoenix
BEGIN:STANDARD
TZOFFSETFROM:-0700
TZOFFSETTO:-0700
TZNAME:MST
DTSTART:20240101T000000
END:STANDARD
END:VTIMEZONE
BEGIN:VEVENT
DTSTART;TZID=America/Phoenix:20251024T190000
DTEND;TZID=America/Phoenix:20251024T220000
DTSTAMP:20260423T172834
CREATED:20251001T215225Z
LAST-MODIFIED:20251024T220847Z
UID:4315-1761332400-1761343200@fortyninercc.com
SUMMARY:Forty Niner Back to 90's Halloween Party
DESCRIPTION:Back to the ’90s Adult-Only Halloween Party!\nGet ready to dust off your flannel shirts\, scrunchies\, and ripped jeans! Forty Niner is taking you on a nostalgic trip with our Back to the ’90s Adult-Only Halloween Party! \nWhen & Where:Friday\, October 24th | 7:00 PM – 10:00 PM | The Pavilion \nParty like it’s 1999 (or 1990\, 1995… you get the idea) with an awesome Halloween twist. \nTickets:ONLY SOLD AT THE DOOR – $30 per personCash / Card / Member Charge \nWhat to Expect: \n\n\n’90s Movies & Culture Theme: Dress up in your best representation of the decade or your favorite ’90s movie couple. \n\n\nCostume Contests with Prizes: \n\n\nMost Voted ’90s Movie Couple (Cher & Josh? Lloyd & Harry?) \n\n\nBest Representation of the ’90s (grunge\, hip-hop\, neon—show us your style!) \n\n\nBest ’90s Costume (creativity counts!) \n\n\n\n\nLive Music: Groove to your favorite ’90s hits all night long. \n\n\nPhoto Booth: Capture your epic costume (and maybe that questionable bowl cut!) \n\n\nFood & Drinks: Fuel your dance moves with delicious food and drinks available throughout the evening. \n\n\nThis is a 21+ event\, so grab your friends and get ready to party like it’s the ’90s! \nDon’t miss out on the most totally rad Halloween party of the year!
URL:https://fortyninercc.com/event/forty-niner-back-to-90s-halloween-party/
LOCATION:Forty Niner\, 12000 E. Tanque Verde\, Tucson\, AZ\, 85749\, United States
CATEGORIES:Community Events
ATTACH;FMTTYPE=image/jpeg:https://fortyninercc.com/wp-content/uploads/2025/10/10.24_BackTo90sHalloween.jpg
ORGANIZER;CN="Forty Niner":MAILTO:cklok@fortyninercc.com
END:VEVENT
END:VCALENDAR