BEGIN:VCALENDAR
VERSION:2.0
PRODID:-//Forty Niner - ECPv6.15.20//NONSGML v1.0//EN
CALSCALE:GREGORIAN
METHOD:PUBLISH
X-ORIGINAL-URL:https://fortyninercc.com
X-WR-CALDESC:Events for Forty Niner
REFRESH-INTERVAL;VALUE=DURATION:PT1H
X-Robots-Tag:noindex
X-PUBLISHED-TTL:PT1H
BEGIN:VTIMEZONE
TZID:America/Phoenix
BEGIN:STANDARD
TZOFFSETFROM:-0700
TZOFFSETTO:-0700
TZNAME:MST
DTSTART:20240101T000000
END:STANDARD
END:VTIMEZONE
BEGIN:VEVENT
DTSTART;TZID=America/Phoenix:20251107T180000
DTEND;TZID=America/Phoenix:20251107T210000
DTSTAMP:20260423T154055
CREATED:20250827T184347Z
LAST-MODIFIED:20251021T210057Z
UID:3964-1762538400-1762549200@fortyninercc.com
SUMMARY:LIVE MUSIC - Asphalt Astronaut - The Bar @ Forty Niner
DESCRIPTION:✨ Live Music at Forty Niner! ✨\nFriday\, November 7th | 6:00PM – 9:00PM \nJoin us for an unforgettable evening under the stars with Asphalt Astronaut\, an ambient pop artist hailing from Tucson\, AZ. Known for her ethereal soundscapes and emotionally rich lyricism\, Asphalt Astronaut draws influence from artists like Ethel Cain\, Mitski\, and Daughter. \nWith her dreamy vocals and layered instrumentation\, she crafts a truly atmospheric experience you won’t want to miss. Her latest works\, including Aurora (2023) and Anodyne (2024)\, continue to expand her sonic universe\, building on the raw honesty of her debut album Antares (2020). \nWhether you’re a longtime fan or new to her sound\, this is the perfect chance to experience one of Arizona’s rising talents live. \nCheck out her incredible music! –https://www.asphaltastronaut.com/ \n🎶 Don’t miss Asphalt Astronaut – only at Forty Niner!
URL:https://fortyninercc.com/event/live-music-asphalt-astronaut-the-bar-forty-niner-3/
LOCATION:Forty Niner\, 12000 E. Tanque Verde\, Tucson\, AZ\, 85749\, United States
CATEGORIES:Free Live Music
ATTACH;FMTTYPE=image/jpeg:https://fortyninercc.com/wp-content/uploads/2025/08/11.07.25_AsphaultAstronaut.jpg
ORGANIZER;CN="Forty Niner":MAILTO:cklok@fortyninercc.com
END:VEVENT
END:VCALENDAR