BEGIN:VCALENDAR
VERSION:2.0
PRODID:-//Forty Niner - ECPv6.15.20//NONSGML v1.0//EN
CALSCALE:GREGORIAN
METHOD:PUBLISH
X-ORIGINAL-URL:https://fortyninercc.com
X-WR-CALDESC:Events for Forty Niner
REFRESH-INTERVAL;VALUE=DURATION:PT1H
X-Robots-Tag:noindex
X-PUBLISHED-TTL:PT1H
BEGIN:VTIMEZONE
TZID:America/Phoenix
BEGIN:STANDARD
TZOFFSETFROM:-0700
TZOFFSETTO:-0700
TZNAME:MST
DTSTART:20240101T000000
END:STANDARD
END:VTIMEZONE
BEGIN:VEVENT
DTSTART;TZID=America/Phoenix:20251109T180000
DTEND;TZID=America/Phoenix:20251109T210000
DTSTAMP:20260423T154207
CREATED:20251016T174037Z
LAST-MODIFIED:20251030T184757Z
UID:4442-1762711200-1762722000@fortyninercc.com
SUMMARY:10th Planet Tucson Belt Promotions
DESCRIPTION:Saturday\, November 9th from 6:00 PM to 9:00 PM. 10th Planet Tucson belt promotions. \nDinner is $36 per person\, gratuity included\, and everyone is welcome—athletes\, friends\, and families alike. Don’t miss out on a night of celebration\, great food\, and good vibes. \nDINNER MENU: features juicy\, slow-smoked beef brisket and savory BBQ chicken. It also includes a fresh garden salad and classic potato salad for the perfect balance. We’ll add a seasonal chef’s vegetable and warm cornbread with butter. For a sweet finish\, dig into a delicious seasonal cobbler \nReserve your spot today and be part of the excitement!
URL:https://fortyninercc.com/event/10th-planet-tucson-belt-promotions/
LOCATION:Forty Niner\, 12000 E. Tanque Verde\, Tucson\, AZ\, 85749\, United States
ATTACH;FMTTYPE=image/jpeg:https://fortyninercc.com/wp-content/uploads/2025/10/Image_20251014_164127_676-scaled.jpeg
END:VEVENT
END:VCALENDAR