BEGIN:VCALENDAR
VERSION:2.0
PRODID:-//Forty Niner - ECPv6.15.20//NONSGML v1.0//EN
CALSCALE:GREGORIAN
METHOD:PUBLISH
X-ORIGINAL-URL:https://fortyninercc.com
X-WR-CALDESC:Events for Forty Niner
REFRESH-INTERVAL;VALUE=DURATION:PT1H
X-Robots-Tag:noindex
X-PUBLISHED-TTL:PT1H
BEGIN:VTIMEZONE
TZID:America/Phoenix
BEGIN:STANDARD
TZOFFSETFROM:-0700
TZOFFSETTO:-0700
TZNAME:MST
DTSTART:20240101T000000
END:STANDARD
END:VTIMEZONE
BEGIN:VEVENT
DTSTART;TZID=America/Phoenix:20251114T180000
DTEND;TZID=America/Phoenix:20251114T210000
DTSTAMP:20260423T154208
CREATED:20250827T184148Z
LAST-MODIFIED:20251031T192206Z
UID:3961-1763143200-1763154000@fortyninercc.com
SUMMARY:LIVE MUSIC - Paul Opocensky Project - The Bar @ Forty Niner
DESCRIPTION:Welcome back to The Bar @ Forty Niner! 🎉 We’re thrilled to have the Paul Opocensky Project returning to our stage for another fantastic night of live music! \n📅 Friday\, November 14\, 2025\n⏰ 6:00 PM – 9:00 PM \nIf you’ve seen him before\, you know you’re in for a treat! If this is your first time\, get ready to enjoy some incredible tunes. Come on down and show some love! 🎶
URL:https://fortyninercc.com/event/live-music-paul-opocensky-project-the-bar-forty-niner-4/
LOCATION:Forty Niner\, 12000 E. Tanque Verde\, Tucson\, AZ\, 85749\, United States
CATEGORIES:Free Live Music
ATTACH;FMTTYPE=image/jpeg:https://fortyninercc.com/wp-content/uploads/2025/08/11.14.25_PaulOpocenskyProject.jpg
ORGANIZER;CN="Forty Niner":MAILTO:cklok@fortyninercc.com
END:VEVENT
END:VCALENDAR