BEGIN:VCALENDAR
VERSION:2.0
PRODID:-//Forty Niner - ECPv6.15.20//NONSGML v1.0//EN
CALSCALE:GREGORIAN
METHOD:PUBLISH
X-WR-CALNAME:Forty Niner
X-ORIGINAL-URL:https://fortyninercc.com
X-WR-CALDESC:Events for Forty Niner
REFRESH-INTERVAL;VALUE=DURATION:PT1H
X-Robots-Tag:noindex
X-PUBLISHED-TTL:PT1H
BEGIN:VTIMEZONE
TZID:America/Phoenix
BEGIN:STANDARD
TZOFFSETFROM:-0700
TZOFFSETTO:-0700
TZNAME:MST
DTSTART:20240101T000000
END:STANDARD
END:VTIMEZONE
BEGIN:VEVENT
DTSTART;TZID=America/Phoenix:20251115T180000
DTEND;TZID=America/Phoenix:20251115T210000
DTSTAMP:20260423T153944
CREATED:20251031T193303Z
LAST-MODIFIED:20251104T223134Z
UID:4575-1763229600-1763240400@fortyninercc.com
SUMMARY:LIVE MUSIC - Andrew Candle - The Bar @ Forty Niner
DESCRIPTION:Join us for live music with Andrew Candle at Forty Niner. \nOn Saturday\, November 15 from 6:00 PM to 9:00 PM\, enjoy smooth\, mellow vocals and a laid-back indie/alternative pop vibe. Andrew’s music blends atmospheric production with intimate\, emotional lyrics—perfect for a relaxed evening. \nFree performance. Blankets and lawn chairs welcome.
URL:https://fortyninercc.com/event/live-music-andrew-candle-the-bar-forty-niner/
LOCATION:Forty Niner\, 12000 E. Tanque Verde\, Tucson\, AZ\, 85749\, United States
CATEGORIES:Free Live Music
ATTACH;FMTTYPE=image/jpeg:https://fortyninercc.com/wp-content/uploads/2025/10/11.15.25_AndrewCandle.jpg
ORGANIZER;CN="Forty Niner":MAILTO:cklok@fortyninercc.com
END:VEVENT
BEGIN:VEVENT
DTSTART;TZID=America/Phoenix:20251115T180000
DTEND;TZID=America/Phoenix:20251115T230000
DTSTAMP:20260423T153944
CREATED:20251030T202518Z
LAST-MODIFIED:20251030T202526Z
UID:4540-1763229600-1763247600@fortyninercc.com
SUMMARY:Game Day Specials! UA at Cincinnati
DESCRIPTION:Get ready for game day!\nThis Saturday\, November 15th\, join Forty Niner in cheering on the UofA!\n\nWe’ll be open until the end of the game\, or until 11:00pm\, whichever comes first and our special game day deals start one hour before kickoff.\n\nWildcat Special 1\nwith a pitcher of Coors Light\, Miller Light\, or Dos Equis Amber\, plus a 16″ cheese or pepperoni pizza AND 12 bone-in wings for just $30.\nWildcat Special 2\nFor $30\, featuring a pitcher of Coors Light\, Miller Light\, or Dos Equis Amber\, alongside a sampler platter of mini quesadillas\, cheese curds\, pretzel bites\, chicken tenders\, and mini chimis.\n\nDon’t miss out on the action and these great deals – no to-go orders for specials!
URL:https://fortyninercc.com/event/game-day-specials-ua-at-cincinnati/
LOCATION:Forty Niner\, 12000 E. Tanque Verde\, Tucson\, AZ\, 85749\, United States
ATTACH;FMTTYPE=image/jpeg:https://fortyninercc.com/wp-content/uploads/2025/10/Its-Game-Time-ver2.jpg
ORGANIZER;CN="Forty Niner":MAILTO:cklok@fortyninercc.com
END:VEVENT
END:VCALENDAR