BEGIN:VCALENDAR
VERSION:2.0
PRODID:-//Forty Niner - ECPv6.15.20//NONSGML v1.0//EN
CALSCALE:GREGORIAN
METHOD:PUBLISH
X-WR-CALNAME:Forty Niner
X-ORIGINAL-URL:https://fortyninercc.com
X-WR-CALDESC:Events for Forty Niner
REFRESH-INTERVAL;VALUE=DURATION:PT1H
X-Robots-Tag:noindex
X-PUBLISHED-TTL:PT1H
BEGIN:VTIMEZONE
TZID:America/Denver
BEGIN:DAYLIGHT
TZOFFSETFROM:-0700
TZOFFSETTO:-0600
TZNAME:MDT
DTSTART:20240310T090000
END:DAYLIGHT
BEGIN:STANDARD
TZOFFSETFROM:-0600
TZOFFSETTO:-0700
TZNAME:MST
DTSTART:20241103T080000
END:STANDARD
BEGIN:DAYLIGHT
TZOFFSETFROM:-0700
TZOFFSETTO:-0600
TZNAME:MDT
DTSTART:20250309T090000
END:DAYLIGHT
BEGIN:STANDARD
TZOFFSETFROM:-0600
TZOFFSETTO:-0700
TZNAME:MST
DTSTART:20251102T080000
END:STANDARD
BEGIN:DAYLIGHT
TZOFFSETFROM:-0700
TZOFFSETTO:-0600
TZNAME:MDT
DTSTART:20260308T090000
END:DAYLIGHT
BEGIN:STANDARD
TZOFFSETFROM:-0600
TZOFFSETTO:-0700
TZNAME:MST
DTSTART:20261101T080000
END:STANDARD
END:VTIMEZONE
BEGIN:VEVENT
DTSTART;TZID=America/Denver:20251117T160000
DTEND;TZID=America/Denver:20251123T210000
DTSTAMP:20260423T153909
CREATED:20250723T183705Z
LAST-MODIFIED:20251030T213552Z
UID:3680-1763395200-1763931600@fortyninercc.com
SUMMARY:Palates of The World: Discover the flavors of Morocco
DESCRIPTION:Discover the flavors of Morocco \nJoin us November 17th – 23rd\, from 4-9PM\, as we explore the bold and spice-rich cuisine of Morocco in our culinary series \nPalates of the World: A Global Culinary Journey\nEmbark on a monthly culinary adventure with Palates of the World\, our exclusive culture cuisine takeover! Each month\, chef Jake Bloom will feature a special three-course dinner ($40) showcasing the vibrant flavors of a specific global region. Indulge in a unique appetizer\, entrée\, and dessert\, expertly crafted to transport your taste buds. \nElevate your experience by adding a themed cocktail or mocktail for just $10 more\, perfectly paired to complement the evening’s international delights. This limited-time offering runs for a week alongside our regular menu. Don’t miss your passport to a world of flavor! \nReservations coming soon!
URL:https://fortyninercc.com/event/palates-of-the-world-discover-the-flavors-of-morocco/
LOCATION:Forty Niner\, 12000 E. Tanque Verde\, Tucson\, AZ\, 85749\, United States
CATEGORIES:Restaurant Events
ATTACH;FMTTYPE=image/png:https://fortyninercc.com/wp-content/uploads/2025/07/Forty-Niner-Morocco-1.png
ORGANIZER;CN="Forty Niner":MAILTO:cklok@fortyninercc.com
END:VEVENT
END:VCALENDAR