BEGIN:VCALENDAR
VERSION:2.0
PRODID:-//Forty Niner - ECPv6.15.20//NONSGML v1.0//EN
CALSCALE:GREGORIAN
METHOD:PUBLISH
X-ORIGINAL-URL:https://fortyninercc.com
X-WR-CALDESC:Events for Forty Niner
REFRESH-INTERVAL;VALUE=DURATION:PT1H
X-Robots-Tag:noindex
X-PUBLISHED-TTL:PT1H
BEGIN:VTIMEZONE
TZID:America/Phoenix
BEGIN:STANDARD
TZOFFSETFROM:-0700
TZOFFSETTO:-0700
TZNAME:MST
DTSTART:20240101T000000
END:STANDARD
END:VTIMEZONE
BEGIN:VEVENT
DTSTART;TZID=America/Phoenix:20251211T190000
DTEND;TZID=America/Phoenix:20251211T210000
DTSTAMP:20260423T141701
CREATED:20251203T195427Z
LAST-MODIFIED:20251203T195438Z
UID:4736-1765479600-1765486800@fortyninercc.com
SUMMARY:Thursday Night Bingo
DESCRIPTION:Join us every Thursday night for some exciting Thursday Night Bingo!\n\nGet your game face on and try your luck with our weekly bingo sessions starting at 7:00 PM.\n\nFor just $10 per packet\, you’ll have a chance to win some fun prizes! Plus\, enjoy our full food and drink service while you play.\n\nIt’s the perfect way to unwind and socialize mid-week!\n\nEmail: Casey Polivchak caseyp@fortyninercc.com for RSVPs
URL:https://fortyninercc.com/event/thursday-night-bingo-11/
LOCATION:Forty Niner\, 12000 E. Tanque Verde\, Tucson\, AZ\, 85749\, United States
CATEGORIES:Thursday Night Bingo
ATTACH;FMTTYPE=image/jpeg:https://fortyninercc.com/wp-content/uploads/2025/12/12.11_Bingo.jpg
ORGANIZER;CN="Forty Niner":MAILTO:cklok@fortyninercc.com
END:VEVENT
END:VCALENDAR