BEGIN:VCALENDAR
VERSION:2.0
PRODID:-//Forty Niner - ECPv6.15.20//NONSGML v1.0//EN
CALSCALE:GREGORIAN
METHOD:PUBLISH
X-WR-CALNAME:Forty Niner
X-ORIGINAL-URL:https://fortyninercc.com
X-WR-CALDESC:Events for Forty Niner
REFRESH-INTERVAL;VALUE=DURATION:PT1H
X-Robots-Tag:noindex
X-PUBLISHED-TTL:PT1H
BEGIN:VTIMEZONE
TZID:America/Phoenix
BEGIN:STANDARD
TZOFFSETFROM:-0700
TZOFFSETTO:-0700
TZNAME:MST
DTSTART:20240101T000000
END:STANDARD
END:VTIMEZONE
BEGIN:VEVENT
DTSTART;TZID=America/Phoenix:20251226T080000
DTEND;TZID=America/Phoenix:20260109T180000
DTSTAMP:20260423T123422
CREATED:20251126T192229Z
LAST-MODIFIED:20251126T192229Z
UID:4707-1766736000-1767981600@fortyninercc.com
SUMMARY:Forty Niner Treecycle Fest
DESCRIPTION:Give your natural Christmas tree a second life! The Forty Niner is offering tree recycling for all members and neighbors. Instead of discarding your tree\, drop it off with us\, and we will chip it for use as mulch right here on the golf course. \nThe Treecycle Fest runs from December 26 through January 9. Please bring your tree to the designated area in the lot by the driving range (the curve on Forty Niner Dr.). \nTo ensure a smooth chipping process\, please make sure your tree is clean and free of all decorations\, including ornaments\, tinsel\, lights\, and stands. Your participation helps us support a beautiful\, sustainable course!
URL:https://fortyninercc.com/event/forty-niner-treecycle-fest/
LOCATION:Forty Niner\, 12000 E. Tanque Verde\, Tucson\, AZ\, 85749\, United States
ATTACH;FMTTYPE=image/jpeg:https://fortyninercc.com/wp-content/uploads/2025/11/1226_TreecycleFest-scaled.jpg
ORGANIZER;CN="Forty Niner":MAILTO:cklok@fortyninercc.com
END:VEVENT
END:VCALENDAR