BEGIN:VCALENDAR
VERSION:2.0
PRODID:-//Forty Niner - ECPv6.15.20//NONSGML v1.0//EN
CALSCALE:GREGORIAN
METHOD:PUBLISH
X-WR-CALNAME:Forty Niner
X-ORIGINAL-URL:https://fortyninercc.com
X-WR-CALDESC:Events for Forty Niner
REFRESH-INTERVAL;VALUE=DURATION:PT1H
X-Robots-Tag:noindex
X-PUBLISHED-TTL:PT1H
BEGIN:VTIMEZONE
TZID:America/Phoenix
BEGIN:STANDARD
TZOFFSETFROM:-0700
TZOFFSETTO:-0700
TZNAME:MST
DTSTART:20250101T000000
END:STANDARD
END:VTIMEZONE
BEGIN:VEVENT
DTSTART;TZID=America/Phoenix:20260209T180000
DTEND;TZID=America/Phoenix:20260209T200000
DTSTAMP:20260423T105040
CREATED:20260127T205720Z
LAST-MODIFIED:20260127T205802Z
UID:4996-1770660000-1770667200@fortyninercc.com
SUMMARY:Valentines Line Dancing w/Viki + Live DJ!
DESCRIPTION:Dust off those boots and get ready to kick up some dust! Our regular Line Dancing with Viki is getting a high-energy upgrade. This month\, we’re bringing in a Live DJ to keep the beats fresh and the energy high all night long. \nWhether you’re a seasoned pro at the “Tush Push” or you have two left feet\, Viki will guide you through the steps while our DJ spins the best country hits and dance floor favorites. It’s the perfect way to celebrate the season with friends\, movement\, and a little bit of country soul. \nYour entry fee doesn’t just get you on the dance floor—it also includes one glass of wine or a domestic beer to help you find your rhythm!
URL:https://fortyninercc.com/event/valentines-line-dancing-w-viki-live-dj/
LOCATION:Forty Niner\, 12000 E. Tanque Verde\, Tucson\, AZ\, 85749\, United States
CATEGORIES:Community Events
ATTACH;FMTTYPE=image/png:https://fortyninercc.com/wp-content/uploads/2026/01/LINE-DANCING-WITH-VIKI-1.png
ORGANIZER;CN="Forty Niner":MAILTO:cklok@fortyninercc.com
END:VEVENT
END:VCALENDAR