BEGIN:VCALENDAR
VERSION:2.0
PRODID:-//Forty Niner - ECPv6.15.20//NONSGML v1.0//EN
CALSCALE:GREGORIAN
METHOD:PUBLISH
X-ORIGINAL-URL:https://fortyninercc.com
X-WR-CALDESC:Events for Forty Niner
REFRESH-INTERVAL;VALUE=DURATION:PT1H
X-Robots-Tag:noindex
X-PUBLISHED-TTL:PT1H
BEGIN:VTIMEZONE
TZID:America/Phoenix
BEGIN:STANDARD
TZOFFSETFROM:-0700
TZOFFSETTO:-0700
TZNAME:MST
DTSTART:20250101T000000
END:STANDARD
END:VTIMEZONE
BEGIN:VEVENT
DTSTART;TZID=America/Phoenix:20260217T110000
DTEND;TZID=America/Phoenix:20260217T200000
DTSTAMP:20260423T105349
CREATED:20260127T210032Z
LAST-MODIFIED:20260127T210041Z
UID:4999-1771326000-1771358400@fortyninercc.com
SUMMARY:Fat Tuesday at Forty Niner - Mardi Gras Specials
DESCRIPTION:Get ready to let the good times roll! \nCome celebrate our Bayou celebration with a special one-day-only lunch and dinner special\, along side our regular menu! From 11AM to 7:30PM\, enjoy the bold\, authentic flavors of New Orleans right here in Tucson. \n\n\nClassic Cajun Hushpuppies | $8 \n\n\nA basket of golden cornmeal fritters folded with sweet yellow onion and a hint of Creole spice. \n\n\nFried until perfectly crisp on the outside and fluffy on the inside\, served with our house-made zesty remoulade. \n\n\n\n\nChicken & Andouille Gumbo | $14 \n\n\nThe soul of the South. \n\n\nThis features a deep\, dark chocolate roux base simmered for hours with the “Holy Trinity” of crisp celery\, bell peppers\, and onions. \n\n\nLoaded with pulled roasted chicken and seared andouille sausage\, seasoned with traditional Cajun spices and fresh thyme\, and served over steamed white rice with fresh green onions. \n\n\n\n\nShrimp Étouffée | $16 \n\n\nA refined Creole classic of tender shrimp smothered in a rich\, buttery roux. \n\n\nSimmered with house-made shrimp stock\, the “Holy Trinity” of vegetables\, and vine-ripened tomatoes. \n\n\nBrightened with fresh lemon\, parsley\, and a dash of hot sauce\, served over steamed white rice with a side of house-made bread. \n\n\n\n\nNo Mardi Gras celebration is complete without a toast! In addition to our food features\, we will be serving a Special Themed Cocktail designed specifically for the day.
URL:https://fortyninercc.com/event/fat-tuesday-at-forty-niner-mardi-gras-specials/
LOCATION:Forty Niner\, 12000 E. Tanque Verde\, Tucson\, AZ\, 85749\, United States
CATEGORIES:Restaurant Events
ATTACH;FMTTYPE=image/jpeg:https://fortyninercc.com/wp-content/uploads/2026/01/02.17.26_MardiGrasSpecials.jpg
ORGANIZER;CN="Forty Niner":MAILTO:cklok@fortyninercc.com
END:VEVENT
BEGIN:VEVENT
DTSTART;TZID=America/Phoenix:20260217T170000
DTEND;TZID=America/Phoenix:20260217T200000
DTSTAMP:20260423T105349
CREATED:20260207T004424Z
LAST-MODIFIED:20260207T004424Z
UID:5056-1771347600-1771358400@fortyninercc.com
SUMMARY:Connect Pima Presentation
DESCRIPTION:Connect Pima Information Session\nTuesday\, Feb 17 | 5:00 PM \nJoin Connect Pima at Forty Niner to learn more about the RTA Next initiative. This event is free and open to all! \n\n\nFree Entry & Appetizers \n\n\nCash Bar Available \n\n\nMore Info: ConnectPima.com
URL:https://fortyninercc.com/event/connect-pima-presentation/
LOCATION:Forty Niner\, 12000 E. Tanque Verde\, Tucson\, AZ\, 85749\, United States
CATEGORIES:Community Events,Free Community Events
ATTACH;FMTTYPE=image/jpeg:https://fortyninercc.com/wp-content/uploads/2026/02/RTA-NEXT-8.5X11-scaled.jpg
END:VEVENT
END:VCALENDAR