BEGIN:VCALENDAR
VERSION:2.0
PRODID:-//Forty Niner - ECPv6.15.20//NONSGML v1.0//EN
CALSCALE:GREGORIAN
METHOD:PUBLISH
X-WR-CALNAME:Forty Niner
X-ORIGINAL-URL:https://fortyninercc.com
X-WR-CALDESC:Events for Forty Niner
REFRESH-INTERVAL;VALUE=DURATION:PT1H
X-Robots-Tag:noindex
X-PUBLISHED-TTL:PT1H
BEGIN:VTIMEZONE
TZID:America/Phoenix
BEGIN:STANDARD
TZOFFSETFROM:-0700
TZOFFSETTO:-0700
TZNAME:MST
DTSTART:20250101T000000
END:STANDARD
END:VTIMEZONE
BEGIN:VEVENT
DTSTART;TZID=America/Phoenix:20260515T183000
DTEND;TZID=America/Phoenix:20260515T213000
DTSTAMP:20260424T061852
CREATED:20260424T022049Z
LAST-MODIFIED:20260424T022055Z
UID:5531-1778869800-1778880600@fortyninercc.com
SUMMARY:Karaoke Night
DESCRIPTION:Warm up those vocal cords and get ready to take the stage! Whether you’re a shower singer or a seasoned pro\, it’s your time to shine. Join us for a high-energy night of music\, drinks\, and maybe a little bit of stage fright (don’t worry\, the crowd is friendly!). \nIt’s FREE TO SING\, so bring your friends\, pick your go-to anthem\, and let’s make some noise!
URL:https://fortyninercc.com/event/karaoke-night-3/
LOCATION:Forty Niner\, 12000 E. Tanque Verde\, Tucson\, AZ\, 85749\, United States
CATEGORIES:Free Community Events
ATTACH;FMTTYPE=image/jpeg:https://fortyninercc.com/wp-content/uploads/2026/04/4.10-Karaoke-Night-1920x1080-1.jpg
ORGANIZER;CN="Forty Niner":MAILTO:cklok@fortyninercc.com
END:VEVENT
END:VCALENDAR