BEGIN:VCALENDAR
VERSION:2.0
PRODID:-//Forty Niner - ECPv6.15.20//NONSGML v1.0//EN
CALSCALE:GREGORIAN
METHOD:PUBLISH
X-WR-CALNAME:Forty Niner
X-ORIGINAL-URL:https://fortyninercc.com
X-WR-CALDESC:Events for Forty Niner
REFRESH-INTERVAL;VALUE=DURATION:PT1H
X-Robots-Tag:noindex
X-PUBLISHED-TTL:PT1H
BEGIN:VTIMEZONE
TZID:America/Phoenix
BEGIN:STANDARD
TZOFFSETFROM:-0700
TZOFFSETTO:-0700
TZNAME:MST
DTSTART:20250101T000000
END:STANDARD
END:VTIMEZONE
BEGIN:VEVENT
DTSTART;TZID=America/Phoenix:20260525T073000
DTEND;TZID=America/Phoenix:20260525T150000
DTSTAMP:20260423T210804
CREATED:20260424T034503Z
LAST-MODIFIED:20260424T034505Z
UID:5560-1779694200-1779721200@fortyninercc.com
SUMMARY:Forty Niner Memorial Day Golf Scramble
DESCRIPTION:Honoring those who served while enjoying a day on the greens! Join us for our Memorial Day Golf Scramble\, a 4-person team event supporting the Folds of Honor. Whether you’re a seasoned golfer or just out for a good time\, no handicap is required—anyone can play and win! \nYour entry fee covers everything you need for a great day of golf and community. \nDate: Monday\, May 25\, 2026\nTime: 7:30 AM Start\nFormat: 4 Person Scramble\nIncludes: Golf\, Cart\, Range Balls\, Prizes\, and Lunch! \nEntry Fees\nMilitary & First Responders: $45\nForty Niner Members: $45\nMember Guests: $55\nNon-Members: $65 \nSign up in the Pro-Shop or message us for more info!
URL:https://fortyninercc.com/event/forty-niner-memorial-day-golf-scramble-2/
LOCATION:Forty Niner\, 12000 E. Tanque Verde\, Tucson\, AZ\, 85749\, United States
CATEGORIES:Golf Events
ATTACH;FMTTYPE=image/jpeg:https://fortyninercc.com/wp-content/uploads/2026/04/052526_MemorialDayScramble.jpg
ORGANIZER;CN="Forty Niner":MAILTO:cklok@fortyninercc.com
END:VEVENT
END:VCALENDAR