BEGIN:VCALENDAR
VERSION:2.0
PRODID:-//Forty Niner - ECPv6.15.20//NONSGML v1.0//EN
CALSCALE:GREGORIAN
METHOD:PUBLISH
X-ORIGINAL-URL:https://fortyninercc.com
X-WR-CALDESC:Events for Forty Niner
REFRESH-INTERVAL;VALUE=DURATION:PT1H
X-Robots-Tag:noindex
X-PUBLISHED-TTL:PT1H
BEGIN:VTIMEZONE
TZID:America/Phoenix
BEGIN:STANDARD
TZOFFSETFROM:-0700
TZOFFSETTO:-0700
TZNAME:MST
DTSTART:20240101T000000
END:STANDARD
END:VTIMEZONE
BEGIN:VEVENT
DTSTART;TZID=America/Phoenix:20251112T180000
DTEND;TZID=America/Phoenix:20251112T210000
DTSTAMP:20260423T163918
CREATED:20251031T191059Z
LAST-MODIFIED:20251031T191126Z
UID:4571-1762970400-1762981200@fortyninercc.com
SUMMARY:Team Trivia
DESCRIPTION:Open to everyone. \nGather your smartest friends and get ready for some brain-teasing fun! \nIn the restaurant for teams up to 8 players.
URL:https://fortyninercc.com/event/team-trivia-6/
LOCATION:Forty Niner\, 12000 E. Tanque Verde\, Tucson\, AZ\, 85749\, United States
CATEGORIES:Community Events,Free Community Events
ATTACH;FMTTYPE=image/jpeg:https://fortyninercc.com/wp-content/uploads/2025/10/11_12_TeamTrivia.jpg
ORGANIZER;CN="Forty Niner":MAILTO:cklok@fortyninercc.com
END:VEVENT
BEGIN:VEVENT
DTSTART;TZID=America/Phoenix:20251117T180000
DTEND;TZID=America/Phoenix:20251117T200000
DTSTAMP:20260423T163918
CREATED:20251030T202814Z
LAST-MODIFIED:20251030T202825Z
UID:4542-1763402400-1763409600@fortyninercc.com
SUMMARY:Linedancing at Forty Niner
DESCRIPTION:Join us for an evening of line dancing with our very own instructor Viki Welling in the Pavilion at Forty Niner.\nOn Monday\, November 17\, dust off your boots and get ready to groove! Check-in starts at 6:00 PM\, with dancing kicking off at 6:15 PM. For just $10\, you’ll get a rootin’ tootin’ good time\, including a drink ticket\, good for any domestic beer or house wine!\nKick up your heels and dance the night away with us!
URL:https://fortyninercc.com/event/linedancing-at-forty-niner-9/
LOCATION:Forty Niner\, 12000 E. Tanque Verde\, Tucson\, AZ\, 85749\, United States
CATEGORIES:Community Events
ATTACH;FMTTYPE=image/jpeg:https://fortyninercc.com/wp-content/uploads/2025/10/11.17_Linedancing.jpg
ORGANIZER;CN="Forty Niner":MAILTO:cklok@fortyninercc.com
END:VEVENT
END:VCALENDAR