BEGIN:VCALENDAR
VERSION:2.0
PRODID:-//Forty Niner - ECPv6.15.20//NONSGML v1.0//EN
CALSCALE:GREGORIAN
METHOD:PUBLISH
X-ORIGINAL-URL:https://fortyninercc.com
X-WR-CALDESC:Events for Forty Niner
REFRESH-INTERVAL;VALUE=DURATION:PT1H
X-Robots-Tag:noindex
X-PUBLISHED-TTL:PT1H
BEGIN:VTIMEZONE
TZID:America/Phoenix
BEGIN:STANDARD
TZOFFSETFROM:-0700
TZOFFSETTO:-0700
TZNAME:MST
DTSTART:20240101T000000
END:STANDARD
END:VTIMEZONE
BEGIN:VEVENT
DTSTART;TZID=America/Phoenix:20251031T170000
DTEND;TZID=America/Phoenix:20251031T220000
DTSTAMP:20260423T150215
CREATED:20251029T231246Z
LAST-MODIFIED:20251029T231341Z
UID:4525-1761930000-1761948000@fortyninercc.com
SUMMARY:Happy Halloween! (All facilities close at 5:00pm)
DESCRIPTION:🎃 Heads up\, Forty Niner Country Club Members! 🎃 \nPlease be advised that all club facilities will be closing early at 5:00 PM on Halloween (October 31st). We encourage you to plan your activities accordingly!
URL:https://fortyninercc.com/event/happy-halloween-all-facilities-close-at-500pm/
LOCATION:Forty Niner\, 12000 E. Tanque Verde\, Tucson\, AZ\, 85749\, United States
CATEGORIES:Community Events
ATTACH;FMTTYPE=image/jpeg:https://fortyninercc.com/wp-content/uploads/2025/10/HalloweenGraphic.jpg
ORGANIZER;CN="Forty Niner":MAILTO:cklok@fortyninercc.com
END:VEVENT
BEGIN:VEVENT
DTSTART;TZID=America/Phoenix:20251024T190000
DTEND;TZID=America/Phoenix:20251024T220000
DTSTAMP:20260423T150215
CREATED:20251001T215225Z
LAST-MODIFIED:20251024T220847Z
UID:4315-1761332400-1761343200@fortyninercc.com
SUMMARY:Forty Niner Back to 90's Halloween Party
DESCRIPTION:Back to the ’90s Adult-Only Halloween Party!\nGet ready to dust off your flannel shirts\, scrunchies\, and ripped jeans! Forty Niner is taking you on a nostalgic trip with our Back to the ’90s Adult-Only Halloween Party! \nWhen & Where:Friday\, October 24th | 7:00 PM – 10:00 PM | The Pavilion \nParty like it’s 1999 (or 1990\, 1995… you get the idea) with an awesome Halloween twist. \nTickets:ONLY SOLD AT THE DOOR – $30 per personCash / Card / Member Charge \nWhat to Expect: \n\n\n’90s Movies & Culture Theme: Dress up in your best representation of the decade or your favorite ’90s movie couple. \n\n\nCostume Contests with Prizes: \n\n\nMost Voted ’90s Movie Couple (Cher & Josh? Lloyd & Harry?) \n\n\nBest Representation of the ’90s (grunge\, hip-hop\, neon—show us your style!) \n\n\nBest ’90s Costume (creativity counts!) \n\n\n\n\nLive Music: Groove to your favorite ’90s hits all night long. \n\n\nPhoto Booth: Capture your epic costume (and maybe that questionable bowl cut!) \n\n\nFood & Drinks: Fuel your dance moves with delicious food and drinks available throughout the evening. \n\n\nThis is a 21+ event\, so grab your friends and get ready to party like it’s the ’90s! \nDon’t miss out on the most totally rad Halloween party of the year!
URL:https://fortyninercc.com/event/forty-niner-back-to-90s-halloween-party/
LOCATION:Forty Niner\, 12000 E. Tanque Verde\, Tucson\, AZ\, 85749\, United States
CATEGORIES:Community Events
ATTACH;FMTTYPE=image/jpeg:https://fortyninercc.com/wp-content/uploads/2025/10/10.24_BackTo90sHalloween.jpg
ORGANIZER;CN="Forty Niner":MAILTO:cklok@fortyninercc.com
END:VEVENT
BEGIN:VEVENT
DTSTART;TZID=America/Phoenix:20251020T180000
DTEND;TZID=America/Phoenix:20251020T200000
DTSTAMP:20260423T150215
CREATED:20251014T201926Z
LAST-MODIFIED:20251014T201940Z
UID:4435-1760983200-1760990400@fortyninercc.com
SUMMARY:Linedancing at Forty Niner
DESCRIPTION:Join us for an evening of line dancing with our very own instructor Viki Welling in the Pavilion at Forty Niner.\nOn Monday\, October 20\, dust off your boots and get ready to groove! Check-in starts at 6:00 PM\, with dancing kicking off at 6:15 PM. For just $10\, you’ll get a rootin’ tootin’ good time\, including a drink ticket\, good for any domestic beer or house wine!\nKick up your heels and dance the night away with us!
URL:https://fortyninercc.com/event/linedancing-at-forty-niner-8/
LOCATION:Forty Niner\, 12000 E. Tanque Verde\, Tucson\, AZ\, 85749\, United States
CATEGORIES:Community Events
ATTACH;FMTTYPE=image/jpeg:https://fortyninercc.com/wp-content/uploads/2025/10/10.20_Linedancing.jpg
ORGANIZER;CN="Forty Niner":MAILTO:cklok@fortyninercc.com
END:VEVENT
BEGIN:VEVENT
DTSTART;TZID=America/Phoenix:20251016T190000
DTEND;TZID=America/Phoenix:20251016T210000
DTSTAMP:20260423T150215
CREATED:20251014T155148Z
LAST-MODIFIED:20251014T155203Z
UID:4407-1760641200-1760648400@fortyninercc.com
SUMMARY:Thursday Night Bingo
DESCRIPTION:Join us every Thursday night for some exciting Thursday Night Bingo!\n\nGet your game face on and try your luck with our weekly bingo sessions starting at 7:00 PM.\n\nFor just $10 per packet\, you’ll have a chance to win some fun prizes! Plus\, enjoy our full food and drink service while you play.\n\nIt’s the perfect way to unwind and socialize mid-week!\n\nEmail: Casey Polivchak caseyp@fortyninercc.com for RSVPs
URL:https://fortyninercc.com/event/thursday-night-bingo-5/
LOCATION:Forty Niner\, 12000 E. Tanque Verde\, Tucson\, AZ\, 85749\, United States
CATEGORIES:Community Events,Thursday Night Bingo
ATTACH;FMTTYPE=image/jpeg:https://fortyninercc.com/wp-content/uploads/2025/10/10.16_Bingo.jpg
ORGANIZER;CN="Forty Niner":MAILTO:cklok@fortyninercc.com
END:VEVENT
BEGIN:VEVENT
DTSTART;TZID=America/Phoenix:20251015T180000
DTEND;TZID=America/Phoenix:20251015T210000
DTSTAMP:20260423T150215
CREATED:20251014T155405Z
LAST-MODIFIED:20251014T155420Z
UID:4410-1760551200-1760562000@fortyninercc.com
SUMMARY:Team Trivia
DESCRIPTION:Gather your smartest friends and get ready for some brain-teasing fun! Open to everyone. In the restaurant for teams up to 8 players.
URL:https://fortyninercc.com/event/team-trivia-5/
LOCATION:Forty Niner\, 12000 E. Tanque Verde\, Tucson\, AZ\, 85749\, United States
CATEGORIES:Community Events,Free Community Events
ATTACH;FMTTYPE=image/jpeg:https://fortyninercc.com/wp-content/uploads/2025/10/10.15_TeamTrivia.jpg
ORGANIZER;CN="Forty Niner":MAILTO:cklok@fortyninercc.com
END:VEVENT
END:VCALENDAR