BEGIN:VCALENDAR
VERSION:2.0
PRODID:-//Forty Niner - ECPv6.15.20//NONSGML v1.0//EN
CALSCALE:GREGORIAN
METHOD:PUBLISH
X-ORIGINAL-URL:https://fortyninercc.com
X-WR-CALDESC:Events for Forty Niner
REFRESH-INTERVAL;VALUE=DURATION:PT1H
X-Robots-Tag:noindex
X-PUBLISHED-TTL:PT1H
BEGIN:VTIMEZONE
TZID:UTC
BEGIN:STANDARD
TZOFFSETFROM:+0000
TZOFFSETTO:+0000
TZNAME:UTC
DTSTART:20240101T000000
END:STANDARD
END:VTIMEZONE
BEGIN:VEVENT
DTSTART;TZID=UTC:20250304T103000
DTEND;TZID=UTC:20250304T200000
DTSTAMP:20260424T101832
CREATED:20250208T024422Z
LAST-MODIFIED:20250208T024423Z
UID:1385-1741084200-1741118400@fortyninercc.com
SUMMARY:Mardi Gras Specials at Forty Niner
DESCRIPTION:Get ready to celebrate Mardi Gras with some seriously delicious specials at Forty Niner!\n\nWe’re bringing the flavors of New Orleans straight to your plate! Savor the taste of our mouthwatering Shrimp Po Boy – crispy fried shrimp\, fresh veggies\, and a tangy remoulade sauce nestled in a French roll.\n\nOr\, warm your soul with a bowl of our hearty Gumbo\, packed with chicken\, Andouille sausage\, and all the Cajun spices you crave!\nAnd because it’s Mardi Gras\, we’re serving up a special themed cocktail to get the party started! \n\nThese specials are available for lunch and dinner on March 4th\, 2025\, so gather your krewe and let the good times roll!
URL:https://fortyninercc.com/event/mardi-gras-specials-at-forty-niner/
LOCATION:Forty Niner\, 12000 E. Tanque Verde\, Tucson\, AZ\, 85749\, United States
CATEGORIES:Restaurant Events
ATTACH;FMTTYPE=image/jpeg:https://fortyninercc.com/wp-content/uploads/2025/02/030425_MardiGras.jpg
ORGANIZER;CN="Forty Niner":MAILTO:cklok@fortyninercc.com
END:VEVENT
BEGIN:VEVENT
DTSTART;TZID=UTC:20250314T103000
DTEND;TZID=UTC:20250314T210000
DTSTAMP:20260424T101832
CREATED:20250222T025453Z
LAST-MODIFIED:20250222T025454Z
UID:1564-1741948200-1741986000@fortyninercc.com
SUMMARY:Pi Day - Lunch & Dinner Specials
DESCRIPTION:Celebrate Pi Day with us! \nJoin us on March 14th\, 2025\, for lunch or dinner as we celebrate Pi Day with some delicious specials! \nIndulge in our savory Turkey Pot Pie for $15\, featuring turkey confit\, roasted root vegetables\, peas\, oyster mushrooms\, and a fluffy buttermilk biscuit. \nAnd for dessert\, don’t miss our Key Lime Pie Slice for $8\, a tangy and refreshing treat to satisfy your sweet tooth. \nCome celebrate this irrational holiday with us and enjoy some delicious food!
URL:https://fortyninercc.com/event/pi-day-lunch-dinner-specials/
LOCATION:Forty Niner\, 12000 E. Tanque Verde\, Tucson\, AZ\, 85749\, United States
CATEGORIES:Restaurant Events
ATTACH;FMTTYPE=image/jpeg:https://fortyninercc.com/wp-content/uploads/2025/02/0314_PiDaySpecials-scaled.jpg
ORGANIZER;CN="Forty Niner":MAILTO:cklok@fortyninercc.com
END:VEVENT
BEGIN:VEVENT
DTSTART;TZID=UTC:20250317T120000
DTEND;TZID=UTC:20250317T200000
DTSTAMP:20260424T101832
CREATED:20250220T033833Z
LAST-MODIFIED:20250220T035005Z
UID:1495-1742212800-1742241600@fortyninercc.com
SUMMARY:St. Patrick's Day Restaurant Specials
DESCRIPTION:Celebrate St. Patrick’s Day with us! \nJoin us on March 17th from 12:00 PM to 8:00 PM for a festive celebration featuring traditional Irish fare and drink specials! \nIndulge in our special St. Patrick’s Day menu item: Corned Beef & Cabbage for $21! Enjoy sliced corned beef brisket\, braised cabbage\, Yukon Gold potatoes\, and whole grain mustard. \nPlus\, we’ll be offering themed drink specials throughout the day to keep the party going! \nDon’t miss out on the fun – gather your friends and family and celebrate St. Patrick’s Day with us!
URL:https://fortyninercc.com/event/st-patricks-day-restaurant-specials/
LOCATION:Forty Niner\, 12000 E. Tanque Verde\, Tucson\, AZ\, 85749\, United States
CATEGORIES:Restaurant Events
ATTACH;FMTTYPE=image/jpeg:https://fortyninercc.com/wp-content/uploads/2025/02/0317_StPatricksSpecialsREV.jpg
ORGANIZER;CN="Forty Niner":MAILTO:cklok@fortyninercc.com
END:VEVENT
BEGIN:VEVENT
DTSTART;TZID=UTC:20250319T180000
DTEND;TZID=UTC:20250319T210000
DTSTAMP:20260424T101832
CREATED:20250222T024729Z
LAST-MODIFIED:20250311T012008Z
UID:1562-1742407200-1742418000@fortyninercc.com
SUMMARY:Forty Niner & Mother Road Brewing Co. - Beer Dinner
DESCRIPTION:March 19\, 2025 | 6:00 PM$70++ Per Person\nIndulge in a culinary journey with a side of hops at our exclusive Beer Dinner\, featuring the exquisite brews of Mother Road Brewing and the delectable cuisine of Forty Niner. Savor a four-course menu meticulously crafted to complement each beer\, creating a symphony of flavors that will tantalize your taste buds.\n\nFirst Course:\nFried green tomato\, green goddess\, pistachio\, herbs\nMother Road\, Sunday Drive\, American Lager\n\nSecond Course:\nSmoked salmon rillette\, barrio toast\, pickles\nMother Road\, Limited visibility\, Hazy IPA\n\nThird Course:\nBraised grassfed beef\, kabocha squash\, mole rojo\, turnips\nMother Road\, Tower Station IPA\n\nFourth Course:\nCorn meal cake\, buttermilk peach sherbet\, sesame brittle\nMother Road\, Daily driver\, Juicy Pale Ale\n\nDon’t miss this unique opportunity to experience the best of Arizona’s craft beer scene and culinary delights in one unforgettable evening. Make your reservation today!
URL:https://fortyninercc.com/event/forty-niner-mother-road-brewing-co-beer-dinner/
LOCATION:Forty Niner\, 12000 E. Tanque Verde\, Tucson\, AZ\, 85749\, United States
CATEGORIES:Restaurant Events
ATTACH;FMTTYPE=image/jpeg:https://fortyninercc.com/wp-content/uploads/2025/03/0319_MotherRoadBeerDinner_ScreenMENU-scaled.jpg
ORGANIZER;CN="Forty Niner":MAILTO:cklok@fortyninercc.com
END:VEVENT
BEGIN:VEVENT
DTSTART;TZID=UTC:20250329T160000
DTEND;TZID=UTC:20250329T210000
DTSTAMP:20260424T101832
CREATED:20250327T024907Z
LAST-MODIFIED:20250327T025959Z
UID:2050-1743264000-1743282000@fortyninercc.com
SUMMARY:Prime Rib Night
DESCRIPTION:Indulge in a delectable Prime Rib Night at Forty Niner on Saturday\, March 29th from 4pm to 9pm.\nSavor a mouthwatering plate featuring tender prime rib\, accompanied by creamy garlic mashed potatoes\, fresh seasonal vegetables\, and a rich au jus. Your meal also includes a crisp side salad.\nThis special dining experience is priced at $27++.\n\nDon’t miss out on this savory event! Make your reservation today to secure your table.
URL:https://fortyninercc.com/event/prime-rib-night/
LOCATION:Forty Niner\, 12000 E. Tanque Verde\, Tucson\, AZ\, 85749\, United States
CATEGORIES:Restaurant Events
ATTACH;FMTTYPE=image/jpeg:https://fortyninercc.com/wp-content/uploads/2025/03/PrimeRibSatruday.jpg
ORGANIZER;CN="Forty Niner":MAILTO:cklok@fortyninercc.com
END:VEVENT
BEGIN:VEVENT
DTSTART;TZID=UTC:20250331T180000
DTEND;TZID=UTC:20250331T200000
DTSTAMP:20260424T101832
CREATED:20250312T051627Z
LAST-MODIFIED:20250312T051627Z
UID:1810-1743444000-1743451200@fortyninercc.com
SUMMARY:March Paint & Sip w/ Chris Bubany
DESCRIPTION:Join us for this months Sip & Paint led by the talented Chris Bubany. Sip on delicious beverages while you learn painting techniques and create a beautiful artwork! No prior painting experience is necessary – just bring your enthusiasm and a love for art! \nMarchSNP_8BarrelCactus(1) 8 Inch Barrel Cactus with Red BirdMarchSNP_4PeakaBooBunnies(3) 4 Inch Peek a Boo BunniesMarchSNP_9CrossFlowers(1) 9 Inch Cross and FlowersMarchSNP_9BunnywithEggs(1) 9 Inch Rectangle Bunny with Eggs (Choice of Colors)MarchSNP_6EasterEggs(1) 6 Inch Easter Egg PlateMarchSNP_3BunnyTrio(3) 4 Inch Bunny TrioMarchSNP_3FunnyBunnies(3) 4 Inch Funny Bunnies
URL:https://fortyninercc.com/event/february-paint-sip-2/
LOCATION:Forty Niner\, 12000 E. Tanque Verde\, Tucson\, AZ\, 85749\, United States
CATEGORIES:Restaurant Events
ATTACH;FMTTYPE=image/jpeg:https://fortyninercc.com/wp-content/uploads/2025/03/0331_PaintNSipREDO.jpg
ORGANIZER;CN="Forty Niner":MAILTO:cklok@fortyninercc.com
END:VEVENT
END:VCALENDAR