BEGIN:VCALENDAR
VERSION:2.0
PRODID:-//Forty Niner - ECPv6.15.20//NONSGML v1.0//EN
CALSCALE:GREGORIAN
METHOD:PUBLISH
X-ORIGINAL-URL:https://fortyninercc.com
X-WR-CALDESC:Events for Forty Niner
REFRESH-INTERVAL;VALUE=DURATION:PT1H
X-Robots-Tag:noindex
X-PUBLISHED-TTL:PT1H
BEGIN:VTIMEZONE
TZID:America/Phoenix
BEGIN:STANDARD
TZOFFSETFROM:-0700
TZOFFSETTO:-0700
TZNAME:MST
DTSTART:20240101T000000
END:STANDARD
END:VTIMEZONE
BEGIN:VEVENT
DTSTART;TZID=America/Phoenix:20251224T160000
DTEND;TZID=America/Phoenix:20251224T190000
DTSTAMP:20260423T154314
CREATED:20251126T200535Z
LAST-MODIFIED:20251126T200535Z
UID:4711-1766592000-1766602800@fortyninercc.com
SUMMARY:Christmas Eve Dinner
DESCRIPTION:Celebrate the holiday season without the cooking! Join us for a special\, festive dinner on Christmas Eve. \nWednesday\, December 24\, 2025 | 4:00 PM – 7:00 PM \n\n\nDinner: Herb Roasted Prime Rib served with garlic mashed potatoes\, brussels sprouts\, and red wine jus. (Includes a side salad). $34 \n\n\nDessert: Maple Cheesecake with Vanilla Whipped Cream. $10 \n\n\nRSVP Here
URL:https://fortyninercc.com/event/christmas-eve-dinner/
LOCATION:Forty Niner\, 12000 E. Tanque Verde\, Tucson\, AZ\, 85749\, United States
CATEGORIES:Restaurant Events
ATTACH;FMTTYPE=image/jpeg:https://fortyninercc.com/wp-content/uploads/2025/11/12.24_ChristmasEveDinnerSpecial.jpg
ORGANIZER;CN="Forty Niner":MAILTO:cklok@fortyninercc.com
END:VEVENT
END:VCALENDAR