BEGIN:VCALENDAR
VERSION:2.0
PRODID:-//Forty Niner - ECPv6.15.20//NONSGML v1.0//EN
CALSCALE:GREGORIAN
METHOD:PUBLISH
X-WR-CALNAME:Forty Niner
X-ORIGINAL-URL:https://fortyninercc.com
X-WR-CALDESC:Events for Forty Niner
REFRESH-INTERVAL;VALUE=DURATION:PT1H
X-Robots-Tag:noindex
X-PUBLISHED-TTL:PT1H
BEGIN:VTIMEZONE
TZID:UTC
BEGIN:STANDARD
TZOFFSETFROM:+0000
TZOFFSETTO:+0000
TZNAME:UTC
DTSTART:20240101T000000
END:STANDARD
END:VTIMEZONE
BEGIN:VEVENT
DTSTART;TZID=UTC:20250211T180000
DTEND;TZID=UTC:20250211T193000
DTSTAMP:20260424T134239
CREATED:20250125T033958Z
LAST-MODIFIED:20250125T033958Z
UID:1221-1739296800-1739302200@fortyninercc.com
SUMMARY:Valentine's Day Rose Workshop
DESCRIPTION:February 11\, 2025 | 6PM | $75 Per Couple – Celebrate love and creativity with this special Valentine’s Day Workshop. Join us in the Rincon Room on February 11th from 6:00 pm to 7:30 pm for a romantic evening of painting. You and your sweetheart will learn to paint five ceramic forever roses and a vase\, creating a beautiful and lasting memento of your love.
URL:https://fortyninercc.com/event/valentines-day-rose-workshop/
LOCATION:Forty Niner\, 12000 E. Tanque Verde\, Tucson\, AZ\, 85749\, United States
CATEGORIES:Restaurant Events
ATTACH;FMTTYPE=image/png:https://fortyninercc.com/wp-content/uploads/2025/01/TAVERN-Flipgrid-Backdrop-Landscape-1-1.png
ORGANIZER;CN="Forty Niner":MAILTO:cklok@fortyninercc.com
END:VEVENT
END:VCALENDAR