BEGIN:VCALENDAR
VERSION:2.0
PRODID:-//Forty Niner - ECPv6.15.20//NONSGML v1.0//EN
CALSCALE:GREGORIAN
METHOD:PUBLISH
X-ORIGINAL-URL:https://fortyninercc.com
X-WR-CALDESC:Events for Forty Niner
REFRESH-INTERVAL;VALUE=DURATION:PT1H
X-Robots-Tag:noindex
X-PUBLISHED-TTL:PT1H
BEGIN:VTIMEZONE
TZID:America/Denver
BEGIN:DAYLIGHT
TZOFFSETFROM:-0700
TZOFFSETTO:-0600
TZNAME:MDT
DTSTART:20240310T090000
END:DAYLIGHT
BEGIN:STANDARD
TZOFFSETFROM:-0600
TZOFFSETTO:-0700
TZNAME:MST
DTSTART:20241103T080000
END:STANDARD
BEGIN:DAYLIGHT
TZOFFSETFROM:-0700
TZOFFSETTO:-0600
TZNAME:MDT
DTSTART:20250309T090000
END:DAYLIGHT
BEGIN:STANDARD
TZOFFSETFROM:-0600
TZOFFSETTO:-0700
TZNAME:MST
DTSTART:20251102T080000
END:STANDARD
BEGIN:DAYLIGHT
TZOFFSETFROM:-0700
TZOFFSETTO:-0600
TZNAME:MDT
DTSTART:20260308T090000
END:DAYLIGHT
BEGIN:STANDARD
TZOFFSETFROM:-0600
TZOFFSETTO:-0700
TZNAME:MST
DTSTART:20261101T080000
END:STANDARD
END:VTIMEZONE
BEGIN:VEVENT
DTSTART;TZID=America/Denver:20250428T180000
DTEND;TZID=America/Denver:20250428T210000
DTSTAMP:20260424T084213
CREATED:20250402T183656Z
LAST-MODIFIED:20250415T175848Z
UID:2193-1745863200-1745874000@fortyninercc.com
SUMMARY:Paint & Sip w/ Chris Bubany
DESCRIPTION:🎨🍷 Unleash your inner artist at our Paint & Sip event! 🍷🎨 \nJoin us for a relaxed and inspiring evening as we welcome local artist Chris Bubany for a special Paint & Sip experience. Enjoy a guided step-by-step painting session while sipping your favorite drink \n🗓️ Monday\, April 28th🕕 6:00 PM\n💰 $55 per person (Ticket includes one drink of your choice: Domestic Draft Beer\, House Red or White Wine\, Soda\, N/A Beer\, or Well Cocktail!) \n🎨 All supplies are included – just bring your friends\, your creativity\, and your thirst for a good time! \n🎟️ Spots are limited\, so grab your tickets now before they’re gone! Let’s toast to a night of color\, creativity\, and unforgettable memories!
URL:https://fortyninercc.com/event/paint-sip-w-chris-bubany/
LOCATION:Forty Niner\, 12000 E. Tanque Verde\, Tucson\, AZ\, 85749\, United States
CATEGORIES:Restaurant Events
ATTACH;FMTTYPE=image/jpeg:https://fortyninercc.com/wp-content/uploads/2025/01/042825_PaintNSip.jpg
ORGANIZER;CN="Forty Niner":MAILTO:cklok@fortyninercc.com
END:VEVENT
END:VCALENDAR