BEGIN:VCALENDAR
VERSION:2.0
PRODID:-//Forty Niner - ECPv6.15.20//NONSGML v1.0//EN
CALSCALE:GREGORIAN
METHOD:PUBLISH
X-ORIGINAL-URL:https://fortyninercc.com
X-WR-CALDESC:Events for Forty Niner
REFRESH-INTERVAL;VALUE=DURATION:PT1H
X-Robots-Tag:noindex
X-PUBLISHED-TTL:PT1H
BEGIN:VTIMEZONE
TZID:America/Denver
BEGIN:DAYLIGHT
TZOFFSETFROM:-0700
TZOFFSETTO:-0600
TZNAME:MDT
DTSTART:20240310T090000
END:DAYLIGHT
BEGIN:STANDARD
TZOFFSETFROM:-0600
TZOFFSETTO:-0700
TZNAME:MST
DTSTART:20241103T080000
END:STANDARD
BEGIN:DAYLIGHT
TZOFFSETFROM:-0700
TZOFFSETTO:-0600
TZNAME:MDT
DTSTART:20250309T090000
END:DAYLIGHT
BEGIN:STANDARD
TZOFFSETFROM:-0600
TZOFFSETTO:-0700
TZNAME:MST
DTSTART:20251102T080000
END:STANDARD
BEGIN:DAYLIGHT
TZOFFSETFROM:-0700
TZOFFSETTO:-0600
TZNAME:MDT
DTSTART:20260308T090000
END:DAYLIGHT
BEGIN:STANDARD
TZOFFSETFROM:-0600
TZOFFSETTO:-0700
TZNAME:MST
DTSTART:20261101T080000
END:STANDARD
END:VTIMEZONE
BEGIN:VEVENT
DTSTART;TZID=America/Denver:20250804T160000
DTEND;TZID=America/Denver:20250810T210000
DTSTAMP:20260424T033059
CREATED:20250722T182509Z
LAST-MODIFIED:20250725T210509Z
UID:3645-1754323200-1754859600@fortyninercc.com
SUMMARY:Palates of The World: Discover the flavors of the Philippines
DESCRIPTION:We are thrilled to announce the launch of our new “Palates of The World” culinary series\, beginning with a vibrant celebration of Filipino cuisine. From August 4th to August 10th\, we welcome you to experience “A Culinary Journey to the Philippines\,” featuring a special 3-course dinner crafted by our Executive Chef Jake Bloom. \nChef Jake Bloom’s exclusive 3-course Filipino menu\, priced at $40.00\, promises a delectable journey through traditional flavors. \nStart with an appetizer of Lumpia 2 Way\, followed by the rich and savory Adobo Pork Belly as an entrée. The meal will conclude with a delightful dessert of a Palitaw & Ube Ice Cream Sandwich. For an additional $10.00\, you can enjoy a specially crafted Kagatan cocktail\, or a Mangorind Dark & Stormy Mocktail\, both designed to perfectly complement the meal. \nThis special culinary event will be offered alongside our regular menu and will be available nightly from 4 PM to 8 PM Sunday through Wednesday\, and 4 PM to 9 PM Thursday through Saturday. \nDon’t miss this opportunity to explore the rich culinary heritage of the Philippines right here in the Tanque Verde Valley. \nReserve your date here –> https://resy.com/cities/tucson-az/venues/forty-niner-country-club?date=2025-08-04&seats=2
URL:https://fortyninercc.com/event/palates-of-the-world-discover-the-flavors-of-the-philippines/
LOCATION:Forty Niner\, 12000 E. Tanque Verde\, Tucson\, AZ\, 85749\, United States
CATEGORIES:Restaurant Events
ATTACH;FMTTYPE=image/png:https://fortyninercc.com/wp-content/uploads/2025/07/PalatesOfTheWorld_Philippines-scaled.png
ORGANIZER;CN="Forty Niner":MAILTO:cklok@fortyninercc.com
END:VEVENT
END:VCALENDAR