BEGIN:VCALENDAR
VERSION:2.0
PRODID:-//Forty Niner - ECPv6.15.20//NONSGML v1.0//EN
CALSCALE:GREGORIAN
METHOD:PUBLISH
X-WR-CALNAME:Forty Niner
X-ORIGINAL-URL:https://fortyninercc.com
X-WR-CALDESC:Events for Forty Niner
REFRESH-INTERVAL;VALUE=DURATION:PT1H
X-Robots-Tag:noindex
X-PUBLISHED-TTL:PT1H
BEGIN:VTIMEZONE
TZID:America/Phoenix
BEGIN:STANDARD
TZOFFSETFROM:-0700
TZOFFSETTO:-0700
TZNAME:MST
DTSTART:20250101T000000
END:STANDARD
END:VTIMEZONE
BEGIN:VEVENT
DTSTART;TZID=America/Phoenix:20260314T120000
DTEND;TZID=America/Phoenix:20260314T200000
DTSTAMP:20260423T132306
CREATED:20260303T015555Z
LAST-MODIFIED:20260303T015557Z
UID:5199-1773489600-1773518400@fortyninercc.com
SUMMARY:Pi Day Specials
DESCRIPTION:Happy Pi Day! \nJoin us on 3.14.2026 for lunch & dinner as we celebrate the most delicious day of the year. We’re serving up cozy\, comfort classics and a sweet slice to top it off: \nChicken Pot Pie – $10Roasted chicken with carrot\, celery\, and onion\, baked in a cast iron skillet. \nKey Lime Pie Slice – $9The perfect balance of tart and sweet. \nMark your calendars and come celebrate 3.14 with us at Forty Niner!
URL:https://fortyninercc.com/event/pi-day-specials/
LOCATION:Forty Niner\, 12000 E. Tanque Verde\, Tucson\, AZ\, 85749\, United States
CATEGORIES:Restaurant Events
ATTACH;FMTTYPE=image/jpeg:https://fortyninercc.com/wp-content/uploads/2026/03/031426_PiDaySpecialsl.jpg
ORGANIZER;CN="Forty Niner":MAILTO:cklok@fortyninercc.com
END:VEVENT
END:VCALENDAR