BEGIN:VCALENDAR
VERSION:2.0
PRODID:-//Forty Niner - ECPv6.15.20//NONSGML v1.0//EN
CALSCALE:GREGORIAN
METHOD:PUBLISH
X-WR-CALNAME:Forty Niner
X-ORIGINAL-URL:https://fortyninercc.com
X-WR-CALDESC:Events for Forty Niner
REFRESH-INTERVAL;VALUE=DURATION:PT1H
X-Robots-Tag:noindex
X-PUBLISHED-TTL:PT1H
BEGIN:VTIMEZONE
TZID:UTC
BEGIN:STANDARD
TZOFFSETFROM:+0000
TZOFFSETTO:+0000
TZNAME:UTC
DTSTART:20230101T000000
END:STANDARD
END:VTIMEZONE
BEGIN:VEVENT
DTSTART;TZID=UTC:20250317T120000
DTEND;TZID=UTC:20250317T200000
DTSTAMP:20260423T154202
CREATED:20250220T033833Z
LAST-MODIFIED:20250220T035005Z
UID:1495-1742212800-1742241600@fortyninercc.com
SUMMARY:St. Patrick's Day Restaurant Specials
DESCRIPTION:Celebrate St. Patrick’s Day with us! \nJoin us on March 17th from 12:00 PM to 8:00 PM for a festive celebration featuring traditional Irish fare and drink specials! \nIndulge in our special St. Patrick’s Day menu item: Corned Beef & Cabbage for $21! Enjoy sliced corned beef brisket\, braised cabbage\, Yukon Gold potatoes\, and whole grain mustard. \nPlus\, we’ll be offering themed drink specials throughout the day to keep the party going! \nDon’t miss out on the fun – gather your friends and family and celebrate St. Patrick’s Day with us!
URL:https://fortyninercc.com/event/st-patricks-day-restaurant-specials/
LOCATION:Forty Niner\, 12000 E. Tanque Verde\, Tucson\, AZ\, 85749\, United States
CATEGORIES:Restaurant Events
ATTACH;FMTTYPE=image/jpeg:https://fortyninercc.com/wp-content/uploads/2025/02/0317_StPatricksSpecialsREV.jpg
ORGANIZER;CN="Forty Niner":MAILTO:cklok@fortyninercc.com
END:VEVENT
BEGIN:VEVENT
DTSTART;TZID=UTC:20250314T103000
DTEND;TZID=UTC:20250314T210000
DTSTAMP:20260423T154202
CREATED:20250222T025453Z
LAST-MODIFIED:20250222T025454Z
UID:1564-1741948200-1741986000@fortyninercc.com
SUMMARY:Pi Day - Lunch & Dinner Specials
DESCRIPTION:Celebrate Pi Day with us! \nJoin us on March 14th\, 2025\, for lunch or dinner as we celebrate Pi Day with some delicious specials! \nIndulge in our savory Turkey Pot Pie for $15\, featuring turkey confit\, roasted root vegetables\, peas\, oyster mushrooms\, and a fluffy buttermilk biscuit. \nAnd for dessert\, don’t miss our Key Lime Pie Slice for $8\, a tangy and refreshing treat to satisfy your sweet tooth. \nCome celebrate this irrational holiday with us and enjoy some delicious food!
URL:https://fortyninercc.com/event/pi-day-lunch-dinner-specials/
LOCATION:Forty Niner\, 12000 E. Tanque Verde\, Tucson\, AZ\, 85749\, United States
CATEGORIES:Restaurant Events
ATTACH;FMTTYPE=image/jpeg:https://fortyninercc.com/wp-content/uploads/2025/02/0314_PiDaySpecials-scaled.jpg
ORGANIZER;CN="Forty Niner":MAILTO:cklok@fortyninercc.com
END:VEVENT
BEGIN:VEVENT
DTSTART;TZID=UTC:20250304T103000
DTEND;TZID=UTC:20250304T200000
DTSTAMP:20260423T154202
CREATED:20250208T024422Z
LAST-MODIFIED:20250208T024423Z
UID:1385-1741084200-1741118400@fortyninercc.com
SUMMARY:Mardi Gras Specials at Forty Niner
DESCRIPTION:Get ready to celebrate Mardi Gras with some seriously delicious specials at Forty Niner!\n\nWe’re bringing the flavors of New Orleans straight to your plate! Savor the taste of our mouthwatering Shrimp Po Boy – crispy fried shrimp\, fresh veggies\, and a tangy remoulade sauce nestled in a French roll.\n\nOr\, warm your soul with a bowl of our hearty Gumbo\, packed with chicken\, Andouille sausage\, and all the Cajun spices you crave!\nAnd because it’s Mardi Gras\, we’re serving up a special themed cocktail to get the party started! \n\nThese specials are available for lunch and dinner on March 4th\, 2025\, so gather your krewe and let the good times roll!
URL:https://fortyninercc.com/event/mardi-gras-specials-at-forty-niner/
LOCATION:Forty Niner\, 12000 E. Tanque Verde\, Tucson\, AZ\, 85749\, United States
CATEGORIES:Restaurant Events
ATTACH;FMTTYPE=image/jpeg:https://fortyninercc.com/wp-content/uploads/2025/02/030425_MardiGras.jpg
ORGANIZER;CN="Forty Niner":MAILTO:cklok@fortyninercc.com
END:VEVENT
BEGIN:VEVENT
DTSTART;TZID=UTC:20250224T180000
DTEND;TZID=UTC:20250224T200000
DTSTAMP:20260423T154202
CREATED:20250206T054558Z
LAST-MODIFIED:20250206T054558Z
UID:1355-1740420000-1740427200@fortyninercc.com
SUMMARY:February Paint & Sip
DESCRIPTION:Join us for this months Sip & Paint led by the talented Chris Bubany. Sip on delicious beverages while you learn painting techniques and create a beautiful artwork! No prior painting experience is necessary – just bring your enthusiasm and a love for art!
URL:https://fortyninercc.com/event/february-paint-sip/
LOCATION:Forty Niner\, 12000 E. Tanque Verde\, Tucson\, AZ\, 85749\, United States
CATEGORIES:Restaurant Events
ATTACH;FMTTYPE=image/jpeg:https://fortyninercc.com/wp-content/uploads/2025/01/0224_PaintNSip.jpg
ORGANIZER;CN="Forty Niner":MAILTO:cklok@fortyninercc.com
END:VEVENT
BEGIN:VEVENT
DTSTART;TZID=UTC:20250214T170000
DTEND;TZID=UTC:20250214T210000
DTSTAMP:20260423T154202
CREATED:20250125T053432Z
LAST-MODIFIED:20250129T050350Z
UID:1242-1739552400-1739566800@fortyninercc.com
SUMMARY:Valentine's Dinner at Forty Niner
DESCRIPTION:💕 Love is in the air! 💕 \nTreat your sweetheart to a romantic Valentine’s Day Dinner at Forty Niner! ❤️ Join us on February 14th\, between 5 PM to 9 PM\, for an unforgettable evening filled with delicious food\, live jazz guitar from Joe Weinberg\, and love. \nIndulge in a delectable 3-course dinner specially crafted for this special occasion. \nComplimentary Glass of Champagne\n\nFirst Course (Soup or Salad) – Choice ofWinter Panzanella Salad\, Butternut Squash\, Brussels Sprouts\, Arugula\, Dates\, Walnuts\, Maple-balsamic Dressing.OrAsparagus Bisque\, Croutons\, Lemon Oil\n\nSecond Course (Entree) – Choice ofSeafood Paella\, Saffron Rice\, Bay Scallops\, Shrimp\, Mussels\, Sausage\, Roasted PeppersOrFilet of Beef\, Cheddar Grits\, Smoked Carrots\, Horseradish JusOrPappardelle Pasta Primavera\, Cherry Tomato\, Peas\, Mushroom\, Asparagus\, Lemon White Wine Butter\n\nThird Course (Dessert) –Red Velvet Cake\, Cream Cheese Mousse\, Stracciatella\, Pistachio\nMake your reservations now and surprise your loved one with a Valentine’s Day they’ll cherish forever.
URL:https://fortyninercc.com/event/valentines-dinner-at-forty-niner/
LOCATION:Forty Niner\, 12000 E. Tanque Verde\, Tucson\, AZ\, 85749\, United States
CATEGORIES:Restaurant Events
ATTACH;FMTTYPE=image/jpeg:https://fortyninercc.com/wp-content/uploads/2025/01/0214_ValentinesDinner_NEW.jpg
ORGANIZER;CN="Forty Niner":MAILTO:cklok@fortyninercc.com
END:VEVENT
BEGIN:VEVENT
DTSTART;TZID=UTC:20250212T180000
DTEND;TZID=UTC:20250212T210000
DTSTAMP:20260423T154202
CREATED:20250125T044132Z
LAST-MODIFIED:20250125T044232Z
UID:1235-1739383200-1739394000@fortyninercc.com
SUMMARY:Forty Niner Team Trivia
DESCRIPTION:🧠 Think you’ve got the smarts? 🧠 \nGather your crew and get ready for Trivia Night at Forty Niner! 💡 It all goes down Wednesday\, February 12th at 6:00 PM in the Dining Room. \nTeams of 8 max\, so round up your brainiest buddies and come show off your knowledge! Prizes and bragging rights are up for grabs. 😉🏆 \nDon’t miss out on this fun-filled night of brain-bending challenges and friendly competition. 🍻
URL:https://fortyninercc.com/event/forty-niner-team-trivia-2/
LOCATION:Forty Niner\, 12000 E. Tanque Verde\, Tucson\, AZ\, 85749\, United States
CATEGORIES:Free Community Events,Restaurant Events
ATTACH;FMTTYPE=image/jpeg:https://fortyninercc.com/wp-content/uploads/2025/01/0212_TeamTrivia.jpg
ORGANIZER;CN="Forty Niner":MAILTO:cklok@fortyninercc.com
END:VEVENT
BEGIN:VEVENT
DTSTART;TZID=UTC:20250211T180000
DTEND;TZID=UTC:20250211T193000
DTSTAMP:20260423T154202
CREATED:20250125T033958Z
LAST-MODIFIED:20250125T033958Z
UID:1221-1739296800-1739302200@fortyninercc.com
SUMMARY:Valentine's Day Rose Workshop
DESCRIPTION:February 11\, 2025 | 6PM | $75 Per Couple – Celebrate love and creativity with this special Valentine’s Day Workshop. Join us in the Rincon Room on February 11th from 6:00 pm to 7:30 pm for a romantic evening of painting. You and your sweetheart will learn to paint five ceramic forever roses and a vase\, creating a beautiful and lasting memento of your love.
URL:https://fortyninercc.com/event/valentines-day-rose-workshop/
LOCATION:Forty Niner\, 12000 E. Tanque Verde\, Tucson\, AZ\, 85749\, United States
CATEGORIES:Restaurant Events
ATTACH;FMTTYPE=image/png:https://fortyninercc.com/wp-content/uploads/2025/01/TAVERN-Flipgrid-Backdrop-Landscape-1-1.png
ORGANIZER;CN="Forty Niner":MAILTO:cklok@fortyninercc.com
END:VEVENT
BEGIN:VEVENT
DTSTART;TZID=UTC:20250129T180000
DTEND;TZID=UTC:20250129T210000
DTSTAMP:20260423T154202
CREATED:20250111T024812Z
LAST-MODIFIED:20250111T042825Z
UID:1022-1738173600-1738184400@fortyninercc.com
SUMMARY:Forty Niner - Four Course Italian Wine Dinner
DESCRIPTION:Join us for an unforgettable culinary journey through the heart of Italy at Forty Niner Country Club’s four-course wine dinner. Indulge in a symphony of flavors as we pair exquisite Italian dishes with expertly selected wines\, all while enjoying the breathtaking beauty of our surroundings. \nFirst Course:\nWinter citrus salad\, prosciutto\, avocado\, honey vinaigrette\, black olive\nDonna Laura Ali Rosato\, Tuscany \nSecond Course:\nItalian seafood stew\, mussels\, clams\, shrimp\, tomato broth\, fennel\, herbs\, Charred bread\nLunae Bosoni Labianca\, Liguria \nThird Course:\nPappardelle\, Italian sausage\, mushroom cream\, lemon\, pecorino\nCantele Primitiv\, Salento \nFourth Course:\nPlum cake\, honey whipped mascarpone\, almond brittle\nBen Ryé Passito\, Sicily
URL:https://fortyninercc.com/event/forty-niner-four-course-italian-wine-dinner/
LOCATION:Forty Niner\, 12000 E. Tanque Verde\, Tucson\, AZ\, 85749\, United States
CATEGORIES:Restaurant Events
ATTACH;FMTTYPE=image/jpeg:https://fortyninercc.com/wp-content/uploads/2025/01/0129_ItalianWineDinner.jpg
ORGANIZER;CN="Forty Niner":MAILTO:cklok@fortyninercc.com
END:VEVENT
BEGIN:VEVENT
DTSTART;TZID=UTC:20250120T180000
DTEND;TZID=UTC:20250120T200000
DTSTAMP:20260423T154202
CREATED:20250113T234227Z
LAST-MODIFIED:20250113T234227Z
UID:1079-1737396000-1737403200@fortyninercc.com
SUMMARY:Linedancing at Forty Niner
DESCRIPTION:Feel the rhythm and let loose at our Linedancing class with the amazing Viki! Experience the joy of movement and connection at Forty Niner on January 20th. Whether you’re a beginner or a seasoned dancer\, you’ll have a blast learning new steps and enjoying the lively atmosphere
URL:https://fortyninercc.com/event/linedancing-at-forty-niner/
LOCATION:Forty Niner\, 12000 E. Tanque Verde\, Tucson\, AZ\, 85749\, United States
CATEGORIES:Restaurant Events
ATTACH;FMTTYPE=image/jpeg:https://fortyninercc.com/wp-content/uploads/2025/01/0120_LineDancing.jpg
ORGANIZER;CN="Forty Niner":MAILTO:cklok@fortyninercc.com
END:VEVENT
BEGIN:VEVENT
DTSTART;TZID=UTC:20250115T080000
DTEND;TZID=UTC:20250115T170000
DTSTAMP:20260423T154202
CREATED:20250102T235933Z
LAST-MODIFIED:20250102T235933Z
UID:864-1736928000-1736960400@fortyninercc.com
SUMMARY:Forty Niner Team Trivia
DESCRIPTION:Test your knowledge and have some laughs at Forty Niner’s Team Trivia night! Hosted by Chris\, this free event is perfect for groups of up to 8. Grab a bite from the menu and put your brains together for a chance to win bragging rights (and maybe some prizes!). \nRSVP Today!
URL:https://fortyninercc.com/event/forty-niner-team-trivia/
LOCATION:Forty Niner\, 12000 E. Tanque Verde\, Tucson\, AZ\, 85749\, United States
CATEGORIES:Free Community Events,Restaurant Events
ATTACH;FMTTYPE=image/jpeg:https://fortyninercc.com/wp-content/uploads/2025/01/011525_TeamTrivia.jpg
ORGANIZER;CN="Forty Niner":MAILTO:cklok@fortyninercc.com
END:VEVENT
BEGIN:VEVENT
DTSTART;TZID=UTC:20250103T170000
DTEND;TZID=UTC:20250103T200000
DTSTAMP:20260423T154202
CREATED:20250102T234054Z
LAST-MODIFIED:20250102T234054Z
UID:846-1735923600-1735934400@fortyninercc.com
SUMMARY:LIVE MUSIC - Coyote Road - The Bar @ Forty Niner
DESCRIPTION:Join us in welcoming back one of our favorites\, Coyote Road! Cover band from Tucson\, AZ consisting of Alexis Burrows\, Tim Burrows\, Crystal Brunelle\, and Jeremy S.
URL:https://fortyninercc.com/event/live-music-coyote-road-the-bar-forty-niner/
LOCATION:Forty Niner\, 12000 E. Tanque Verde\, Tucson\, AZ\, 85749\, United States
CATEGORIES:Free Live Music,Restaurant Events
ATTACH;FMTTYPE=image/jpeg:https://fortyninercc.com/wp-content/uploads/2025/01/010325_CoyoteRoad.jpg
ORGANIZER;CN="Forty Niner":MAILTO:cklok@fortyninercc.com
END:VEVENT
BEGIN:VEVENT
DTSTART;TZID=UTC:20241221T140000
DTEND;TZID=UTC:20241221T170000
DTSTAMP:20260423T154202
CREATED:20241217T043526Z
LAST-MODIFIED:20241217T043527Z
UID:585-1734789600-1734800400@fortyninercc.com
SUMMARY:LIVE MUSIC - Seth Murzyn and Joe Ferguson
DESCRIPTION:Kick back\, relax\, and enjoy free live music from Seth Murzyn and Joe Ferguson this Saturday\, December 21st\, from 2-5 PM.
URL:https://fortyninercc.com/event/live-music-seth-murzyn-and-joe-ferguson/
LOCATION:Forty Niner\, 12000 E. Tanque Verde\, Tucson\, AZ\, 85749\, United States
CATEGORIES:Restaurant Events
ATTACH;FMTTYPE=image/jpeg:https://fortyninercc.com/wp-content/uploads/2024/12/122124_SethMurzynJoeFerguson.jpg
ORGANIZER;CN="Forty Niner":MAILTO:cklok@fortyninercc.com
END:VEVENT
BEGIN:VEVENT
DTSTART;TZID=UTC:20241219T190000
DTEND;TZID=UTC:20241219T210000
DTSTAMP:20260423T154202
CREATED:20241217T043105Z
LAST-MODIFIED:20241217T043106Z
UID:581-1734634800-1734642000@fortyninercc.com
SUMMARY:Ugly Sweater Bingo Night
DESCRIPTION:Open to everyone!\nBreak out that ugly sweater for a fun-filled evening of Bingo. Cards are just $10 each\, and we offer full food and drink service.\nEmail caseyp@fortyninercc.com for reservations!
URL:https://fortyninercc.com/event/ugly-sweater-bingo-night/
LOCATION:Forty Niner\, 12000 E. Tanque Verde\, Tucson\, AZ\, 85749\, United States
CATEGORIES:Restaurant Events
ATTACH;FMTTYPE=image/jpeg:https://fortyninercc.com/wp-content/uploads/2024/12/UglySweaterBingo.jpg
ORGANIZER;CN="Forty Niner":MAILTO:cklok@fortyninercc.com
END:VEVENT
BEGIN:VEVENT
DTSTART;TZID=UTC:20241218T180000
DTEND;TZID=UTC:20241218T210000
DTSTAMP:20260423T154202
CREATED:20241217T042700Z
LAST-MODIFIED:20241217T042701Z
UID:578-1734544800-1734555600@fortyninercc.com
SUMMARY:Christmas Trivia Night
DESCRIPTION:Test your holiday knowledge and enjoy a festive evening with friends and family! Join us for a fun-filled night of trivia\, delicious food\, and holiday cheer.\n\nWhat to expect:\nChallenging trivia questions about Christmas movies\, music\, and traditionsFestive holiday decorDelicious food and drinksPrizes for the winning teamSo grab your team and get ready for a night of holiday fun!
URL:https://fortyninercc.com/event/christmas-trivia-night/
LOCATION:Forty Niner\, 12000 E. Tanque Verde\, Tucson\, AZ\, 85749\, United States
CATEGORIES:Restaurant Events
ATTACH;FMTTYPE=image/jpeg:https://fortyninercc.com/wp-content/uploads/2024/12/121824_XMASTrivia.jpg
ORGANIZER;CN="Forty Niner":MAILTO:cklok@fortyninercc.com
END:VEVENT
END:VCALENDAR