BEGIN:VCALENDAR
VERSION:2.0
PRODID:-//Forty Niner - ECPv6.15.20//NONSGML v1.0//EN
CALSCALE:GREGORIAN
METHOD:PUBLISH
X-WR-CALNAME:Forty Niner
X-ORIGINAL-URL:https://fortyninercc.com
X-WR-CALDESC:Events for Forty Niner
REFRESH-INTERVAL;VALUE=DURATION:PT1H
X-Robots-Tag:noindex
X-PUBLISHED-TTL:PT1H
BEGIN:VTIMEZONE
TZID:UTC
BEGIN:STANDARD
TZOFFSETFROM:+0000
TZOFFSETTO:+0000
TZNAME:UTC
DTSTART:20240101T000000
END:STANDARD
END:VTIMEZONE
BEGIN:VTIMEZONE
TZID:America/Denver
BEGIN:DAYLIGHT
TZOFFSETFROM:-0700
TZOFFSETTO:-0600
TZNAME:MDT
DTSTART:20240310T090000
END:DAYLIGHT
BEGIN:STANDARD
TZOFFSETFROM:-0600
TZOFFSETTO:-0700
TZNAME:MST
DTSTART:20241103T080000
END:STANDARD
BEGIN:DAYLIGHT
TZOFFSETFROM:-0700
TZOFFSETTO:-0600
TZNAME:MDT
DTSTART:20250309T090000
END:DAYLIGHT
BEGIN:STANDARD
TZOFFSETFROM:-0600
TZOFFSETTO:-0700
TZNAME:MST
DTSTART:20251102T080000
END:STANDARD
BEGIN:DAYLIGHT
TZOFFSETFROM:-0700
TZOFFSETTO:-0600
TZNAME:MDT
DTSTART:20260308T090000
END:DAYLIGHT
BEGIN:STANDARD
TZOFFSETFROM:-0600
TZOFFSETTO:-0700
TZNAME:MST
DTSTART:20261101T080000
END:STANDARD
END:VTIMEZONE
BEGIN:VEVENT
DTSTART;TZID=UTC:20250405T090000
DTEND;TZID=UTC:20250405T103000
DTSTAMP:20260424T064347
CREATED:20250320T064114Z
LAST-MODIFIED:20250320T064115Z
UID:1885-1743843600-1743849000@fortyninercc.com
SUMMARY:Puppy Yoga at Forty Niner w/ Pathways for Paws
DESCRIPTION:Join us for Puppy Yoga at Forty Niner on April 5th at 9 AM! \nUnwind and find your zen with Forty Niner yoga instructor Cass as she leads a delightful yoga flow surrounded by adorable\, adoptable puppies from Pathways for Paws! \nThis is the perfect opportunity to enjoy a fun and heartwarming yoga session while showering some love on these furry friends. You might even meet your new best friend! \nCost: \nFREE for Forty Niner Members\n$15 for Guests\nDon’t miss out on this unique and feel-good event in collaboration with Pathways for Paws.
URL:https://fortyninercc.com/event/puppy-yoga-at-forty-niner-w-pathways-for-paws/
LOCATION:Forty Niner\, 12000 E. Tanque Verde\, Tucson\, AZ\, 85749\, United States
CATEGORIES:Fitness Events,Free Community Events,Member Only Events
ATTACH;FMTTYPE=image/jpeg:https://fortyninercc.com/wp-content/uploads/2025/03/0405_PuppyYoga-scaled.jpg
ORGANIZER;CN="Forty Niner":MAILTO:cklok@fortyninercc.com
END:VEVENT
BEGIN:VEVENT
DTSTART;TZID=UTC:20250412T150000
DTEND;TZID=UTC:20250412T180000
DTSTAMP:20260424T064347
CREATED:20250320T071015Z
LAST-MODIFIED:20250320T071015Z
UID:1892-1744470000-1744480800@fortyninercc.com
SUMMARY:LIVE MUSIC - Frank Fields - The Bar @ Forty Niner
DESCRIPTION: Live Music Alert!  Catch Frank Fields live at The Bar @ Forty Niner on Saturday\, April 12th from 3-6pm.
URL:https://fortyninercc.com/event/live-music-frank-fields-the-bar-forty-niner-2/
LOCATION:Forty Niner\, 12000 E. Tanque Verde\, Tucson\, AZ\, 85749\, United States
CATEGORIES:Free Community Events,Free Live Music
ATTACH;FMTTYPE=image/jpeg:https://fortyninercc.com/wp-content/uploads/2025/03/031225_FrankFields.jpg
ORGANIZER;CN="Forty Niner":MAILTO:cklok@fortyninercc.com
END:VEVENT
BEGIN:VEVENT
DTSTART;TZID=America/Denver:20250416T180000
DTEND;TZID=America/Denver:20250416T210000
DTSTAMP:20260424T064347
CREATED:20250402T170013Z
LAST-MODIFIED:20250410T204553Z
UID:2159-1744826400-1744837200@fortyninercc.com
SUMMARY:Team Trivia
DESCRIPTION:🧠💡 Test your knowledge at Trivia Night! 💡🧠 \nJoin us for a fun-filled Trivia Night on Wednesday\, April 16th\, 2025\, at 6:00 PM! Gather your smartest friends and compete for awesome Team Trivia Prizes! \nGet ready for brain-teasing questions\, friendly competition\, and a great time. See you there!
URL:https://fortyninercc.com/event/team-trivia-2/
LOCATION:Forty Niner\, 12000 E. Tanque Verde\, Tucson\, AZ\, 85749\, United States
CATEGORIES:Free Community Events
ATTACH;FMTTYPE=image/jpeg:https://fortyninercc.com/wp-content/uploads/2025/04/041625_TeamTrivia.jpg
ORGANIZER;CN="Forty Niner":MAILTO:cklok@fortyninercc.com
END:VEVENT
END:VCALENDAR