BEGIN:VCALENDAR
VERSION:2.0
PRODID:-//Forty Niner - ECPv6.15.20//NONSGML v1.0//EN
CALSCALE:GREGORIAN
METHOD:PUBLISH
X-WR-CALNAME:Forty Niner
X-ORIGINAL-URL:https://fortyninercc.com
X-WR-CALDESC:Events for Forty Niner
REFRESH-INTERVAL;VALUE=DURATION:PT1H
X-Robots-Tag:noindex
X-PUBLISHED-TTL:PT1H
BEGIN:VTIMEZONE
TZID:America/Denver
BEGIN:DAYLIGHT
TZOFFSETFROM:-0700
TZOFFSETTO:-0600
TZNAME:MDT
DTSTART:20240310T090000
END:DAYLIGHT
BEGIN:STANDARD
TZOFFSETFROM:-0600
TZOFFSETTO:-0700
TZNAME:MST
DTSTART:20241103T080000
END:STANDARD
BEGIN:DAYLIGHT
TZOFFSETFROM:-0700
TZOFFSETTO:-0600
TZNAME:MDT
DTSTART:20250309T090000
END:DAYLIGHT
BEGIN:STANDARD
TZOFFSETFROM:-0600
TZOFFSETTO:-0700
TZNAME:MST
DTSTART:20251102T080000
END:STANDARD
BEGIN:DAYLIGHT
TZOFFSETFROM:-0700
TZOFFSETTO:-0600
TZNAME:MDT
DTSTART:20260308T090000
END:DAYLIGHT
BEGIN:STANDARD
TZOFFSETFROM:-0600
TZOFFSETTO:-0700
TZNAME:MST
DTSTART:20261101T080000
END:STANDARD
END:VTIMEZONE
BEGIN:VEVENT
DTSTART;TZID=America/Denver:20250802T193000
DTEND;TZID=America/Denver:20250802T213000
DTSTAMP:20260423T220953
CREATED:20250715T232347Z
LAST-MODIFIED:20250729T193707Z
UID:3495-1754163000-1754170200@fortyninercc.com
SUMMARY:Forty Niner Summer Dive In Movie - The Parent Trap
DESCRIPTION:Double the Trouble\, Double the Fun! 👯‍♀️💦Jump in for a splashy Summer Dive-In Movie at Forty Niner featuring the feel-good favorite The Parent Trap! \nDate: Saturday\, August 2nd\, 2025 | Time: 7:30 PM – 9:30 PM \nWhether you’re Team Hallie or Team Annie\, this poolside movie night is full of laughs\, heart\, and a little mischief as long-lost twins plot the ultimate reunion — all while you float under the stars! \nSo grab your swimsuits\, your favorite floatie\, and get ready for a night of camp pranks\, secret handshakes\, and classic Disney magic. \nWe can’t wait to twin the night away with you! 💛🍋🎬
URL:https://fortyninercc.com/event/forty-niner-summer-dive-in-movie-the-parent-trap/
LOCATION:Forty Niner\, 12000 E. Tanque Verde\, Tucson\, AZ\, 85749\, United States
CATEGORIES:Free Community Events
ATTACH;FMTTYPE=image/jpeg:https://fortyninercc.com/wp-content/uploads/2025/07/080225_SummerDiveInMovie-1.jpg
ORGANIZER;CN="Forty Niner":MAILTO:cklok@fortyninercc.com
END:VEVENT
BEGIN:VEVENT
DTSTART;TZID=America/Denver:20250809T193000
DTEND;TZID=America/Denver:20250809T213000
DTSTAMP:20260423T220953
CREATED:20250715T232442Z
LAST-MODIFIED:20250715T235148Z
UID:3497-1754767800-1754775000@fortyninercc.com
SUMMARY:Forty Niner Summer Dive In Movie - E.T.
DESCRIPTION:Phone Home… for Movie Night! 🌕🚲💦Join us at Forty Niner for a magical Summer Dive-In Movie featuring the timeless classic E.T. the Extra-Terrestrial! \nDate: Saturday\, August 9th\, 2025 | Time: 7:30 PM – 9:30 PM \nBring your swimsuits\, floats\, and a sense of wonder as we float beneath the stars and follow the unforgettable friendship between a boy and a lost alien trying to find his way home. \nIt’s a heartwarming night for the whole family filled with adventure\, laughter\, and just a few Reese’s Pieces. \nWe’ll be right here… waiting to share the magic with you! 👽🌌❤️
URL:https://fortyninercc.com/event/forty-niner-summer-dive-in-movie-e-t/
LOCATION:Forty Niner\, 12000 E. Tanque Verde\, Tucson\, AZ\, 85749\, United States
CATEGORIES:Free Community Events
ATTACH;FMTTYPE=image/jpeg:https://fortyninercc.com/wp-content/uploads/2025/07/080925_SummerDiveInMovie.jpg
ORGANIZER;CN="Forty Niner":MAILTO:cklok@fortyninercc.com
END:VEVENT
BEGIN:VEVENT
DTSTART;TZID=America/Denver:20250813T180000
DTEND;TZID=America/Denver:20250813T210000
DTSTAMP:20260423T220953
CREATED:20250805T183145Z
LAST-MODIFIED:20250805T183316Z
UID:3803-1755108000-1755118800@fortyninercc.com
SUMMARY:August Team Trivia
DESCRIPTION:Join us August 13\, 2025 in the Dining Room for free Team Trivia. Pick your smartest team of 8 players! RSVP below!
URL:https://fortyninercc.com/event/august-team-trivia/
LOCATION:Forty Niner\, 12000 E. Tanque Verde\, Tucson\, AZ\, 85749\, United States
CATEGORIES:Free Community Events
ATTACH;FMTTYPE=image/jpeg:https://fortyninercc.com/wp-content/uploads/2025/07/0813_TeamTrivia.jpg
ORGANIZER;CN="Forty Niner":MAILTO:cklok@fortyninercc.com
END:VEVENT
BEGIN:VEVENT
DTSTART;TZID=America/Denver:20250816T193000
DTEND;TZID=America/Denver:20250816T213000
DTSTAMP:20260423T220953
CREATED:20250715T232532Z
LAST-MODIFIED:20250715T234030Z
UID:3499-1755372600-1755379800@fortyninercc.com
SUMMARY:Forty Niner Summer Dive In Movie - The Princess Bride
DESCRIPTION:As You Wish… It’s Movie Night! 💕🏰💦Float into a fairytale evening at Forty Niner for our Summer Dive-In Movie featuring the beloved classic The Princess Bride! \nDate: Saturday\, August 16th\, 2025 | Time: 7:30 PM – 9:15 PM \nBring your swimsuits\, floats\, and a sense of adventure as we journey through a tale of true love\, sword fights\, giants\, and Rodents of Unusual Size — all while relaxing in the pool under the stars! \nIt’s the perfect night for families to laugh\, cheer\, and enjoy this timeless story that’s “not just mostly dead — it’s entirely delightful.” \nWe promise you’ll have an inconceivably good time! 💘🗡️🌌
URL:https://fortyninercc.com/event/forty-niner-summer-dive-in-movie-the-princess-bride/
LOCATION:Forty Niner\, 12000 E. Tanque Verde\, Tucson\, AZ\, 85749\, United States
CATEGORIES:Free Community Events
ATTACH;FMTTYPE=image/jpeg:https://fortyninercc.com/wp-content/uploads/2025/07/081625_SummerDiveInMovie.jpg
ORGANIZER;CN="Forty Niner":MAILTO:cklok@fortyninercc.com
END:VEVENT
BEGIN:VEVENT
DTSTART;TZID=America/Denver:20250830T193000
DTEND;TZID=America/Denver:20250830T213000
DTSTAMP:20260423T220953
CREATED:20250715T232626Z
LAST-MODIFIED:20250715T234829Z
UID:3501-1756582200-1756589400@fortyninercc.com
SUMMARY:Forty Niner Summer Dive In Movie - Jumanji
DESCRIPTION:Roll the Dice for a Wild Night! 🎲🌴💦Adventure awaits at Forty Niner’s final Summer Dive-In Movie featuring the action-packed classic Jumanji! \nDate: Saturday\, August 30th\, 2025 | Time: 7:30 PM – 9:30 PM \nGrab your swimsuits and floats and dive into a thrilling jungle adventure where the game comes to life — right from the pool! With stampedes\, giant vines\, and wild surprises\, it’s a night full of excitement for the whole family. \nFloat under the stars and enjoy this unforgettable journey that proves sometimes\, you just have to roll with it. \nWe dare you to play… and can’t wait to splash into the wild with you! 🐒🦁🌌
URL:https://fortyninercc.com/event/forty-niner-summer-dive-in-movie-jumanji/
LOCATION:Forty Niner\, 12000 E. Tanque Verde\, Tucson\, AZ\, 85749\, United States
CATEGORIES:Free Community Events
ATTACH;FMTTYPE=image/jpeg:https://fortyninercc.com/wp-content/uploads/2025/07/083025_SummerDiveInMovie.jpg
ORGANIZER;CN="Forty Niner":MAILTO:cklok@fortyninercc.com
END:VEVENT
END:VCALENDAR