BEGIN:VCALENDAR
VERSION:2.0
PRODID:-//Forty Niner - ECPv6.15.20//NONSGML v1.0//EN
CALSCALE:GREGORIAN
METHOD:PUBLISH
X-WR-CALNAME:Forty Niner
X-ORIGINAL-URL:https://fortyninercc.com
X-WR-CALDESC:Events for Forty Niner
REFRESH-INTERVAL;VALUE=DURATION:PT1H
X-Robots-Tag:noindex
X-PUBLISHED-TTL:PT1H
BEGIN:VTIMEZONE
TZID:America/Phoenix
BEGIN:STANDARD
TZOFFSETFROM:-0700
TZOFFSETTO:-0700
TZNAME:MST
DTSTART:20240101T000000
END:STANDARD
END:VTIMEZONE
BEGIN:VEVENT
DTSTART;TZID=America/Phoenix:20251206T160000
DTEND;TZID=America/Phoenix:20251206T220000
DTSTAMP:20260423T150708
CREATED:20251106T222506Z
LAST-MODIFIED:20251106T222506Z
UID:4564-1765036800-1765058400@fortyninercc.com
SUMMARY:Forty Niner Holiday Festival & Annual Tree Lighting
DESCRIPTION:Holiday Festival: Annual Tree Lighting\nGet into the holiday spirit at our Annual Tree Lighting and Holiday Festival! \n\nFriday\, December 6th\, 2025\, from 4:00 PM to 10:00 PM\nTree Lighting: 6:00 PM\n\nJoin us for a festive evening packed with fun for the whole family: \n\n4 PM – 5 PM: FREE Photos with Santa\n4 PM – 8 PM: Kids’ Activities – including a Jump Castle\, Cookie Decorating\, Games\, and Face Painting!\nBrowse our Vendor Market for unique holiday gifts.\nWarm up at the Hot Cocoa Bar.\nEnjoy Live Music throughout the evening:\n\nTVHS Jazz Band: 4 PM – 6 PM\nCaleb Bloom: 7 PM – 8 PM\nDay Trails: 8 PM – 10 PM\n\n\n\nPlease remember to bring one (1) unwrapped toy as a donation to Toys for Tots Arizona and help make a child’s holiday brighter.
URL:https://fortyninercc.com/event/forty-niner-holiday-festival-annual-tree-lighting/
LOCATION:Forty Niner\, 12000 E. Tanque Verde\, Tucson\, AZ\, 85749\, United States
CATEGORIES:Free Community Events
ATTACH;FMTTYPE=image/png:https://fortyninercc.com/wp-content/uploads/2025/10/Holiday-Festival.png
ORGANIZER;CN="Forty Niner":MAILTO:cklok@fortyninercc.com
END:VEVENT
BEGIN:VEVENT
DTSTART;TZID=America/Phoenix:20251217T180000
DTEND;TZID=America/Phoenix:20251217T210000
DTSTAMP:20260423T150708
CREATED:20251203T200714Z
LAST-MODIFIED:20251203T200723Z
UID:4745-1765994400-1766005200@fortyninercc.com
SUMMARY:Team Trivia
DESCRIPTION:Open to everyone. \nGather your smartest friends and get ready for some brain-teasing fun! \nIn the restaurant for teams up to 8 players.
URL:https://fortyninercc.com/event/team-trivia-7/
LOCATION:Forty Niner\, 12000 E. Tanque Verde\, Tucson\, AZ\, 85749\, United States
CATEGORIES:Community Events,Free Community Events
ATTACH;FMTTYPE=image/jpeg:https://fortyninercc.com/wp-content/uploads/2025/12/121725_TeamTrivia.jpg
ORGANIZER;CN="Forty Niner":MAILTO:cklok@fortyninercc.com
END:VEVENT
BEGIN:VEVENT
DTSTART;TZID=America/Phoenix:20251220T180000
DTEND;TZID=America/Phoenix:20251220T200000
DTSTAMP:20260423T150708
CREATED:20251126T200650Z
LAST-MODIFIED:20251126T200650Z
UID:4723-1766253600-1766260800@fortyninercc.com
SUMMARY:Christmas Movie Night - The Polar Express
DESCRIPTION:All aboard! Join us for a cozy\, festive Christmas Movie Night featuring the holiday classic\, The Polar Express! This event is open to everyone. \nMark your calendars for Friday\, December 20\, at 6:00 PM in The Pavilion. \nTo get into the spirit\, we encourage you to wear your warmest pajamas! We will be serving complimentary Hot Cocoa to keep everyone warm while they watch the movie. \nYou’re welcome to bring your own blankets and chairs! | Please RSVP below
URL:https://fortyninercc.com/event/christmas-movie-night-the-polar-express/
LOCATION:Forty Niner\, 12000 E. Tanque Verde\, Tucson\, AZ\, 85749\, United States
CATEGORIES:Free Community Events
ATTACH;FMTTYPE=image/jpeg:https://fortyninercc.com/wp-content/uploads/2025/11/1220_PolarExpressMovieNight.jpg
ORGANIZER;CN="Forty Niner":MAILTO:cklok@fortyninercc.com
END:VEVENT
BEGIN:VEVENT
DTSTART;TZID=America/Phoenix:20251220T180000
DTEND;TZID=America/Phoenix:20251220T210000
DTSTAMP:20260423T150708
CREATED:20251203T201538Z
LAST-MODIFIED:20251203T201546Z
UID:4752-1766253600-1766264400@fortyninercc.com
SUMMARY:LIVE MUSIC – John & Kathleen – The Bar @ Forty Niner
DESCRIPTION:Live Music with John & Kathleen at Forty Niner \nSaturday\, December 20 | 6:00 PM – 9:00 PMCelebrate the season with John & Kathleen! Enjoy an evening of Great American sound book and jazz-influenced contemporary tunes. Bring a blanket or lawn chair and soak up the music and good vibes. \nFree performance for all to enjoy.
URL:https://fortyninercc.com/event/live-music-john-kathleen-the-bar-forty-niner/
LOCATION:Forty Niner\, 12000 E. Tanque Verde\, Tucson\, AZ\, 85749\, United States
CATEGORIES:Free Community Events,Free Live Music
ATTACH;FMTTYPE=image/jpeg:https://fortyninercc.com/wp-content/uploads/2025/12/12.20.26_JohnKathleen-scaled.jpg
ORGANIZER;CN="Forty Niner":MAILTO:cklok@fortyninercc.com
END:VEVENT
END:VCALENDAR