BEGIN:VCALENDAR
VERSION:2.0
PRODID:-//Forty Niner - ECPv6.15.20//NONSGML v1.0//EN
CALSCALE:GREGORIAN
METHOD:PUBLISH
X-ORIGINAL-URL:https://fortyninercc.com
X-WR-CALDESC:Events for Forty Niner
REFRESH-INTERVAL;VALUE=DURATION:PT1H
X-Robots-Tag:noindex
X-PUBLISHED-TTL:PT1H
BEGIN:VTIMEZONE
TZID:America/Denver
BEGIN:DAYLIGHT
TZOFFSETFROM:-0700
TZOFFSETTO:-0600
TZNAME:MDT
DTSTART:20240310T090000
END:DAYLIGHT
BEGIN:STANDARD
TZOFFSETFROM:-0600
TZOFFSETTO:-0700
TZNAME:MST
DTSTART:20241103T080000
END:STANDARD
BEGIN:DAYLIGHT
TZOFFSETFROM:-0700
TZOFFSETTO:-0600
TZNAME:MDT
DTSTART:20250309T090000
END:DAYLIGHT
BEGIN:STANDARD
TZOFFSETFROM:-0600
TZOFFSETTO:-0700
TZNAME:MST
DTSTART:20251102T080000
END:STANDARD
BEGIN:DAYLIGHT
TZOFFSETFROM:-0700
TZOFFSETTO:-0600
TZNAME:MDT
DTSTART:20260308T090000
END:DAYLIGHT
BEGIN:STANDARD
TZOFFSETFROM:-0600
TZOFFSETTO:-0700
TZNAME:MST
DTSTART:20261101T080000
END:STANDARD
END:VTIMEZONE
BEGIN:VEVENT
DTSTART;TZID=America/Denver:20250522T130000
DTEND;TZID=America/Denver:20250522T170000
DTSTAMP:20260424T064739
CREATED:20250429T212349Z
LAST-MODIFIED:20250429T212644Z
UID:2393-1747918800-1747933200@fortyninercc.com
SUMMARY:School's Out Pool Party
DESCRIPTION:Get ready to make a splash and celebrate the end of the school year at our Forty Niner School’s Out Pool Party. Join us for an afternoon of fun in the sun with a fantastic pool party with FREE pizza! \nThis exciting event is perfect for PARENTS + KIDS to unwind and kick off summer break in style. We’re providing free pizza for everyone (while supplies last!)\, so come hungry and ready to enjoy some delicious slices. Adults can also take advantage of special drink offers from the bar window! \nMark your calendars for Thursday\, May 22\, 2025\, and dive into the fun from 1:00 PM to 5:00 PM.
URL:https://fortyninercc.com/event/schools-out-pool-party/
LOCATION:Forty Niner\, 12000 E. Tanque Verde\, Tucson\, AZ\, 85749\, United States
CATEGORIES:Free Community Events
ATTACH;FMTTYPE=image/jpeg:https://fortyninercc.com/wp-content/uploads/2025/04/Colorful-Fun-Summer-Pool-Party-Event-Flyer.jpg
ORGANIZER;CN="Forty Niner":MAILTO:cklok@fortyninercc.com
END:VEVENT
END:VCALENDAR