BEGIN:VCALENDAR
VERSION:2.0
PRODID:-//Forty Niner - ECPv6.15.20//NONSGML v1.0//EN
CALSCALE:GREGORIAN
METHOD:PUBLISH
X-WR-CALNAME:Forty Niner
X-ORIGINAL-URL:https://fortyninercc.com
X-WR-CALDESC:Events for Forty Niner
REFRESH-INTERVAL;VALUE=DURATION:PT1H
X-Robots-Tag:noindex
X-PUBLISHED-TTL:PT1H
BEGIN:VTIMEZONE
TZID:America/Phoenix
BEGIN:STANDARD
TZOFFSETFROM:-0700
TZOFFSETTO:-0700
TZNAME:MST
DTSTART:20240101T000000
END:STANDARD
END:VTIMEZONE
BEGIN:VEVENT
DTSTART;TZID=America/Phoenix:20250531T190000
DTEND;TZID=America/Phoenix:20250531T210000
DTSTAMP:20260424T050707
CREATED:20250501T183022Z
LAST-MODIFIED:20250501T183529Z
UID:2464-1748718000-1748725200@fortyninercc.com
SUMMARY:Forty Niner Summer Dive In Movie - Who Framed Roger Rabbit
DESCRIPTION:Get ready to laugh your cartoon hearts out! 🎬💦 \nJoin us for a splash-tastic Summer Dive In Movie at Forty Niner featuring the hilarious classic \nWho Framed Roger Rabbit! \nMark your calendars for Saturday\, May 31st\, from 7:00 PM to 9:00 PM. \nBring your swimsuits\, your favorite pool floats\, and get ready for a movie night like no other! \nImagine watching Roger Rabbit’s wacky adventures right from the cool comfort of the pool. \nIt’s going to be a toon-tastic evening of fun for the whole family! \nWe can’t wait to see you there for some cinematic splashes and cartoon craziness! 🥕🐰
URL:https://fortyninercc.com/event/forty-niner-summer-dive-in-movie-who-framed-roger-rabbit/
LOCATION:Forty Niner\, 12000 E. Tanque Verde\, Tucson\, AZ\, 85749\, United States
CATEGORIES:Free Community Events
ATTACH;FMTTYPE=image/jpeg:https://fortyninercc.com/wp-content/uploads/2025/05/053125_SummerDiveInMovie1-scaled.jpg
ORGANIZER;CN="Forty Niner":MAILTO:cklok@fortyninercc.com
END:VEVENT
END:VCALENDAR