BEGIN:VCALENDAR
VERSION:2.0
PRODID:-//Forty Niner - ECPv6.15.20//NONSGML v1.0//EN
CALSCALE:GREGORIAN
METHOD:PUBLISH
X-ORIGINAL-URL:https://fortyninercc.com
X-WR-CALDESC:Events for Forty Niner
REFRESH-INTERVAL;VALUE=DURATION:PT1H
X-Robots-Tag:noindex
X-PUBLISHED-TTL:PT1H
BEGIN:VTIMEZONE
TZID:America/Denver
BEGIN:DAYLIGHT
TZOFFSETFROM:-0700
TZOFFSETTO:-0600
TZNAME:MDT
DTSTART:20240310T090000
END:DAYLIGHT
BEGIN:STANDARD
TZOFFSETFROM:-0600
TZOFFSETTO:-0700
TZNAME:MST
DTSTART:20241103T080000
END:STANDARD
BEGIN:DAYLIGHT
TZOFFSETFROM:-0700
TZOFFSETTO:-0600
TZNAME:MDT
DTSTART:20250309T090000
END:DAYLIGHT
BEGIN:STANDARD
TZOFFSETFROM:-0600
TZOFFSETTO:-0700
TZNAME:MST
DTSTART:20251102T080000
END:STANDARD
BEGIN:DAYLIGHT
TZOFFSETFROM:-0700
TZOFFSETTO:-0600
TZNAME:MDT
DTSTART:20260308T090000
END:DAYLIGHT
BEGIN:STANDARD
TZOFFSETFROM:-0600
TZOFFSETTO:-0700
TZNAME:MST
DTSTART:20261101T080000
END:STANDARD
END:VTIMEZONE
BEGIN:VEVENT
DTSTART;TZID=America/Denver:20250830T193000
DTEND;TZID=America/Denver:20250830T213000
DTSTAMP:20260423T235156
CREATED:20250715T232626Z
LAST-MODIFIED:20250715T234829Z
UID:3501-1756582200-1756589400@fortyninercc.com
SUMMARY:Forty Niner Summer Dive In Movie - Jumanji
DESCRIPTION:Roll the Dice for a Wild Night! 🎲🌴💦Adventure awaits at Forty Niner’s final Summer Dive-In Movie featuring the action-packed classic Jumanji! \nDate: Saturday\, August 30th\, 2025 | Time: 7:30 PM – 9:30 PM \nGrab your swimsuits and floats and dive into a thrilling jungle adventure where the game comes to life — right from the pool! With stampedes\, giant vines\, and wild surprises\, it’s a night full of excitement for the whole family. \nFloat under the stars and enjoy this unforgettable journey that proves sometimes\, you just have to roll with it. \nWe dare you to play… and can’t wait to splash into the wild with you! 🐒🦁🌌
URL:https://fortyninercc.com/event/forty-niner-summer-dive-in-movie-jumanji/
LOCATION:Forty Niner\, 12000 E. Tanque Verde\, Tucson\, AZ\, 85749\, United States
CATEGORIES:Free Community Events
ATTACH;FMTTYPE=image/jpeg:https://fortyninercc.com/wp-content/uploads/2025/07/083025_SummerDiveInMovie.jpg
ORGANIZER;CN="Forty Niner":MAILTO:cklok@fortyninercc.com
END:VEVENT
END:VCALENDAR