BEGIN:VCALENDAR
VERSION:2.0
PRODID:-//Forty Niner - ECPv6.15.20//NONSGML v1.0//EN
CALSCALE:GREGORIAN
METHOD:PUBLISH
X-WR-CALNAME:Forty Niner
X-ORIGINAL-URL:https://fortyninercc.com
X-WR-CALDESC:Events for Forty Niner
REFRESH-INTERVAL;VALUE=DURATION:PT1H
X-Robots-Tag:noindex
X-PUBLISHED-TTL:PT1H
BEGIN:VTIMEZONE
TZID:America/Phoenix
BEGIN:STANDARD
TZOFFSETFROM:-0700
TZOFFSETTO:-0700
TZNAME:MST
DTSTART:20250101T000000
END:STANDARD
END:VTIMEZONE
BEGIN:VEVENT
DTSTART;TZID=America/Phoenix:20260123T180000
DTEND;TZID=America/Phoenix:20260123T210000
DTSTAMP:20260423T150848
CREATED:20251226T222654Z
LAST-MODIFIED:20251226T222656Z
UID:4795-1769191200-1769202000@fortyninercc.com
SUMMARY:Karaoke Night – The Bar @ Forty Niner
DESCRIPTION:Karaoke Night\nFriday\, January 23rd | 6:00 PM – 9:00 PM \nGet ready to sing your heart out! Join us for a lively Karaoke Night at the Forty Niner Bar on Friday\, January 23rd. \nIt is FREE to sing\, making it the perfect opportunity to grab the mic\, belt out your favorite tunes\, and be a star for the night! \nFrom pop anthems to classic rock and everything in between\, we have the tracks—you just bring the talent! Bring your friends and make it a memorable evening of music and fun!
URL:https://fortyninercc.com/event/karaoke-night-the-bar-forty-niner-2/
LOCATION:Forty Niner\, 12000 E. Tanque Verde\, Tucson\, AZ\, 85749\, United States
CATEGORIES:Community Events,Free Community Events
ATTACH;FMTTYPE=image/png:https://fortyninercc.com/wp-content/uploads/2025/12/1.23-Karaoke-Night-1920x1080-1.png
ORGANIZER;CN="Forty Niner":MAILTO:cklok@fortyninercc.com
END:VEVENT
END:VCALENDAR