BEGIN:VCALENDAR
VERSION:2.0
PRODID:-//Forty Niner - ECPv6.15.20//NONSGML v1.0//EN
CALSCALE:GREGORIAN
METHOD:PUBLISH
X-ORIGINAL-URL:https://fortyninercc.com
X-WR-CALDESC:Events for Forty Niner
REFRESH-INTERVAL;VALUE=DURATION:PT1H
X-Robots-Tag:noindex
X-PUBLISHED-TTL:PT1H
BEGIN:VTIMEZONE
TZID:America/Phoenix
BEGIN:STANDARD
TZOFFSETFROM:-0700
TZOFFSETTO:-0700
TZNAME:MST
DTSTART:20250101T000000
END:STANDARD
END:VTIMEZONE
BEGIN:VEVENT
DTSTART;TZID=America/Phoenix:20260221T210000
DTEND;TZID=America/Phoenix:20260221T235000
DTSTAMP:20260423T132716
CREATED:20260206T205242Z
LAST-MODIFIED:20260206T205636Z
UID:5052-1771707600-1771717800@fortyninercc.com
SUMMARY:Forty Niner's Third Saturdays
DESCRIPTION:Third Saturdays are your once-a-month excuse to linger a little longer at Forty Niner. On every third Saturday of the month\, we’re keeping the bar open late until 12am for an extra-long night of drinks\, conversation\, and good company. While the kitchen wraps up at 9pm\, the bar keeps the energy going well into the evening. Stop by after dinner\, plan a nightcap with friends\, or make it your go-to late-night hang. Same Forty Niner vibe—just more time to enjoy it.
URL:https://fortyninercc.com/event/forty-niners-third-saturdays/
LOCATION:Forty Niner\, 12000 E. Tanque Verde\, Tucson\, AZ\, 85749\, United States
CATEGORIES:Free Community Events
ATTACH;FMTTYPE=image/jpeg:https://fortyninercc.com/wp-content/uploads/2026/02/Third-SaturdayS-1.jpg
ORGANIZER;CN="Forty Niner":MAILTO:cklok@fortyninercc.com
END:VEVENT
END:VCALENDAR