BEGIN:VCALENDAR
VERSION:2.0
PRODID:-//Forty Niner - ECPv6.15.20//NONSGML v1.0//EN
CALSCALE:GREGORIAN
METHOD:PUBLISH
X-WR-CALNAME:Forty Niner
X-ORIGINAL-URL:https://fortyninercc.com
X-WR-CALDESC:Events for Forty Niner
REFRESH-INTERVAL;VALUE=DURATION:PT1H
X-Robots-Tag:noindex
X-PUBLISHED-TTL:PT1H
BEGIN:VTIMEZONE
TZID:America/Phoenix
BEGIN:STANDARD
TZOFFSETFROM:-0700
TZOFFSETTO:-0700
TZNAME:MST
DTSTART:20250101T000000
END:STANDARD
END:VTIMEZONE
BEGIN:VEVENT
DTSTART;TZID=America/Phoenix:20260521T123000
DTEND;TZID=America/Phoenix:20260521T160000
DTSTAMP:20260425T070543
CREATED:20260424T023505Z
LAST-MODIFIED:20260424T023508Z
UID:5540-1779366600-1779379200@fortyninercc.com
SUMMARY:School's Out Pool Party
DESCRIPTION:Celebrate school being officially out! Time to dive into summer! We’re kicking off the season with a splash\, and you’re invited to the ultimate poolside celebration. We’ll have pizza and drinks free for kids from 12:30pm until 1:30pm. Plus a live DJ and plenty of sunshine for everyone.\nGrab your towels\, bring the kids\, and let’s celebrate the start of summer break together!
URL:https://fortyninercc.com/event/schools-out-pool-party-2/
LOCATION:Forty Niner\, 12000 E. Tanque Verde\, Tucson\, AZ\, 85749\, United States
CATEGORIES:Free Community Events
ATTACH;FMTTYPE=image/jpeg:https://fortyninercc.com/wp-content/uploads/2026/04/05.21.26._SchoolsOutParty.jpg
ORGANIZER;CN="Forty Niner":MAILTO:cklok@fortyninercc.com
END:VEVENT
BEGIN:VEVENT
DTSTART;TZID=America/Phoenix:20260530T193000
DTEND;TZID=America/Phoenix:20260530T210000
DTSTAMP:20260425T070543
CREATED:20260424T030228Z
LAST-MODIFIED:20260424T030243Z
UID:5553-1780169400-1780174800@fortyninercc.com
SUMMARY:Summer Dive-In Movies: The Goonies
DESCRIPTION:“Goonies never say die!” \nCool off and catch a classic! We’re kicking off our Summer Dive-In Movie series with the ultimate adventure\, The Goonies. Bring your floats\, lounge in the pool\, or set up a chair on the deck for a cinematic night under the stars. \nThis event is FREE for all to enjoy\, so bring the whole family down for some poolside nostalgia!
URL:https://fortyninercc.com/event/summer-dive-in-movies-the-goonies/
LOCATION:Forty Niner\, 12000 E. Tanque Verde\, Tucson\, AZ\, 85749\, United States
CATEGORIES:Free Community Events
ATTACH;FMTTYPE=image/jpeg:https://fortyninercc.com/wp-content/uploads/2026/04/053026_DiveInGoonies.jpg
ORGANIZER;CN="Forty Niner":MAILTO:cklok@fortyninercc.com
END:VEVENT
END:VCALENDAR