BEGIN:VCALENDAR
VERSION:2.0
PRODID:-//Forty Niner - ECPv6.15.20//NONSGML v1.0//EN
CALSCALE:GREGORIAN
METHOD:PUBLISH
X-WR-CALNAME:Forty Niner
X-ORIGINAL-URL:https://fortyninercc.com
X-WR-CALDESC:Events for Forty Niner
REFRESH-INTERVAL;VALUE=DURATION:PT1H
X-Robots-Tag:noindex
X-PUBLISHED-TTL:PT1H
BEGIN:VTIMEZONE
TZID:UTC
BEGIN:STANDARD
TZOFFSETFROM:+0000
TZOFFSETTO:+0000
TZNAME:UTC
DTSTART:20240101T000000
END:STANDARD
END:VTIMEZONE
BEGIN:VEVENT
DTSTART;TZID=UTC:20250103T170000
DTEND;TZID=UTC:20250103T200000
DTSTAMP:20260424T134247
CREATED:20250102T234054Z
LAST-MODIFIED:20250102T234054Z
UID:846-1735923600-1735934400@fortyninercc.com
SUMMARY:LIVE MUSIC - Coyote Road - The Bar @ Forty Niner
DESCRIPTION:Join us in welcoming back one of our favorites\, Coyote Road! Cover band from Tucson\, AZ consisting of Alexis Burrows\, Tim Burrows\, Crystal Brunelle\, and Jeremy S.
URL:https://fortyninercc.com/event/live-music-coyote-road-the-bar-forty-niner/
LOCATION:Forty Niner\, 12000 E. Tanque Verde\, Tucson\, AZ\, 85749\, United States
CATEGORIES:Free Live Music,Restaurant Events
ATTACH;FMTTYPE=image/jpeg:https://fortyninercc.com/wp-content/uploads/2025/01/010325_CoyoteRoad.jpg
ORGANIZER;CN="Forty Niner":MAILTO:cklok@fortyninercc.com
END:VEVENT
BEGIN:VEVENT
DTSTART;TZID=UTC:20250104T140000
DTEND;TZID=UTC:20250104T170000
DTSTAMP:20260424T134247
CREATED:20250102T234624Z
LAST-MODIFIED:20250102T234624Z
UID:852-1735999200-1736010000@fortyninercc.com
SUMMARY:LIVE MUSIC - Lucy Hrin & The Grackles
DESCRIPTION:Playing popular 60s\, 70s and 80s boomer era top hits lion the stage! Great dance band playing songs you know and love but don’t hear very often.
URL:https://fortyninercc.com/event/live-music-lucy-hrin-the-grackles/
LOCATION:Forty Niner\, 12000 E. Tanque Verde\, Tucson\, AZ\, 85749\, United States
CATEGORIES:Free Live Music
ATTACH;FMTTYPE=image/jpeg:https://fortyninercc.com/wp-content/uploads/2025/01/010425_LucyHrin.jpg
ORGANIZER;CN="Forty Niner":MAILTO:cklok@fortyninercc.com
END:VEVENT
BEGIN:VEVENT
DTSTART;TZID=UTC:20250110T170000
DTEND;TZID=UTC:20250110T200000
DTSTAMP:20260424T134247
CREATED:20250102T234819Z
LAST-MODIFIED:20250102T234819Z
UID:855-1736528400-1736539200@fortyninercc.com
SUMMARY:LIVE MUSIC - Bucky Mills
DESCRIPTION:One of our Favorites\, Bucky Mills! Solo musician based out of Southern Arizona. Playing live originals and your favorite folk and country covers!
URL:https://fortyninercc.com/event/live-music-bucky-mills/
LOCATION:Forty Niner\, 12000 E. Tanque Verde\, Tucson\, AZ\, 85749\, United States
CATEGORIES:Free Live Music
ATTACH;FMTTYPE=image/jpeg:https://fortyninercc.com/wp-content/uploads/2025/01/011025_BuckyMills.jpg
ORGANIZER;CN="Forty Niner":MAILTO:cklok@fortyninercc.com
END:VEVENT
BEGIN:VEVENT
DTSTART;TZID=UTC:20250118T140000
DTEND;TZID=UTC:20250118T170000
DTSTAMP:20260424T134247
CREATED:20250102T234948Z
LAST-MODIFIED:20250102T234948Z
UID:858-1737208800-1737219600@fortyninercc.com
SUMMARY:LIVE MUSIC - Paul Opocensky Project
DESCRIPTION:We always love him! Singer/songwriter Paul Opocensky\, Maker of Acoustic Americana Grunge Music back live on the stage!
URL:https://fortyninercc.com/event/live-music-paul-opocensky-project/
LOCATION:Forty Niner\, 12000 E. Tanque Verde\, Tucson\, AZ\, 85749\, United States
CATEGORIES:Free Live Music
ATTACH;FMTTYPE=image/jpeg:https://fortyninercc.com/wp-content/uploads/2025/01/012825_PaulOpocensky.jpg
ORGANIZER;CN="Forty Niner":MAILTO:cklok@fortyninercc.com
END:VEVENT
BEGIN:VEVENT
DTSTART;TZID=UTC:20250124T170000
DTEND;TZID=UTC:20250124T200000
DTSTAMP:20260424T134247
CREATED:20250102T235102Z
LAST-MODIFIED:20250102T235103Z
UID:861-1737738000-1737748800@fortyninercc.com
SUMMARY:LIVE MUSIC - Caleb Bloom
DESCRIPTION:Welcoming back to the stage at The Bar @ Forty Niner is neighborhood legend\, Caleb Bloom. Country covers of all your favorites!
URL:https://fortyninercc.com/event/live-music-caleb-bloom/
LOCATION:Forty Niner\, 12000 E. Tanque Verde\, Tucson\, AZ\, 85749\, United States
CATEGORIES:Free Live Music
ATTACH;FMTTYPE=image/jpeg:https://fortyninercc.com/wp-content/uploads/2025/01/012425_CalebBloom.jpg
ORGANIZER;CN="Forty Niner":MAILTO:cklok@fortyninercc.com
END:VEVENT
END:VCALENDAR