BEGIN:VCALENDAR
VERSION:2.0
PRODID:-//Forty Niner - ECPv6.15.20//NONSGML v1.0//EN
CALSCALE:GREGORIAN
METHOD:PUBLISH
X-WR-CALNAME:Forty Niner
X-ORIGINAL-URL:https://fortyninercc.com
X-WR-CALDESC:Events for Forty Niner
REFRESH-INTERVAL;VALUE=DURATION:PT1H
X-Robots-Tag:noindex
X-PUBLISHED-TTL:PT1H
BEGIN:VTIMEZONE
TZID:UTC
BEGIN:STANDARD
TZOFFSETFROM:+0000
TZOFFSETTO:+0000
TZNAME:UTC
DTSTART:20240101T000000
END:STANDARD
END:VTIMEZONE
BEGIN:VEVENT
DTSTART;TZID=UTC:20250307T180000
DTEND;TZID=UTC:20250307T210000
DTSTAMP:20260424T064329
CREATED:20250221T032211Z
LAST-MODIFIED:20250221T032211Z
UID:1551-1741370400-1741381200@fortyninercc.com
SUMMARY:LIVE MUSIC - Bucky Mills - The Bar @ Forty Niner
DESCRIPTION:Get ready for an unforgettable night of music as we welcome back the one and only Bucky Mills to The Bar @ Forty Niner!
URL:https://fortyninercc.com/event/live-music-bucky-mills-the-bar-forty-niner-2/
LOCATION:Forty Niner\, 12000 E. Tanque Verde\, Tucson\, AZ\, 85749\, United States
CATEGORIES:Free Community Events,Free Live Music
ATTACH;FMTTYPE=image/jpeg:https://fortyninercc.com/wp-content/uploads/2025/02/0307_BuckyMills.jpg
ORGANIZER;CN="Forty Niner":MAILTO:cklok@fortyninercc.com
END:VEVENT
BEGIN:VEVENT
DTSTART;TZID=UTC:20250308T150000
DTEND;TZID=UTC:20250308T180000
DTSTAMP:20260424T064329
CREATED:20250221T025531Z
LAST-MODIFIED:20250221T025531Z
UID:1533-1741446000-1741456800@fortyninercc.com
SUMMARY:LIVE MUSIC - Jacob Acosta Duo - The Bar @ Forty Niner
DESCRIPTION:Get ready to groove with Jacob Acosta\, the human jukebox\, as he takes the stage at The Bar @ Forty Niner!\nThis multi-talented musician is known for his incredible versatility and ability to connect with audiences of all ages. With a degree in classical guitar and a passion for exploring various genres\, Jacob has mastered everything from blues rock and indie-shoegaze to pop\, deep house\, progressive house\, organic house\, americana\, and folk. He’s even been known to sing in up to four different languages!\nDon’t miss this opportunity to experience the incredible talent of Jacob Acosta as he brings his unique blend of musical styles and infectious energy to The Bar @ Forty Niner. Get ready for a night of dancing\, singing\, and celebrating the power of music to connect us all!
URL:https://fortyninercc.com/event/live-music-jacob-acosta-duo-the-bar-forty-niner/
LOCATION:Forty Niner\, 12000 E. Tanque Verde\, Tucson\, AZ\, 85749\, United States
CATEGORIES:Free Community Events,Free Live Music
ATTACH;FMTTYPE=image/jpeg:https://fortyninercc.com/wp-content/uploads/2025/02/0308_JacobAcosta.jpg
ORGANIZER;CN="Forty Niner":MAILTO:cklok@fortyninercc.com
END:VEVENT
BEGIN:VEVENT
DTSTART;TZID=UTC:20250314T170000
DTEND;TZID=UTC:20250314T200000
DTSTAMP:20260424T064329
CREATED:20250221T030227Z
LAST-MODIFIED:20250227T034631Z
UID:1539-1741971600-1741982400@fortyninercc.com
SUMMARY:LIVE MUSIC - Coyote Road - The Bar @ Forty Niner
DESCRIPTION:Coyote Road is back! Prepare for a night of country music so good\, your boots will start dancing on their own. The Bar @ Forty Niner\, be there or be square! 
URL:https://fortyninercc.com/event/live-music-tommy-p-the-bar-forty-niner-2/
LOCATION:Forty Niner\, 12000 E. Tanque Verde\, Tucson\, AZ\, 85749\, United States
CATEGORIES:Free Community Events,Free Live Music
ATTACH;FMTTYPE=image/jpeg:https://fortyninercc.com/wp-content/uploads/2025/02/0314_CoyoteRoad.jpg
ORGANIZER;CN="Forty Niner":MAILTO:cklok@fortyninercc.com
END:VEVENT
BEGIN:VEVENT
DTSTART;TZID=UTC:20250321T180000
DTEND;TZID=UTC:20250321T210000
DTSTAMP:20260424T064329
CREATED:20250221T030706Z
LAST-MODIFIED:20250221T030707Z
UID:1542-1742580000-1742590800@fortyninercc.com
SUMMARY:LIVE MUSIC - Paul Opocensky Project - The Bar @ Forty Niner
DESCRIPTION:Get ready to groove! Paul Opocensky Project is back at The Bar @ Forty Niner for a night of electrifying live music!
URL:https://fortyninercc.com/event/live-music-paul-opocensky-project-the-bar-forty-niner-2/
LOCATION:Forty Niner\, 12000 E. Tanque Verde\, Tucson\, AZ\, 85749\, United States
CATEGORIES:Free Community Events,Free Live Music
ATTACH;FMTTYPE=image/jpeg:https://fortyninercc.com/wp-content/uploads/2025/02/032125_PaulOpocensky.jpg
ORGANIZER;CN="Forty Niner":MAILTO:cklok@fortyninercc.com
END:VEVENT
BEGIN:VEVENT
DTSTART;TZID=UTC:20250328T180000
DTEND;TZID=UTC:20250328T210000
DTSTAMP:20260424T064329
CREATED:20250221T031353Z
LAST-MODIFIED:20250221T031353Z
UID:1545-1743184800-1743195600@fortyninercc.com
SUMMARY:LIVE MUSIC - Caleb Bloom - The Bar @ Forty Niner
DESCRIPTION:Welcoming back to the stage at The Bar @ Forty Niner is neighborhood legend\, Caleb Bloom. Country covers of all your favorites!
URL:https://fortyninercc.com/event/live-music-caleb-bloom-the-bar-forty-niner/
LOCATION:Forty Niner\, 12000 E. Tanque Verde\, Tucson\, AZ\, 85749\, United States
CATEGORIES:Free Community Events,Free Live Music
ATTACH;FMTTYPE=image/jpeg:https://fortyninercc.com/wp-content/uploads/2025/02/0328_CalebBloom.jpg
ORGANIZER;CN="Forty Niner":MAILTO:cklok@fortyninercc.com
END:VEVENT
BEGIN:VEVENT
DTSTART;TZID=UTC:20250329T150000
DTEND;TZID=UTC:20250329T180000
DTSTAMP:20260424T064329
CREATED:20250221T031836Z
LAST-MODIFIED:20250221T031837Z
UID:1548-1743260400-1743271200@fortyninercc.com
SUMMARY:LIVE MUSIC - Jack Bishop - The Bar @ Forty Niner
DESCRIPTION:Join us in welcoming back Jack Bishop! Jack is a Tucson Country Music icon.
URL:https://fortyninercc.com/event/live-music-jack-bishop-the-bar-forty-niner/
LOCATION:Forty Niner\, 12000 E. Tanque Verde\, Tucson\, AZ\, 85749\, United States
CATEGORIES:Free Community Events,Free Live Music
ATTACH;FMTTYPE=image/jpeg:https://fortyninercc.com/wp-content/uploads/2025/02/0329_JackBishop.jpg
ORGANIZER;CN="Forty Niner":MAILTO:cklok@fortyninercc.com
END:VEVENT
END:VCALENDAR