BEGIN:VCALENDAR
VERSION:2.0
PRODID:-//Forty Niner - ECPv6.15.20//NONSGML v1.0//EN
CALSCALE:GREGORIAN
METHOD:PUBLISH
X-ORIGINAL-URL:https://fortyninercc.com
X-WR-CALDESC:Events for Forty Niner
REFRESH-INTERVAL;VALUE=DURATION:PT1H
X-Robots-Tag:noindex
X-PUBLISHED-TTL:PT1H
BEGIN:VTIMEZONE
TZID:America/Denver
BEGIN:DAYLIGHT
TZOFFSETFROM:-0700
TZOFFSETTO:-0600
TZNAME:MDT
DTSTART:20240310T090000
END:DAYLIGHT
BEGIN:STANDARD
TZOFFSETFROM:-0600
TZOFFSETTO:-0700
TZNAME:MST
DTSTART:20241103T080000
END:STANDARD
BEGIN:DAYLIGHT
TZOFFSETFROM:-0700
TZOFFSETTO:-0600
TZNAME:MDT
DTSTART:20250309T090000
END:DAYLIGHT
BEGIN:STANDARD
TZOFFSETFROM:-0600
TZOFFSETTO:-0700
TZNAME:MST
DTSTART:20251102T080000
END:STANDARD
BEGIN:DAYLIGHT
TZOFFSETFROM:-0700
TZOFFSETTO:-0600
TZNAME:MDT
DTSTART:20260308T090000
END:DAYLIGHT
BEGIN:STANDARD
TZOFFSETFROM:-0600
TZOFFSETTO:-0700
TZNAME:MST
DTSTART:20261101T080000
END:STANDARD
END:VTIMEZONE
BEGIN:VEVENT
DTSTART;TZID=America/Denver:20250606T190000
DTEND;TZID=America/Denver:20250606T210000
DTSTAMP:20260424T034447
CREATED:20250529T190910Z
LAST-MODIFIED:20250530T181149Z
UID:2766-1749236400-1749243600@fortyninercc.com
SUMMARY:DJ By The Pool – Guest DJ – PICO DE GALLO
DESCRIPTION:Get ready to groove poolside at Forty Niner! \nJoin us Friday\, June 6th\, 7:00-9:00 PM for a vibrant evening with guest DJ Pico De Gallo spinning the tunes. \nWhen the sun sets\, we turn up — join us for a night of music under the stars.
URL:https://fortyninercc.com/event/dj-by-the-pool-guest-dj-pico-de-gallo/
LOCATION:Forty Niner\, 12000 E. Tanque Verde\, Tucson\, AZ\, 85749\, United States
CATEGORIES:Free Live Music
ATTACH;FMTTYPE=image/jpeg:https://fortyninercc.com/wp-content/uploads/2025/05/Pico-De-Gallo-Summer-Pool-Party-Mobile-Video.jpg
ORGANIZER;CN="Forty Niner":MAILTO:cklok@fortyninercc.com
END:VEVENT
BEGIN:VEVENT
DTSTART;TZID=America/Denver:20250613T190000
DTEND;TZID=America/Denver:20250613T210000
DTSTAMP:20260424T034447
CREATED:20250529T191208Z
LAST-MODIFIED:20250530T180125Z
UID:2770-1749841200-1749848400@fortyninercc.com
SUMMARY:DJ By The Pool – Guest DJ – WALTERS THE DON
DESCRIPTION:Get ready to groove poolside at Forty Niner \nJoin us Friday\, June 13th\, 7:00-9:00 PM for a vibrant evening with guest DJ Walters The Don spinning disco\, house with some 70’s-80’s classics like Earth\, Wind & Fire\, Michael Jackson\, Abba\, and more! \nFrom greens to grooves — experience the course like never before!
URL:https://fortyninercc.com/event/dj-by-the-pool-guest-dj-walters-the-don/
LOCATION:Forty Niner\, 12000 E. Tanque Verde\, Tucson\, AZ\, 85749\, United States
CATEGORIES:Free Live Music
ATTACH;FMTTYPE=image/jpeg:https://fortyninercc.com/wp-content/uploads/2025/05/Walters-The-Don-Summer-Pool-Party-Mobile-Video.jpg
ORGANIZER;CN="Forty Niner":MAILTO:cklok@fortyninercc.com
END:VEVENT
BEGIN:VEVENT
DTSTART;TZID=America/Denver:20250620T190000
DTEND;TZID=America/Denver:20250620T210000
DTSTAMP:20260424T034447
CREATED:20250529T190415Z
LAST-MODIFIED:20250530T180616Z
UID:2762-1750446000-1750453200@fortyninercc.com
SUMMARY:DJ By The Pool – Guest DJ – SAN ANDREAS
DESCRIPTION:Get ready to groove poolside at Forty Niner! \nJoin us Friday\, June 20th\, 7:00-9:00 PM for a vibrant evening with guest DJ San Andreas spinning the best house and disco tunes. \nThe music’s calling. The stars are out. The night is yours.
URL:https://fortyninercc.com/event/dj-by-the-pool-guest-dj-san-andreas-2/
LOCATION:Forty Niner\, 12000 E. Tanque Verde\, Tucson\, AZ\, 85749\, United States
CATEGORIES:Free Live Music
ATTACH;FMTTYPE=image/jpeg:https://fortyninercc.com/wp-content/uploads/2025/05/San-Andreas-Summer-Pool-Party-Mobile-Video.jpg
ORGANIZER;CN="Forty Niner":MAILTO:cklok@fortyninercc.com
END:VEVENT
BEGIN:VEVENT
DTSTART;TZID=America/Denver:20250627T190000
DTEND;TZID=America/Denver:20250627T210000
DTSTAMP:20260424T034447
CREATED:20250529T192012Z
LAST-MODIFIED:20250530T181946Z
UID:2773-1751050800-1751058000@fortyninercc.com
SUMMARY:DJ By The Pool – Guest DJ – ZURI J
DESCRIPTION:Get ready to groove poolside at Forty Niner! \nJoin us Friday\, June 27th\, 7:00-9:00 PM for a vibrant evening with guest DJ Zuri J spinning the best house and disco tunes. \nWhere the fairways fade\, the night begins — dance under the desert stars
URL:https://fortyninercc.com/event/dj-by-the-pool-guest-dj-zuri-j/
LOCATION:Forty Niner\, 12000 E. Tanque Verde\, Tucson\, AZ\, 85749\, United States
CATEGORIES:Free Live Music
ATTACH;FMTTYPE=image/jpeg:https://fortyninercc.com/wp-content/uploads/2025/05/Dj-Zuri-J-Summer-Pool-Party-Mobile-Video.jpg
ORGANIZER;CN="Forty Niner":MAILTO:cklok@fortyninercc.com
END:VEVENT
END:VCALENDAR