BEGIN:VCALENDAR
VERSION:2.0
PRODID:-//Forty Niner - ECPv6.15.20//NONSGML v1.0//EN
CALSCALE:GREGORIAN
METHOD:PUBLISH
X-WR-CALNAME:Forty Niner
X-ORIGINAL-URL:https://fortyninercc.com
X-WR-CALDESC:Events for Forty Niner
REFRESH-INTERVAL;VALUE=DURATION:PT1H
X-Robots-Tag:noindex
X-PUBLISHED-TTL:PT1H
BEGIN:VTIMEZONE
TZID:America/Denver
BEGIN:DAYLIGHT
TZOFFSETFROM:-0700
TZOFFSETTO:-0600
TZNAME:MDT
DTSTART:20240310T090000
END:DAYLIGHT
BEGIN:STANDARD
TZOFFSETFROM:-0600
TZOFFSETTO:-0700
TZNAME:MST
DTSTART:20241103T080000
END:STANDARD
BEGIN:DAYLIGHT
TZOFFSETFROM:-0700
TZOFFSETTO:-0600
TZNAME:MDT
DTSTART:20250309T090000
END:DAYLIGHT
BEGIN:STANDARD
TZOFFSETFROM:-0600
TZOFFSETTO:-0700
TZNAME:MST
DTSTART:20251102T080000
END:STANDARD
BEGIN:DAYLIGHT
TZOFFSETFROM:-0700
TZOFFSETTO:-0600
TZNAME:MDT
DTSTART:20260308T090000
END:DAYLIGHT
BEGIN:STANDARD
TZOFFSETFROM:-0600
TZOFFSETTO:-0700
TZNAME:MST
DTSTART:20261101T080000
END:STANDARD
END:VTIMEZONE
BEGIN:VTIMEZONE
TZID:America/Phoenix
BEGIN:STANDARD
TZOFFSETFROM:-0700
TZOFFSETTO:-0700
TZNAME:MST
DTSTART:20240101T000000
END:STANDARD
END:VTIMEZONE
BEGIN:VEVENT
DTSTART;TZID=America/Denver:20250912T190000
DTEND;TZID=America/Denver:20250912T210000
DTSTAMP:20260423T201839
CREATED:20250723T204540Z
LAST-MODIFIED:20250908T200256Z
UID:3704-1757703600-1757710800@fortyninercc.com
SUMMARY:LIVE MUSIC - SORE!
DESCRIPTION:Join us for an evening of live music with the artist Sore! on the stage at Forty Niner. \nOn Friday\, September 12\, from 7:00 PM to 9:00 PM\, prepare to be moved as Sore! takes you on an emotional journey\, exploring the depths of feeling through poignant lyrics and heartfelt compositions. Come enjoy a night of powerful and expressive music in a cozy atmosphere. \nFree for all to enjoy. Blanket and lawn chairs are always welcomed.
URL:https://fortyninercc.com/event/live-music-sore-the-bar-forty-niner/
LOCATION:Forty Niner\, 12000 E. Tanque Verde\, Tucson\, AZ\, 85749\, United States
CATEGORIES:Free Live Music
ATTACH;FMTTYPE=image/jpeg:https://fortyninercc.com/wp-content/uploads/2025/07/09.12.25_Sore.jpg
ORGANIZER;CN="Forty Niner":MAILTO:cklok@fortyninercc.com
END:VEVENT
BEGIN:VEVENT
DTSTART;TZID=America/Phoenix:20250913T180000
DTEND;TZID=America/Phoenix:20250913T210000
DTSTAMP:20260423T201839
CREATED:20250827T205730Z
LAST-MODIFIED:20250908T204502Z
UID:3985-1757786400-1757797200@fortyninercc.com
SUMMARY:LIVE MUSIC - Paul Opocensky Project
DESCRIPTION:Join us for an evening of live music with the Paul Opocensky Project on the stage at Forty Niner. \nOn Saturday\, September 13\, from 6:00 PM to 9:00 PM\, prepare to be moved by a broad spectrum of authentic and soulful rock and folk songs. As a true blue-collar singer/songwriter\, Paul Opocensky shares his take on life\, love\, faith\, family\, loss\, and redemption through his music\, drawing on a rich history that includes his time with the hard rock band Tongue Dried Sun. \nThis is a free performance for all to enjoy. Blankets and lawn chairs are always welcome.
URL:https://fortyninercc.com/event/live-music-paul-opocensky-project-the-bar-forty-niner-6/
LOCATION:Forty Niner\, 12000 E. Tanque Verde\, Tucson\, AZ\, 85749\, United States
CATEGORIES:Free Live Music
ATTACH;FMTTYPE=image/jpeg:https://fortyninercc.com/wp-content/uploads/2025/08/09.13.25_PaulOpocenskyProject.jpg
ORGANIZER;CN="Forty Niner":MAILTO:cklok@fortyninercc.com
END:VEVENT
BEGIN:VEVENT
DTSTART;TZID=America/Phoenix:20250919T190000
DTEND;TZID=America/Phoenix:20250919T210000
DTSTAMP:20260423T201839
CREATED:20250814T220214Z
LAST-MODIFIED:20250908T210424Z
UID:3893-1758308400-1758315600@fortyninercc.com
SUMMARY:LIVE MUSIC – Coyote Road
DESCRIPTION:Join us for an evening of live music with the band Coyote Road on the stage at Forty Niner. \nOn Friday\, September 19\, from 7:00 PM to 9:00 PM\, get ready to enjoy a fantastic mix of country and classic rock covers. This Tucson-based band features Alexis Burrows on lead vocals and keys\, Tim Burrows on bass\, Crystal Brunelle on lead guitar\, and Jeremy Schneider on drums. \nCome on out for a night of great music and good times!
URL:https://fortyninercc.com/event/live-music-coyote-road-the-bar-forty-niner-3/
LOCATION:Forty Niner\, 12000 E. Tanque Verde\, Tucson\, AZ\, 85749\, United States
CATEGORIES:Free Live Music
ATTACH;FMTTYPE=image/jpeg:https://fortyninercc.com/wp-content/uploads/2025/08/09.19.25_PaulOpocenskyProject.jpg
ORGANIZER;CN="Forty Niner":MAILTO:cklok@fortyninercc.com
END:VEVENT
BEGIN:VEVENT
DTSTART;TZID=America/Phoenix:20250920T180000
DTEND;TZID=America/Phoenix:20250920T210000
DTSTAMP:20260423T201839
CREATED:20250827T205202Z
LAST-MODIFIED:20250908T211209Z
UID:3979-1758391200-1758402000@fortyninercc.com
SUMMARY:LIVE MUSIC - The Cherry Springers
DESCRIPTION:Join us for an evening of live music with the Cherry Springers on the stage at Forty Niner. \nOn Saturday\, September 20\, from 6:00 PM to 9:00 PM\, get ready to enjoy a fantastic performance from this rock pop duo from Southern Arizona. \nCome on out for a night of great music and good times!
URL:https://fortyninercc.com/event/live-music-cherry-springer-the-bar-forty-niner/
LOCATION:Forty Niner\, 12000 E. Tanque Verde\, Tucson\, AZ\, 85749\, United States
CATEGORIES:Free Live Music
ATTACH;FMTTYPE=image/jpeg:https://fortyninercc.com/wp-content/uploads/2025/08/09.20.25_CherrySpringers.jpg
ORGANIZER;CN="Forty Niner":MAILTO:cklok@fortyninercc.com
END:VEVENT
BEGIN:VEVENT
DTSTART;TZID=America/Phoenix:20250926T190000
DTEND;TZID=America/Phoenix:20250926T210000
DTSTAMP:20260423T201839
CREATED:20250827T205003Z
LAST-MODIFIED:20250909T010336Z
UID:3976-1758913200-1758920400@fortyninercc.com
SUMMARY:LIVE MUSIC - Keila & Charles
DESCRIPTION:Join us for an evening of live music with the talented duo Keila & Charles on the stage at Forty Niner. \nOn Friday\, September 26\, from 7:00 PM to 9:00 PM\, prepare to be touched by music that’s both lyrical and emotional. Keila is a seasoned singer/songwriter with a passion for connecting with people through music. With over 15 years of experience\, she’s a familiar face in the local Tucson music scene\, known for her work with ‘The Buckboard Band’ and her own band ‘Dust&Rain.’ \nCome on out for a night of heartfelt music and good times!
URL:https://fortyninercc.com/event/live-music-keila-charles-the-bar-forty-niner-3/
LOCATION:Forty Niner\, 12000 E. Tanque Verde\, Tucson\, AZ\, 85749\, United States
CATEGORIES:Free Live Music
ATTACH;FMTTYPE=image/jpeg:https://fortyninercc.com/wp-content/uploads/2025/08/09.26.25_KeilaCharles.jpg
ORGANIZER;CN="Forty Niner":MAILTO:cklok@fortyninercc.com
END:VEVENT
END:VCALENDAR