BEGIN:VCALENDAR
VERSION:2.0
PRODID:-//Forty Niner - ECPv6.15.20//NONSGML v1.0//EN
CALSCALE:GREGORIAN
METHOD:PUBLISH
X-ORIGINAL-URL:https://fortyninercc.com
X-WR-CALDESC:Events for Forty Niner
REFRESH-INTERVAL;VALUE=DURATION:PT1H
X-Robots-Tag:noindex
X-PUBLISHED-TTL:PT1H
BEGIN:VTIMEZONE
TZID:America/Phoenix
BEGIN:STANDARD
TZOFFSETFROM:-0700
TZOFFSETTO:-0700
TZNAME:MST
DTSTART:20240101T000000
END:STANDARD
END:VTIMEZONE
BEGIN:VEVENT
DTSTART;TZID=America/Phoenix:20251003T190000
DTEND;TZID=America/Phoenix:20251003T210000
DTSTAMP:20260423T183033
CREATED:20250827T184732Z
LAST-MODIFIED:20250909T014826Z
UID:3970-1759518000-1759525200@fortyninercc.com
SUMMARY:LIVE MUSIC - Keila & Charles
DESCRIPTION:Join us for a back to back weekend of the talented duo Keila & Charles on the stage at Forty Niner. \nOn Friday\, October 3\, from 7:00 PM to 9:00 PM\, prepare to be touched by music that’s both lyrical and emotional. Keila is a seasoned singer/songwriter with a passion for connecting with people through music. With over 15 years of experience\, she’s a familiar face in the local Tucson music scene\, known for her work with ‘The Buckboard Band’ and her own band ‘Dust&Rain.’ \nCome on out for a night of heartfelt music and good times!
URL:https://fortyninercc.com/event/live-music-keila-charles-the-bar-forty-niner-2/
LOCATION:Forty Niner\, 12000 E. Tanque Verde\, Tucson\, AZ\, 85749\, United States
CATEGORIES:Free Live Music
ATTACH;FMTTYPE=image/jpeg:https://fortyninercc.com/wp-content/uploads/2025/08/10.03.25_KeilaCharles.jpg
ORGANIZER;CN="Forty Niner":MAILTO:cklok@fortyninercc.com
END:VEVENT
BEGIN:VEVENT
DTSTART;TZID=America/Phoenix:20251010T180000
DTEND;TZID=America/Phoenix:20251010T200000
DTSTAMP:20260423T183033
CREATED:20250827T184526Z
LAST-MODIFIED:20250909T015940Z
UID:3967-1760119200-1760126400@fortyninercc.com
SUMMARY:LIVE MUSIC - Paul Opocensky Project
DESCRIPTION:Join us for an evening of live music with the Paul Opocensky Project on the stage at Forty Niner. \nOn Friday\, October 10\, from 6:00 PM to 8:00 PM\, prepare to be moved by a broad spectrum of authentic and soulful rock and folk songs. As a true blue-collar singer/songwriter\, Paul Opocensky shares his take on life\, love\, faith\, family\, loss\, and redemption through his music\, drawing on a rich history that includes his time with the hard rock band Tongue Dried Sun. \nThis is a free performance for all to enjoy. Blankets and lawn chairs are always welcome.
URL:https://fortyninercc.com/event/live-music-paul-opocensky-project-the-bar-forty-niner-5/
LOCATION:Forty Niner\, 12000 E. Tanque Verde\, Tucson\, AZ\, 85749\, United States
CATEGORIES:Free Live Music
ATTACH;FMTTYPE=image/jpeg:https://fortyninercc.com/wp-content/uploads/2025/08/10.10.25_PaulOpocenskyProject.jpg
ORGANIZER;CN="Forty Niner":MAILTO:cklok@fortyninercc.com
END:VEVENT
BEGIN:VEVENT
DTSTART;TZID=America/Phoenix:20251017T180000
DTEND;TZID=America/Phoenix:20251017T210000
DTSTAMP:20260423T183033
CREATED:20251014T191531Z
LAST-MODIFIED:20251014T194925Z
UID:4425-1760724000-1760734800@fortyninercc.com
SUMMARY:LIVE MUSIC - Gary Roberts
DESCRIPTION:Join us for an evening of live music with Gary Robertys on the stage at Forty Niner. \nOn Friday\, October 17\, from 6:00 PM to 9:00 PM\, prepare to be moved by his acoustic set. As a talented singer-songwriter\, Ben Tully shares his take on life through his music\, performing a mix of covers and originals. His soulful vocals and skilled guitar work create an engaging and intimate atmosphere you won’t want to miss. \nThis is a free performance for all to enjoy. Blankets and lawn chairs are always welcome
URL:https://fortyninercc.com/event/live-music-gary-roberts/
LOCATION:Forty Niner\, 12000 E. Tanque Verde\, Tucson\, AZ\, 85749\, United States
CATEGORIES:Free Live Music
ATTACH;FMTTYPE=image/jpeg:https://fortyninercc.com/wp-content/uploads/2025/10/10.17.25_GaryRoberts.jpg
ORGANIZER;CN="Forty Niner":MAILTO:cklok@fortyninercc.com
END:VEVENT
BEGIN:VEVENT
DTSTART;TZID=America/Phoenix:20251018T180000
DTEND;TZID=America/Phoenix:20251018T210000
DTSTAMP:20260423T183033
CREATED:20251001T220837Z
LAST-MODIFIED:20251001T220841Z
UID:4320-1760810400-1760821200@fortyninercc.com
SUMMARY:LIVE MUSIC - Ben Tully
DESCRIPTION:Join us for an evening of live music with Ben Tully on the stage at Forty Niner. \nOn Saturday\, October 18\, from 6:00 PM to 9:00 PM\, prepare to be moved by his acoustic set. As a talented singer-songwriter\, Ben Tully shares his take on life through his music\, performing a mix of covers and originals. His soulful vocals and skilled guitar work create an engaging and intimate atmosphere you won’t want to miss. \nThis is a free performance for all to enjoy. Blankets and lawn chairs are always welcome.
URL:https://fortyninercc.com/event/live-music-ben-tully/
LOCATION:Forty Niner\, 12000 E. Tanque Verde\, Tucson\, AZ\, 85749\, United States
CATEGORIES:Free Community Events,Free Live Music
ATTACH;FMTTYPE=image/jpeg:https://fortyninercc.com/wp-content/uploads/2025/10/10.18.25_BenTully.jpg
ORGANIZER;CN="Forty Niner":MAILTO:cklok@fortyninercc.com
END:VEVENT
BEGIN:VEVENT
DTSTART;TZID=America/Phoenix:20251025T180000
DTEND;TZID=America/Phoenix:20251025T210000
DTSTAMP:20260423T183033
CREATED:20251021T205905Z
LAST-MODIFIED:20251021T205905Z
UID:4480-1761415200-1761426000@fortyninercc.com
SUMMARY:LIVE MUSIC - Warren Seames
DESCRIPTION:Join us on Friday\, October 17\, from 6–9 PM for an evening of live music with Warren Seames on the stage at Forty Niner. \nBlending classic rock with a touch of country\, he’s ready to bring energy and soul to the evening. Come enjoy a fun\, intimate night of live music! \nThis is a free performance for all to enjoy. Blankets and lawn chairs are always welcome.
URL:https://fortyninercc.com/event/live-music-warren-seames/
LOCATION:Forty Niner\, 12000 E. Tanque Verde\, Tucson\, AZ\, 85749\, United States
CATEGORIES:Free Live Music
ATTACH;FMTTYPE=image/jpeg:https://fortyninercc.com/wp-content/uploads/2025/10/10.25.25_WarrenSeames.jpg
ORGANIZER;CN="Forty Niner":MAILTO:cklok@fortyninercc.com
END:VEVENT
END:VCALENDAR